{"text_format":"3","workbook":"xlsx","n_sheets":7,"sheets":["G U I D E","PRODUCT DATA","APPLICATION DATA - standard","PROGRAM ANALYSIS - standard","APPLICATION DATA - metric","PROGRAMME ANALYSIS - metric","APPLICATION DATA - metric NZ"],"not_rendered":{"images":3,"defined_names":888,"comments":6},"read":"whole","date_system":"1900"}

{"sheet":"G U I D E","index":0,"n_rows":51,"n_cols":14,"rows_kept":51,"merged":[[1,1,4,2],[2,10,2,11],[5,1,5,2],[11,4,12,4],[11,5,12,5],[11,6,12,6],[11,7,12,7],[11,8,12,8],[11,9,12,9],[14,4,15,4],[14,5,15,5],[14,6,15,6],[14,7,15,7],[14,8,15,8],[14,9,15,9],[19,3,19,5],[19,8,19,11],[23,1,26,2],[23,3,23,5],[23,6,23,7],[23,9,23,10],[27,3,27,5],[27,6,27,7],[27,9,27,10],[34,4,34,9],[41,4,41,11],[43,3,44,3],[45,3,46,3],[47,3,48,3],[49,3,50,3]]}
[null,"version #BRANDT-D2401-"]
[null,"The background color of the fields in column J on the PRODUCT DATA sheet is set automatically based on the value (Ph), using the scale below.",null,"•","The cells on each sheet are locked by default to protect the integrity of the workbook."]
[{"$nulls":3},"•","ONLY cells that are filled with light yellow are available to input data. Example >>"]
[{"$nulls":3},"•"," All other values are automatically calculated based on the variables in \"yellow\" cells on all worksheets"]
[{"$nulls":3},"•","The GRIGG® Proven Foliar™ & GreenSpec™ product data is fixed (except for the Price per gal or L)"]
[null,"Ph RANGE Scale",null,"•","There are Two (2) variable products for both Liquid & granular to allow for the addition of 3rd party products."]
[null,{"v":0,"d":"0.00"},"< Pure Acid","•","Product weight is a calculation based on the relative density to water (Specific Gravity)."]
[null,{"v":1,"d":"1.00"},null,"•","Metric conversions and other international integrations are highlighted in violet >>",{"$nulls":6},"or"]
[null,{"v":2,"d":"2.00"},null,"•","NO INFORMATION entered on this sheet will impact any other sheet; This is a calculator / information only page"]
[null,{"v":3,"d":"3.00"}]
[null,{"v":4,"d":"4.00"},null,null,"IF you need to reverse engineer a weight or SG use the calculator below:"]
[null,{"v":5,"d":"5.00"},null,null,"Specific Gravity","lbs per \n1.00 gal","lbs per \n2.50 gal","kg per 1.00 L","kg per    3.785306 L","kg per    10.00 L"]
[null,{"v":6,"d":"6.00"}]
[null,{"v":7,"d":"7.00"},null,null,{"$f":"(F14/E21)","v":{"v":0,"d":"0.0000"}},null,{"$f":"F14*2.5","v":{"v":0,"d":"0.000"}},{"$f":"F14*0.119826427","v":{"v":0,"d":"0.000"}},{"$f":"H14*$E29","v":{"v":0,"d":"0.000"}},{"$f":"H14*10","v":{"v":0,"d":"0.000"}}]
[null,{"v":8,"d":"8.00"},null,null,"Specific Gravity","lbs per \n1.00 gal","lbs per \n2.50 gal","kg per 1.00 L","kg per    3.785306 L","kg per    10.00 L"]
[null,{"v":9,"d":"9.00"}]
[null,{"v":10,"d":"10.00"},{"$nulls":3},{"$f":"(E17*E21)","v":{"v":0,"d":"0.0000"}},{"$f":"F17*2.5","v":{"v":0,"d":"0.000"}},{"$f":"F17*0.119826427","v":{"v":0,"d":"0.000"}},{"$f":"H17*$E29","v":{"v":0,"d":"0.000"}},{"$f":"H17*10","v":{"v":0,"d":"0.000"}}]
[null,{"v":11,"d":"11.00"}]
[null,{"v":12,"d":"12.00"},null,null,"GENERAL ASSUMPTIONS used throughout this workbook"]
[null,{"v":13,"d":"13.00"},null,"Weight of 1 US gal Water:",{"$nulls":4},"Specific Gravity (sg) of Water:"]
[null,{"v":14,"d":"14.00"},"< Pure Base",null,8.345404,"lbs",3.7854118,"kg",null,1]
[]
[]
[null,"If you select a nutrient TARGET, the Program combined nutrients will be compared to the input target. Use the KEY below for a symbol guide on the PROGRAM ANALYSIS sheet.",null,"One (1) US pound (lb) is:",null,null,"Conversion Calculator",null,null,"Conversion Calculator"]
[{"$nulls":4},0.453592,"kg","lb","kg",null,"lb","kg"]
[{"$nulls":7},{"$f":"G26*E25","v":0},null,{"$f":"K26/E25","v":0}]
[]
[null,"If actual is >= 95% of target",{"v":5,"d":"5.000"},"One (1) US gallon (gal) is:",null,null,"Conversion Calculator",null,null,"Conversion Calculator"]
[null,"If actual is >= 90% of target",{"v":4,"d":"4.000"},null,3.785306,"L","gal","L",null,"gal","L"]
[null,"If actual is >= 85% of target",{"v":3,"d":"3.000"},{"$nulls":4},{"$f":"G30*E29","v":0},null,{"$f":"K30/E29","v":0}]
[null,"If actual is >= 80% of target",{"v":2,"d":"2.000"}]
[null,"If actual is < 80% of target",{"v":1,"d":"1.000"},null,"1 ACRE is:",{"$nulls":4},"1,000 Square Feet (FT2) is:"]
[{"$nulls":4},{"v":43560,"d":"43,560.00"},"FT2",0.4046856,"Hectare",null,92.90304,"m2"]
[]
[{"$nulls":4},"Area Conversion Calculator"]
[{"$nulls":6},"Ft2","Acres","m2","Hectare"]
[{"$nulls":4}," FT² ",null,"***",{"$f":"F37/43560","v":{"v":0,"d":"0.000"}},{"$f":"F37*0.092903","v":{"v":0,"d":"0.000"}},{"$f":"(F37/43560)*0.4046856","v":{"v":0,"d":"0.000"}}]
[{"$nulls":4},"Acre ",null,{"$f":"F38*43560","v":{"v":0,"d":"0.000"}},"***",{"$f":"F38*4046.856","v":{"v":0,"d":"0.000"}},{"$f":"F38*0.4046856","v":{"v":0,"d":"0.000"}}]
[{"$nulls":4}," m2 ",null,{"$f":"F39*10.763911","v":{"v":0,"d":"0.000"}},{"$f":"F39/4046.856","v":{"v":0,"d":"0.000"}},"***",{"$f":"(F39/10000)","v":{"v":0,"d":"0.000"}}]
[{"$nulls":4},"Hectare ",null,{"$f":"F40*107639.11","v":{"v":0,"d":"0.000"}},{"$f":"F40*2.4710538","v":{"v":0,"d":"0.000"}},{"$f":"F40*10000","v":{"v":0,"d":"0.000"}},"***"]
[]
[{"$nulls":4},"Application Conversion Calculator"]
[{"$nulls":6},"fl.oz / 1,000 ft²","gal / Acre","lbs / 1,000 ft2","lbs / Acre","ml / m2","L / Hectare","g / m2","kg / Hectare"]
[{"$nulls":3},"Liquid }","fl.oz / 1,000 ft²",null,"***",{"$f":"F44*0.3403125","v":{"v":0,"d":"0.0000"}},"***","***",{"$f":"(F44*0.318326823)","v":{"v":0,"d":"0.0000"}},{"$f":"F44*3.18326823","v":{"v":0,"d":"0.0000"}},"***","***"]
[{"$nulls":4},"gal / Acre",null,{"$f":"F45*2.93847567","v":{"v":0,"d":"0.0000"}},"***","***","***",{"$f":"F45*0.935395623","v":{"v":0,"d":"0.0000"}},{"$f":"F45* 9.35395623","v":{"v":0,"d":"0.0000"}},"***","***"]
[{"$nulls":3},"granular }","lbs / 1,000 ft2",null,"***","***","***",{"$f":"F46*43.56","v":{"v":0,"d":"0.0000"}},"***","***",{"$f":"F46*4.88242764","v":{"v":0,"d":"0.0000"}},{"$f":"F46*48.8242764","v":{"v":0,"d":"0.0000"}}]
[{"$nulls":4},"lbs / Acre",null,"***","***",{"$f":"F47*0.0229568411","v":{"v":0,"d":"0.0000"}},"***","***","***",{"$f":"F47*0.112085116","v":{"v":0,"d":"0.0000"}},{"$f":"F47*1.12085116","v":{"v":0,"d":"0.0000"}}]
[{"$nulls":3},"Liquid }","ml / m2",null,{"$f":"F48/0.318326823","v":{"v":0,"d":"0.0000"}},{"$f":"F48/0.935395623","v":{"v":0,"d":"0.0000"}},"***","***","***",{"$f":"F48*10","v":{"v":0,"d":"0.0000"}},"***","***"]
[{"$nulls":4},"L / Hectare",null,{"$f":"F49/3.18326823","v":{"v":0,"d":"0.0000"}},{"$f":"F49/9.35395623","v":{"v":0,"d":"0.0000"}},"***","***",{"$f":"F49*0.1","v":{"v":0,"d":"0.0000"}},"***","***","***"]
[{"$nulls":3},"granular }","g / m2",null,"***","***",{"$f":"F50/4.88242764","v":{"v":0,"d":"0.0000"}},{"$f":"F50/0.112085116","v":{"v":0,"d":"0.0000"}},"***","***","***",{"$f":"F50*10","v":{"v":0,"d":"0.0000"}}]
[{"$nulls":4},"kg / Hectare",null,"***","***",{"$f":"F51/48.8242764","v":{"v":0,"d":"0.0000"}},{"$f":"F51/1.12085116","v":{"v":0,"d":"0.0000"}},"***","***",{"$f":"F51*0.1","v":{"v":0,"d":"0.0000"}},"***"]

{"sheet":"PRODUCT DATA","index":1,"n_rows":74,"n_cols":29,"rows_kept":74,"merged":[[0,11,0,27]]}
[null,{"$f":"VERSION","v":"version #BRANDT-D2401-"},null,"Global Discount:",{"v":1,"d":"100%"},"% of MSRP",{"$nulls":5},"NUTRIENT CONTENT / PERCENT of VOLUME"]
["order","FID#","BRANDT® LIQUIDS","MSRP per gal or L","Specific Gravity","lbs per \n1.00 gal","lbs per \n2.50 gal jug","kg per     1.00 L","kg per     3.785306 L","kg per     10.00 L","pH","Total       N","P2O5","Elemental P","K2O","Elemental K","Ca","Mg","S","Fe","Mn","Zn","Cu","B","Si","Mo","Co","HPO3","ElementalP"]
[1,"28018","BRANDT Foli-Cal ",null,{"v":1.46,"d":"1.460"},{"$f":"E3*8.345404","v":{"v":12.18428984,"d":"12.184"}},{"$f":"F3*2.5","v":{"v":30.4607246,"d":"30.461"}},{"$f":"(F3*0.119826427)","v":{"v":1.4599999170596016,"d":"1.460"}},{"$f":"H3*3.785306","v":{"v":5.526546446045212,"d":"5.527"}},{"$f":"H3*10","v":{"v":14.599999170596016,"d":"14.600"}},null,{"v":0.05,"d":"5.000%"},{"v":0,"d":"0.000%"},{"$f":"M3*0.43642","v":{"v":0,"d":"0.000%"}},{"v":0,"d":"0.000%"},{"$f":"O3*0.83015","v":{"v":0,"d":"0.000%"}},{"v":0.1,"d":"10.000%"},{"v":0,"d":"0.000%"},{"v":0,"d":"0.000%"},{"v":0,"d":"0.000%"},{"v":0,"d":"0.000%"},{"v":0,"d":"0.000%"},{"v":0,"d":"0.000%"},{"v":0,"d":"0.000%"},{"v":0,"d":"0.000%"},{"v":0,"d":"0.000%"},{"v":0,"d":"0.000%"},{"v":0,"d":"0.000%"},{"$f":"AB3*0.37775","v":{"v":0,"d":"0.000%"}}]
[2,"28117","BRANDT Manni-Plex Cal-Mag",null,{"v":1.41,"d":"1.410"},{"v":11.76701964,"d":"11.767"},{"$f":"F4*2.5","v":{"v":29.4175491,"d":"29.418"}},{"$f":"(F4*0.119826427)","v":{"v":1.4099999199000262,"d":"1.410"}},{"$f":"H4*3.785306","v":{"v":5.337281156797088,"d":"5.337"}},{"$f":"H4*10","v":{"v":14.099999199000262,"d":"14.100"}},null,{"v":0.07,"d":"7.000%"},{"v":0,"d":"0.000%"},{"v":0,"d":"0.000%"},{"v":0,"d":"0.000%"},{"v":0,"d":"0.000%"},{"v":0.053,"d":"5.300%"},{"v":0.026,"d":"2.600%"},{"v":0,"d":"0.000%"},{"v":0,"d":"0.000%"},{"v":0,"d":"0.000%"},{"v":0,"d":"0.000%"},{"v":0,"d":"0.000%"},{"v":0,"d":"0.000%"},{"v":0,"d":"0.000%"},{"v":0,"d":"0.000%"},{"v":0,"d":"0.000%"},{"v":0,"d":"0.000%"},{"v":0,"d":"0.000%"}]
[3,"28126","BRANDT Manni-Plex Eagle ",null,{"v":1.31,"d":"1.310"},{"v":10.932479240000001,"d":"10.932"},{"$f":"F5*2.5","v":{"v":27.3311981,"d":"27.331"}},{"v":1.3099999255808756,"d":"1.310"},{"v":4.958750578300842,"d":"4.959"},{"v":13.099999255808756,"d":"13.100"},null,{"v":0.07,"d":"7.000%"},{"v":0,"d":"0.000%"},{"v":0,"d":"0.000%"},{"v":0.14,"d":"14.000%"},{"v":0.11622100000000002,"d":"11.622%"},{"v":0,"d":"0.000%"},{"v":0,"d":"0.000%"},{"v":0,"d":"0.000%"},{"v":0.005,"d":"0.500%"},{"v":0.0025,"d":"0.250%"},{"v":0,"d":"0.000%"},{"v":0,"d":"0.000%"},{"v":0,"d":"0.000%"},{"v":0,"d":"0.000%"},{"v":0,"d":"0.000%"},{"v":0,"d":"0.000%"},{"v":0,"d":"0.000%"},{"v":0,"d":"0.000%"}]
[4,"28127","BRANDT Manni-Plex Fe ",null,{"v":1.23,"d":"1.230"},{"v":10.26484692,"d":"10.265"},{"$f":"F6*2.5","v":{"v":25.6621173,"d":"25.662"}},{"v":1.2299999301255549,"d":"1.230"},{"v":4.655926115503843,"d":"4.656"},{"v":12.299999301255548,"d":"12.300"},null,{"v":0.05,"d":"5.000%"},{"v":0,"d":"0.000%"},{"v":0,"d":"0.000%"},{"v":0,"d":"0.000%"},{"v":0,"d":"0.000%"},{"v":0,"d":"0.000%"},{"v":0,"d":"0.000%"},{"v":0,"d":"0.000%"},{"v":0.05,"d":"5.000%"},{"v":0,"d":"0.000%"},{"v":0,"d":"0.000%"},{"v":0,"d":"0.000%"},{"v":0,"d":"0.000%"},{"v":0,"d":"0.000%"},{"v":0,"d":"0.000%"},{"v":0,"d":"0.000%"},{"v":0,"d":"0.000%"},{"v":0,"d":"0.000%"}]
[5,"28135","BRANDT Manni-Plex Grow",null,{"v":1.22,"d":"1.220"},{"v":10.18139288,"d":"10.181"},{"v":25.453482200000003,"d":"25.453"},{"v":1.2199999306936398,"d":"1.220"},{"v":4.618073057654218,"d":"4.618"},{"v":12.199999306936398,"d":"12.200"},null,{"v":0.12,"d":"12.000%"},{"v":0,"d":"0.000%"},{"v":0,"d":"0.000%"},{"v":0.06,"d":"6.000%"},{"v":0.049809,"d":"4.981%"},{"v":0,"d":"0.000%"},{"v":0,"d":"0.000%"},{"v":0,"d":"0.000%"},{"v":0.005,"d":"0.500%"},{"v":0.0025,"d":"0.250%"},{"v":0,"d":"0.000%"},{"v":0.0025,"d":"0.250%"},{"v":0,"d":"0.000%"},{"v":0,"d":"0.000%"},{"v":0,"d":"0.000%"},{"v":0,"d":"0.000%"},{"v":0,"d":"0.000%"},{"v":0,"d":"0.000%"}]
[6,"28136","BRANDT Manni-Plex K ",null,{"v":2.15,"d":"2.150"},{"v":17.9426186,"d":"17.943"},{"v":44.8565465,"d":"44.857"},{"v":2.149999877861742,"d":"2.150"},{"v":8.13840743766932,"d":"8.138"},{"v":21.49999877861742,"d":"21.500"},null,{"v":0,"d":"0.000%"},{"v":0,"d":"0.000%"},{"v":0,"d":"0.000%"},{"v":0.2,"d":"20.000%"},{"v":0.16603,"d":"16.603%"},{"v":0,"d":"0.000%"},{"v":0,"d":"0.000%"},{"v":0,"d":"0.000%"},{"v":0.05,"d":"5.000%"},{"v":0,"d":"0.000%"},{"v":0,"d":"0.000%"},{"v":0,"d":"0.000%"},{"v":0,"d":"0.000%"},{"v":0,"d":"0.000%"},{"v":0,"d":"0.000%"},{"v":0,"d":"0.000%"},{"v":0,"d":"0.000%"},{"v":0,"d":"0.000%"}]
[7,"28128","BRANDT Manni-Plex Mg ",null,{"v":1.29,"d":"1.290"},{"v":10.76557116,"d":"10.766"},{"v":26.9139279,"d":"26.914"},{"v":1.2899999267170454,"d":"1.290"},{"v":4.8830444626015925,"d":"4.883"},{"v":12.899999267170454,"d":"12.900"},null,{"v":0.05,"d":"5.000%"},{"v":0,"d":"0.000%"},{"v":0,"d":"0.000%"},{"v":0,"d":"0.000%"},{"v":0,"d":"0.000%"},{"v":0,"d":"0.000%"},{"v":0.04,"d":"4.000%"},{"v":0,"d":"0.000%"},{"v":0,"d":"0.000%"},{"v":0,"d":"0.000%"},{"v":0,"d":"0.000%"},{"v":0,"d":"0.000%"},{"v":0,"d":"0.000%"},{"v":0,"d":"0.000%"},{"v":0,"d":"0.000%"},{"v":0,"d":"0.000%"},{"v":0,"d":"0.000%"},{"v":0,"d":"0.000%"}]
[8,"28118","BRANDT Manni-Plex Mn ",null,{"v":1.36,"d":"1.360"},{"v":11.349749440000002,"d":"11.350"},{"v":28.374373600000006,"d":"28.374"},{"v":1.3599999227404511,"d":"1.360"},{"v":5.148015867548966,"d":"5.148"},{"v":13.599999227404512,"d":"13.600"},null,{"v":0.07,"d":"7.000%"},{"v":0,"d":"0.000%"},{"v":0,"d":"0.000%"},{"v":0,"d":"0.000%"},{"v":0,"d":"0.000%"},{"v":0,"d":"0.000%"},{"v":0,"d":"0.000%"},{"v":0,"d":"0.000%"},{"v":0,"d":"0.000%"},{"v":0.05,"d":"5.000%"},{"v":0,"d":"0.000%"},{"v":0,"d":"0.000%"},{"v":0,"d":"0.000%"},{"v":0,"d":"0.000%"},{"v":0,"d":"0.000%"},{"v":0,"d":"0.000%"},{"v":0,"d":"0.000%"},{"v":0,"d":"0.000%"}]
[9,"28124","BRANDT Manni-Plex Root Builder",null,{"v":1.23,"d":"1.230"},{"v":10.26484692,"d":"10.265"},{"v":25.6621173,"d":"25.662"},{"v":1.2299999301255549,"d":"1.230"},{"v":4.655926115503843,"d":"4.656"},{"v":12.299999301255548,"d":"12.300"},null,{"v":0.03,"d":"3.000%"},{"v":0,"d":"0.000%"},{"v":0,"d":"0.000%"},{"v":0,"d":"0.000%"},{"v":0,"d":"0.000%"},{"v":0,"d":"0.000%"},{"v":0.005,"d":"0.500%"},{"v":0,"d":"0.000%"},{"v":0,"d":"0.000%"},{"v":0.009,"d":"0.900%"},{"v":0.047,"d":"4.700%"},{"v":0.0005,"d":"0.050%"},{"v":2E-3,"d":"0.200%"},{"v":0,"d":"0.000%"},{"v":0,"d":"0.000%"},{"v":0,"d":"0.000%"},{"v":0,"d":"0.000%"},{"v":0,"d":"0.000%"}]
[10,"28179","BRANDT Manni-Plex Si ",null,{"v":1.18,"d":"1.180"},{"v":9.84757672,"d":"9.848"},{"$f":"F12*2.5","v":{"v":24.618941799999998,"d":"24.619"}},{"v":1.1799999329659794,"d":"1.180"},{"v":4.466660826255719,"d":"4.467"},{"v":11.799999329659794,"d":"11.800"},null,{"v":0,"d":"0.000%"},{"v":0,"d":"0.000%"},{"v":0,"d":"0.000%"},{"v":0,"d":"0.000%"},{"v":0,"d":"0.000%"},{"v":0,"d":"0.000%"},{"v":0,"d":"0.000%"},{"v":0,"d":"0.000%"},{"v":0.01,"d":"1.000%"},{"v":0,"d":"0.000%"},{"v":0,"d":"0.000%"},{"v":0,"d":"0.000%"},{"v":0,"d":"0.000%"},{"v":0.1,"d":"10.000%"},{"v":0,"d":"0.000%"},{"v":0,"d":"0.000%"},{"v":0,"d":"0.000%"},{"v":0,"d":"0.000%"}]
[11,"28129","BRANDT Manni-Plex Total Turf ",null,{"v":1.49,"d":"1.490"},{"v":12.43465196,"d":"12.435"},{"v":31.0866299,"d":"31.087"},{"v":1.489999915355347,"d":"1.490"},{"v":5.640105619594086,"d":"5.640"},{"v":14.89999915355347,"d":"14.900"},null,{"v":0.05,"d":"5.000%"},{"v":0,"d":"0.000%"},{"v":0,"d":"0.000%"},{"v":0,"d":"0.000%"},{"v":0,"d":"0.000%"},{"v":0,"d":"0.000%"},{"v":0.012,"d":"1.200%"},{"v":0,"d":"0.000%"},{"v":0.0285,"d":"2.850%"},{"v":0.0045,"d":"0.450%"},{"v":0.0065,"d":"0.650%"},{"v":0,"d":"0.000%"},{"v":0,"d":"0.000%"},{"v":0,"d":"0.000%"},{"v":0,"d":"0.000%"},{"v":0,"d":"0.000%"},{"v":0,"d":"0.000%"},{"v":0,"d":"0.000%"}]
[12,"25139","BRANDT Manni-Plex Traffic",null,{"v":1.11,"d":"1.110"},{"v":9.263398440000001,"d":"9.263"},{"v":23.158496100000004,"d":"23.158"},{"v":1.109999936942574,"d":"1.110"},{"v":4.201689421308346,"d":"4.202"},{"v":11.099999369425738,"d":"11.100"},null,{"v":0,"d":"0.000%"},{"v":0,"d":"0.000%"},{"v":0,"d":"0.000%"},{"v":0.06,"d":"6.000%"},{"v":0.049809,"d":"4.981%"},{"v":0,"d":"0.000%"},{"v":0,"d":"0.000%"},{"v":0,"d":"0.000%"},{"v":0,"d":"0.000%"},{"v":0,"d":"0.000%"},{"v":0,"d":"0.000%"},{"v":0,"d":"0.000%"},{"v":0,"d":"0.000%"},{"v":0,"d":"0.000%"},{"v":0,"d":"0.000%"},{"v":0,"d":"0.000%"},{"v":0,"d":"0.000%"},{"v":0,"d":"0.000%"}]
[13,"28130","BRANDT Manni-Plex Ultra Turf ",null,{"v":1.2,"d":"1.200"},{"v":10.0144848,"d":"10.014"},{"v":25.036212,"d":"25.036"},{"v":1.1999999318298096,"d":"1.200"},{"v":4.542366941954969,"d":"4.542"},{"v":11.999999318298096,"d":"12.000"},null,{"v":0.04,"d":"4.000%"},{"v":0,"d":"0.000%"},{"v":0,"d":"0.000%"},{"v":0.02,"d":"2.000%"},{"v":0.016603,"d":"1.660%"},{"v":0,"d":"0.000%"},{"v":0.005,"d":"0.500%"},{"v":0,"d":"0.000%"},{"v":0.02,"d":"2.000%"},{"v":0.005,"d":"0.500%"},{"v":0,"d":"0.000%"},{"v":0.005,"d":"0.500%"},{"v":0.0025,"d":"0.250%"},{"v":0,"d":"0.000%"},{"v":0.0025,"d":"0.250%"},{"v":0,"d":"0.000%"},{"v":0,"d":"0.000%"},{"v":0,"d":"0.000%"}]
[14,"28148","BRANDT Manni-Plex Ni 5%",null,{"v":1.23,"d":"1.230"},{"v":10.26484692,"d":"10.265"},{"v":25.6621173,"d":"25.662"},{"v":1.2299999301255549,"d":"1.230"},{"v":4.655926115503843,"d":"4.656"},{"v":12.299999301255548,"d":"12.300"},null,{"v":0.07,"d":"7.000%"},{"v":0,"d":"0.000%"},{"v":0,"d":"0.000%"},{"v":0,"d":"0.000%"},{"v":0,"d":"0.000%"},{"v":0,"d":"0.000%"},{"v":0,"d":"0.000%"},{"v":0,"d":"0.000%"},{"v":0,"d":"0.000%"},{"v":0,"d":"0.000%"},{"v":0,"d":"0.000%"},{"v":0,"d":"0.000%"},{"v":0,"d":"0.000%"},{"v":0,"d":"0.000%"},{"v":0,"d":"0.000%"},{"v":0,"d":"0.000%"},{"v":0,"d":"0.000%"},{"v":0,"d":"0.000%"}]
[15,"28119","BRANDT Manni-Plex Zn ",null,{"v":1.57,"d":"1.570"},{"v":13.102284280000001,"d":"13.102"},{"v":32.7557107,"d":"32.756"},{"v":1.5699999108106677,"d":"1.570"},{"v":5.942930082391085,"d":"5.943"},{"v":15.699999108106677,"d":"15.700"},null,{"v":0.03,"d":"3.000%"},{"v":0,"d":"0.000%"},{"v":0,"d":"0.000%"},{"v":0,"d":"0.000%"},{"v":0,"d":"0.000%"},{"v":0,"d":"0.000%"},{"v":0,"d":"0.000%"},{"v":0,"d":"0.000%"},{"v":0.07,"d":"7.000%"},{"v":0,"d":"0.000%"},{"v":0,"d":"0.000%"},{"v":0,"d":"0.000%"},{"v":0,"d":"0.000%"},{"v":0,"d":"0.000%"},{"v":0,"d":"0.000%"},{"v":0,"d":"0.000%"},{"v":0,"d":"0.000%"},{"v":0,"d":"0.000%"}]
[16,"25019","BRANDT Organiplex 8% Ca ",null,{"v":1.19,"d":"1.190"},{"v":9.93103076,"d":"9.931"},{"v":24.8275769,"d":"24.828"},{"v":1.1899999323978945,"d":"1.190"},{"v":4.504513884105344,"d":"4.505"},{"v":11.899999323978944,"d":"11.900"},null,{"v":0,"d":"0.000%"},{"v":0,"d":"0.000%"},{"v":0,"d":"0.000%"},{"v":0,"d":"0.000%"},{"v":0,"d":"0.000%"},{"v":0.08,"d":"8.000%"},{"v":0,"d":"0.000%"},{"v":0,"d":"0.000%"},{"v":0,"d":"0.000%"},{"v":0,"d":"0.000%"},{"v":0,"d":"0.000%"},{"v":0,"d":"0.000%"},{"v":0,"d":"0.000%"},{"v":0,"d":"0.000%"},{"v":0,"d":"0.000%"},{"v":0,"d":"0.000%"},{"v":0,"d":"0.000%"},{"v":0,"d":"0.000%"}]
[17,"25026","BRANDT Organiplex MicroMix ",null,1.258,{"v":10.498518232,"d":"10.499"},{"v":26.24629558,"d":"26.246"},{"v":1.257999928534917,"d":"1.258"},{"v":4.7619146774827925,"d":"4.762"},{"v":12.579999285349171,"d":"12.580"},null,{"v":0,"d":"0.000%"},{"v":0,"d":"0.000%"},{"v":0,"d":"0.000%"},{"v":0,"d":"0.000%"},{"v":0,"d":"0.000%"},{"v":0,"d":"0.000%"},{"v":0,"d":"0.000%"},{"v":0,"d":"0.000%"},{"v":0.02,"d":"2.000%"},{"v":0.02,"d":"2.000%"},{"v":0.02,"d":"2.000%"},{"v":0,"d":"0.000%"},{"v":0,"d":"0.000%"},{"v":0,"d":"0.000%"},{"v":0,"d":"0.000%"},{"v":0,"d":"0.000%"},{"v":0,"d":"0.000%"},{"v":0,"d":"0.000%"}]
[18,"25023","BRANDT Organiplex 4% Fe ",null,1.205,{"v":10.056211820000001,"d":"10.056"},{"v":25.140529550000004,"d":"25.141"},{"v":1.2049999315457673,"d":"1.205"},{"v":4.561293470879782,"d":"4.561"},{"v":12.049999315457674,"d":"12.050"},null,{"v":0,"d":"0.000%"},{"v":0,"d":"0.000%"},{"v":0,"d":"0.000%"},{"v":0,"d":"0.000%"},{"v":0,"d":"0.000%"},{"v":0,"d":"0.000%"},{"v":0,"d":"0.000%"},{"v":0,"d":"0.000%"},{"v":0.04,"d":"4.000%"},{"v":0,"d":"0.000%"},{"v":0,"d":"0.000%"},{"v":0,"d":"0.000%"},{"v":0,"d":"0.000%"},{"v":0,"d":"0.000%"},{"v":0,"d":"0.000%"},{"v":0,"d":"0.000%"},{"v":0,"d":"0.000%"},{"v":0,"d":"0.000%"}]
[19,"25024","BRANDT Organiplex 4% Mn ",null,1.223,{"v":10.206429092,"d":"10.206"},{"v":25.51607273,"d":"25.516"},{"v":1.2229999305232144,"d":"1.223"},{"v":4.629428975009106,"d":"4.629"},{"v":12.229999305232145,"d":"12.230"},null,{"v":0,"d":"0.000%"},{"v":0,"d":"0.000%"},{"v":0,"d":"0.000%"},{"v":0,"d":"0.000%"},{"v":0,"d":"0.000%"},{"v":0,"d":"0.000%"},{"v":0,"d":"0.000%"},{"v":0,"d":"0.000%"},{"v":0,"d":"0.000%"},{"v":0.04,"d":"4.000%"},{"v":0,"d":"0.000%"},{"v":0,"d":"0.000%"},{"v":0.0025,"d":"0.250%"},{"v":0,"d":"0.000%"},{"v":0,"d":"0.000%"},{"v":0,"d":"0.000%"},{"v":0,"d":"0.000%"},{"v":0,"d":"0.000%"}]
[20,"32173","BRANDT Converge SRN 18-0-6",null,{"v":1.28,"d":"1.280"},{"v":10.682117120000001,"d":"10.682"},{"$f":"F22*2.5","v":{"v":26.705292800000002,"d":"26.705"}},{"v":1.2799999272851303,"d":"1.280"},{"v":4.845191404751968,"d":"4.845"},{"v":12.799999272851304,"d":"12.800"},null,{"v":0.18,"d":"18.000%"},{"v":0,"d":"0.000%"},{"v":0,"d":"0.000%"},{"v":0.06,"d":"6.000%"},{"v":0.049809,"d":"4.981%"},{"v":0,"d":"0.000%"},{"v":0,"d":"0.000%"},{"v":0,"d":"0.000%"},{"v":1E-3,"d":"0.100%"},{"v":0.0005,"d":"0.050%"},{"v":0.0005,"d":"0.050%"},{"v":0.0005,"d":"0.050%"},{"v":0,"d":"0.000%"},{"v":0,"d":"0.000%"},{"v":0,"d":"0.000%"},{"v":0,"d":"0.000%"},{"v":0,"d":"0.000%"},{"v":0,"d":"0.000%"}]
[21,"32057","BRANDT Converge SRN 18-3-6",null,{"v":1.25,"d":"1.250"},{"v":10.431755,"d":"10.432"},{"v":26.079387500000003,"d":"26.079"},{"v":1.249999928989385,"d":"1.250"},{"v":4.731632231203093,"d":"4.732"},{"v":12.49999928989385,"d":"12.500"},null,{"v":0.18,"d":"18.000%"},{"v":0.03,"d":"3.000%"},{"v":0.0130926,"d":"1.309%"},{"v":0.06,"d":"6.000%"},{"v":0.049809,"d":"4.981%"},{"v":0,"d":"0.000%"},{"v":0,"d":"0.000%"},{"v":0,"d":"0.000%"},{"v":1E-3,"d":"0.100%"},{"v":0.0005,"d":"0.050%"},{"v":0.0005,"d":"0.050%"},{"v":0.0005,"d":"0.050%"},{"v":0,"d":"0.000%"},{"v":0,"d":"0.000%"},{"v":0,"d":"0.000%"},{"v":0,"d":"0.000%"},{"v":0,"d":"0.000%"},{"v":0,"d":"0.000%"}]
[22,"32056","BRANDT Converge SRN 30-0-0",null,1.238,{"v":10.331610152,"d":"10.332"},{"$f":"F24*2.5","v":{"v":25.829025379999997,"d":"25.829"}},{"v":1.2379999296710869,"d":"1.238"},{"v":4.686208561783543,"d":"4.686"},{"v":12.379999296710869,"d":"12.380"},null,{"v":0.3,"d":"30.000%"},{"v":0,"d":"0.000%"},{"v":0,"d":"0.000%"},{"v":0,"d":"0.000%"},{"v":0,"d":"0.000%"},{"v":0,"d":"0.000%"},{"v":0,"d":"0.000%"},{"v":0,"d":"0.000%"},{"v":0,"d":"0.000%"},{"v":0,"d":"0.000%"},{"v":0,"d":"0.000%"},{"v":0,"d":"0.000%"},{"v":0,"d":"0.000%"},{"v":0,"d":"0.000%"},{"v":0,"d":"0.000%"},{"v":0,"d":"0.000%"},{"v":0,"d":"0.000%"},{"v":0,"d":"0.000%"}]
[23,"32202","BRANDT MKS",null,{"v":1.17,"d":"1.170"},{"v":9.76412268,"d":"9.764"},{"$f":"F25*2.5","v":{"v":24.4103067,"d":"24.410"}},{"v":1.1699999335340643,"d":"1.170"},{"v":4.428807768406094,"d":"4.429"},{"v":11.699999335340642,"d":"11.700"},null,{"v":0,"d":"0.000%"},{"v":0,"d":"0.000%"},{"v":0,"d":"0.000%"},{"v":0.04,"d":"4.000%"},{"v":0.033206,"d":"3.321%"},{"v":0,"d":"0.000%"},{"v":0.021,"d":"2.100%"},{"v":0.032,"d":"3.200%"},{"v":0,"d":"0.000%"},{"v":0,"d":"0.000%"},{"v":0,"d":"0.000%"},{"v":0,"d":"0.000%"},{"v":0,"d":"0.000%"},{"v":0,"d":"0.000%"},{"v":0,"d":"0.000%"},{"v":0,"d":"0.000%"},{"v":0,"d":"0.000%"},{"v":0,"d":"0.000%"}]
[24,"32055","BRANDT Parco-Root XL",null,{"v":1.29,"d":"1.290"},{"v":10.76557116,"d":"10.766"},{"$f":"F26*2.5","v":{"v":26.9139279,"d":"26.914"}},{"v":1.2899999267170454,"d":"1.290"},{"v":4.8830444626015925,"d":"4.883"},{"v":12.899999267170454,"d":"12.900"},null,{"v":0,"d":"0.000%"},{"v":0,"d":"0.000%"},{"v":0,"d":"0.000%"},{"v":0,"d":"0.000%"},{"v":0,"d":"0.000%"},{"v":0,"d":"0.000%"},{"v":0.015,"d":"1.500%"},{"v":0.04,"d":"4.000%"},{"v":0.035,"d":"3.500%"},{"v":0.0075,"d":"0.750%"},{"v":0.0075,"d":"0.750%"},{"v":0,"d":"0.000%"},{"v":0.0016,"d":"0.160%"},{"v":0,"d":"0.000%"},{"v":3e-05,"d":"0.003%"},{"v":0,"d":"0.000%"},{"v":0,"d":"0.000%"},{"v":0,"d":"0.000%"}]
[25,"32061","BRANDT Plant Start",null,{"v":1.43,"d":"1.430"},{"v":11.93392772,"d":"11.934"},{"$f":"F27*2.5","v":{"v":29.8348193,"d":"29.835"}},{"v":1.4299999187638563,"d":"1.430"},{"v":5.412987272496338,"d":"5.413"},{"v":14.299999187638564,"d":"14.300"},null,{"v":0.08,"d":"8.000%"},{"v":0.27,"d":"27.000%"},{"v":0.1178334,"d":"11.783%"},{"v":0.02,"d":"2.000%"},{"v":0.016603,"d":"1.660%"},{"v":0,"d":"0.000%"},{"v":0,"d":"0.000%"},{"v":0,"d":"0.000%"},{"v":0,"d":"0.000%"},{"v":0,"d":"0.000%"},{"v":0,"d":"0.000%"},{"v":0,"d":"0.000%"},{"v":0,"d":"0.000%"},{"v":0,"d":"0.000%"},{"v":1e-05,"d":"0.001%"},{"v":0,"d":"0.000%"},{"v":0,"d":"0.000%"},{"v":0,"d":"0.000%"}]
[26,"49010","N-Boost ",null,{"v":1.01,"d":"1.010"},{"v":8.42885804,"d":"8.429"},{"v":21.0721451,"d":"21.072"},{"v":1.009999942623423,"d":"1.010"},{"v":3.8231588428120986,"d":"3.823"},{"v":10.09999942623423,"d":"10.100"},null,{"v":0,"d":"0.000%"},{"v":0,"d":"0.000%"},{"v":0,"d":"0.000%"},{"v":0,"d":"0.000%"},{"v":0,"d":"0.000%"},{"v":0,"d":"0.000%"},{"v":0,"d":"0.000%"},{"v":0,"d":"0.000%"},{"v":0,"d":"0.000%"},{"v":0,"d":"0.000%"},{"v":0,"d":"0.000%"},{"v":0,"d":"0.000%"},{"v":0,"d":"0.000%"},{"v":0,"d":"0.000%"},{"v":0,"d":"0.000%"},{"v":0,"d":"0.000%"},{"v":0,"d":"0.000%"},{"v":0,"d":"0.000%"}]
[27,"32210","BRANDT Liqui-Phi ",null,{"v":1.58,"d":"1.580"},{"v":13.18573832,"d":"13.186"},{"v":32.964345800000004,"d":"32.964"},{"v":1.5799999102425828,"d":"1.580"},{"v":5.9807831402407095,"d":"5.981"},{"v":15.799999102425828,"d":"15.800"},null,{"v":0,"d":"0.000%"},{"v":0,"d":"0.000%"},{"$f":"M29*0.43642","v":{"v":0,"d":"0.000%"}},{"v":0.25,"d":"25.000%"},{"$f":"O29*0.83015","v":{"v":0.2075375,"d":"20.754%"}},{"v":0,"d":"0.000%"},{"v":0,"d":"0.000%"},{"v":0,"d":"0.000%"},{"v":0,"d":"0.000%"},{"v":0,"d":"0.000%"},{"v":0,"d":"0.000%"},{"v":0,"d":"0.000%"},{"v":0,"d":"0.000%"},{"v":0,"d":"0.000%"},{"v":0,"d":"0.000%"},{"v":0,"d":"0.000%"},{"v":0,"d":"0.000%"},{"$f":"AB29*0.37775","v":{"v":0,"d":"0.000%"}}]
[28,"32209","BRANDT Mega-Phi ",null,{"v":1.58,"d":"1.580"},{"v":13.18573832,"d":"13.186"},{"v":32.964345800000004,"d":"32.964"},{"v":1.5799999102425828,"d":"1.580"},{"v":5.9807831402407095,"d":"5.981"},{"v":15.799999102425828,"d":"15.800"},null,{"v":0.02,"d":"2.000%"},{"v":0,"d":"0.000%"},{"v":0,"d":"0.000%"},{"v":0.16,"d":"16.000%"},{"v":0.132824,"d":"13.282%"},{"v":0,"d":"0.000%"},{"v":0,"d":"0.000%"},{"v":0,"d":"0.000%"},{"v":0,"d":"0.000%"},{"v":0,"d":"0.000%"},{"v":0,"d":"0.000%"},{"v":0,"d":"0.000%"},{"v":0,"d":"0.000%"},{"v":0,"d":"0.000%"},{"v":0,"d":"0.000%"},{"v":0,"d":"0.000%"},{"v":0,"d":"0.000%"},{"$f":"AB30*0.37775","v":{"v":0,"d":"0.000%"}}]
[29,"32174","BRANDT 20-K ",null,{"v":1.24,"d":"1.240"},{"v":10.34830096,"d":"10.348"},{"v":25.8707524,"d":"25.871"},{"v":1.23999992955747,"d":"1.240"},{"v":4.693779173353469,"d":"4.694"},{"v":12.3999992955747,"d":"12.400"},null,{"v":0.02,"d":"2.000%"},{"v":0,"d":"0.000%"},{"v":0,"d":"0.000%"},{"v":0.2,"d":"20.000%"},{"v":0.16603,"d":"16.603%"},{"v":0,"d":"0.000%"},{"v":0,"d":"0.000%"},{"v":0,"d":"0.000%"},{"v":0,"d":"0.000%"},{"v":0,"d":"0.000%"},{"v":0,"d":"0.000%"},{"v":0,"d":"0.000%"},{"v":0,"d":"0.000%"},{"v":0,"d":"0.000%"},{"v":0,"d":"0.000%"},{"v":0,"d":"0.000%"},{"v":0,"d":"0.000%"},{"v":0,"d":"0.000%"}]
[30,"32003","BRANDT 30-K ",null,{"v":2.29,"d":"2.290"},{"v":19.110975160000002,"d":"19.111"},{"v":47.77743790000001,"d":"47.777"},{"v":2.2899998699085535,"d":"2.290"},{"v":8.668350247564067,"d":"8.668"},{"v":22.899998699085536,"d":"22.900"},null,{"v":0,"d":"0.000%"},{"v":0,"d":"0.000%"},{"v":0,"d":"0.000%"},{"v":0.3,"d":"30.000%"},{"v":0.24904500000000002,"d":"24.905%"},{"v":0,"d":"0.000%"},{"v":0,"d":"0.000%"},{"v":0,"d":"0.000%"},{"v":0,"d":"0.000%"},{"v":0,"d":"0.000%"},{"v":0,"d":"0.000%"},{"v":0,"d":"0.000%"},{"v":0,"d":"0.000%"},{"v":0,"d":"0.000%"},{"v":0,"d":"0.000%"},{"v":0,"d":"0.000%"},{"v":0,"d":"0.000%"},{"v":0,"d":"0.000%"}]
[31,"20001","BRANDT Flash Dance",null,{"v":1.26,"d":"1.260"},{"v":10.51520904,"d":"10.515"},{"v":26.2880226,"d":"26.288"},{"v":1.2599999284213002,"d":"1.260"},{"v":4.769485289052718,"d":"4.769"},{"v":12.599999284213002,"d":"12.600"},null,{"v":0.01,"d":"1.000%"},{"v":0,"d":"0.000%"},{"v":0,"d":"0.000%"},{"v":0,"d":"0.000%"},{"v":0,"d":"0.000%"},{"v":0,"d":"0.000%"},{"v":0,"d":"0.000%"},{"v":0,"d":"0.000%"},{"v":0.05,"d":"5.000%"},{"v":0,"d":"0.000%"},{"v":0,"d":"0.000%"},{"v":0,"d":"0.000%"},{"v":0,"d":"0.000%"},{"v":0,"d":"0.000%"},{"v":0,"d":"0.000%"},{"v":0,"d":"0.000%"},{"v":0,"d":"0.000%"},{"v":0,"d":"0.000%"}]
[32,"20011","BRANDT Supreme Green ",null,{"v":1.32,"d":"1.320"},{"v":11.01593328,"d":"11.016"},{"$f":"F34*2.5","v":{"v":27.5398332,"d":"27.540"}},{"v":1.3199999250127905,"d":"1.320"},{"v":4.996603636150466,"d":"4.997"},{"v":13.199999250127906,"d":"13.200"},null,{"v":0.12,"d":"12.000%"},{"v":0,"d":"0.000%"},{"v":0,"d":"0.000%"},{"v":0,"d":"0.000%"},{"v":0,"d":"0.000%"},{"v":0,"d":"0.000%"},{"v":0.005,"d":"0.500%"},{"v":0.04,"d":"4.000%"},{"v":0.05,"d":"5.000%"},{"v":0.01,"d":"1.000%"},{"v":0,"d":"0.000%"},{"v":0,"d":"0.000%"},{"v":0,"d":"0.000%"},{"v":0,"d":"0.000%"},{"v":0,"d":"0.000%"},{"v":0,"d":"0.000%"},{"v":0,"d":"0.000%"},{"v":0,"d":"0.000%"}]
[33,"49011","BRANDT In-Cyte",null,{"v":1.18,"d":"1.180"},{"v":9.84757672,"d":"9.848"},{"v":24.618941799999998,"d":"24.619"},{"v":1.1799999329659794,"d":"1.180"},{"v":4.466660826255719,"d":"4.467"},{"v":11.799999329659794,"d":"11.800"},null,{"v":0.03,"d":"3.000%"},{"v":0.12,"d":"12.000%"},{"v":0.0523704,"d":"5.237%"},{"v":0.01,"d":"1.000%"},{"v":0.0083015,"d":"0.830%"},{"v":0,"d":"0.000%"},{"v":0,"d":"0.000%"},{"v":0,"d":"0.000%"},{"v":0,"d":"0.000%"},{"v":0,"d":"0.000%"},{"v":0,"d":"0.000%"},{"v":0,"d":"0.000%"},{"v":0,"d":"0.000%"},{"v":0,"d":"0.000%"},{"v":0,"d":"0.000%"},{"v":0,"d":"0.000%"},{"v":0,"d":"0.000%"},{"v":0,"d":"0.000%"}]
[34,"49012","BRANDT Seaweed Max",null,{"v":1.05,"d":"1.050"},{"v":8.762674200000001,"d":"8.763"},{"v":21.906685500000002,"d":"21.907"},{"v":1.0499999403510836,"d":"1.050"},{"v":3.9745710742105986,"d":"3.975"},{"v":10.499999403510836,"d":"10.500"},null,{"v":0,"d":"0.000%"},{"v":0,"d":"0.000%"},{"v":0,"d":"0.000%"},{"v":0.02,"d":"2.000%"},{"v":0.016603,"d":"1.660%"},{"v":0,"d":"0.000%"},{"v":0,"d":"0.000%"},{"v":0,"d":"0.000%"},{"v":0,"d":"0.000%"},{"v":0,"d":"0.000%"},{"v":0,"d":"0.000%"},{"v":0,"d":"0.000%"},{"v":0,"d":"0.000%"},{"v":0,"d":"0.000%"},{"v":0,"d":"0.000%"},{"v":0,"d":"0.000%"},{"v":0,"d":"0.000%"},{"v":0,"d":"0.000%"}]
[35,"42008","BRANDT Uptake 12 ",null,{"v":1.07,"d":"1.070"},{"v":8.92958228,"d":"8.930"},{"$f":"F37*2.5","v":{"v":22.3239557,"d":"22.324"}},{"v":1.0699999392149135,"d":"1.070"},{"v":4.050277189909847,"d":"4.050"},{"v":10.699999392149135,"d":"10.700"},null,{"v":0,"d":"0.000%"},{"v":0,"d":"0.000%"},{"v":0,"d":"0.000%"},{"v":0.03,"d":"3.000%"},{"v":0.0249045,"d":"2.490%"},{"v":0,"d":"0.000%"},{"v":0,"d":"0.000%"},{"v":0,"d":"0.000%"},{"v":0,"d":"0.000%"},{"v":0,"d":"0.000%"},{"v":0,"d":"0.000%"},{"v":0,"d":"0.000%"},{"v":0,"d":"0.000%"},{"v":0,"d":"0.000%"},{"v":0,"d":"0.000%"},{"v":0,"d":"0.000%"},{"v":0,"d":"0.000%"},{"v":0,"d":"0.000%"}]
[36,"42009","BRANDT Uptake Advanced",null,{"v":1.1,"d":"1.100"},{"v":9.179944400000002,"d":"9.180"},{"$f":"F38*2.5","v":{"v":22.949861000000006,"d":"22.950"}},{"v":1.099999937510659,"d":"1.100"},{"v":4.1638363634587225,"d":"4.164"},{"v":10.99999937510659,"d":"11.000"},null,{"v":0,"d":"0.000%"},{"v":0,"d":"0.000%"},{"v":0,"d":"0.000%"},{"v":0,"d":"0.000%"},{"v":0,"d":"0.000%"},{"v":0,"d":"0.000%"},{"v":0,"d":"0.000%"},{"v":0,"d":"0.000%"},{"v":0,"d":"0.000%"},{"v":0,"d":"0.000%"},{"v":0,"d":"0.000%"},{"v":0,"d":"0.000%"},{"v":0,"d":"0.000%"},{"v":0,"d":"0.000%"},{"v":0,"d":"0.000%"},{"v":0,"d":"0.000%"},{"v":0,"d":"0.000%"},{"v":0,"d":"0.000%"}]
[37,{"$nulls":4},{"v":0,"d":"0.000"},{"$f":"F39*2.5","v":{"v":0,"d":"0.000"}},{"v":0,"d":"0.000"},{"v":0,"d":"0.000"},{"v":0,"d":"0.000"},null,{"v":0,"d":"0.000%"},{"v":0,"d":"0.000%"},{"v":0,"d":"0.000%"},{"v":0,"d":"0.000%"},{"v":0,"d":"0.000%"},{"v":0,"d":"0.000%"},{"v":0,"d":"0.000%"},{"v":0,"d":"0.000%"},{"v":0,"d":"0.000%"},{"v":0,"d":"0.000%"},{"v":0,"d":"0.000%"},{"v":0,"d":"0.000%"},{"v":0,"d":"0.000%"},{"v":0,"d":"0.000%"},{"v":0,"d":"0.000%"},{"v":0,"d":"0.000%"},{"v":0,"d":"0.000%"},{"v":0,"d":"0.000%"}]
[38,{"$nulls":4},{"v":0,"d":"0.000"},{"$f":"F40*2.5","v":{"v":0,"d":"0.000"}},{"v":0,"d":"0.000"},{"v":0,"d":"0.000"},{"v":0,"d":"0.000"},null,{"v":0,"d":"0.000%"},{"v":0,"d":"0.000%"},{"v":0,"d":"0.000%"},{"v":0,"d":"0.000%"},{"v":0,"d":"0.000%"},{"v":0,"d":"0.000%"},{"v":0,"d":"0.000%"},{"v":0,"d":"0.000%"},{"v":0,"d":"0.000%"},{"v":0,"d":"0.000%"},{"v":0,"d":"0.000%"},{"v":0,"d":"0.000%"},{"v":0,"d":"0.000%"},{"v":0,"d":"0.000%"},{"v":0,"d":"0.000%"},{"v":0,"d":"0.000%"},{"v":0,"d":"0.000%"},{"v":0,"d":"0.000%"}]
[39,{"$nulls":4},{"v":0,"d":"0.000"},{"$f":"F41*2.5","v":{"v":0,"d":"0.000"}},{"v":0,"d":"0.000"},{"v":0,"d":"0.000"},{"v":0,"d":"0.000"},null,{"v":0,"d":"0.000%"},{"v":0,"d":"0.000%"},{"v":0,"d":"0.000%"},{"v":0,"d":"0.000%"},{"v":0,"d":"0.000%"},{"v":0,"d":"0.000%"},{"v":0,"d":"0.000%"},{"v":0,"d":"0.000%"},{"v":0,"d":"0.000%"},{"v":0,"d":"0.000%"},{"v":0,"d":"0.000%"},{"v":0,"d":"0.000%"},{"v":0,"d":"0.000%"},{"v":0,"d":"0.000%"},{"v":0,"d":"0.000%"},{"v":0,"d":"0.000%"},{"v":0,"d":"0.000%"},{"v":0,"d":"0.000%"}]
[40,{"$nulls":4},{"v":0,"d":"0.000"},{"v":0,"d":"0.000"},{"v":0,"d":"0.000"},{"v":0,"d":"0.000"},{"v":0,"d":"0.000"},null,{"v":0,"d":"0.000%"},{"v":0,"d":"0.000%"},{"v":0,"d":"0.000%"},{"v":0,"d":"0.000%"},{"v":0,"d":"0.000%"},{"v":0,"d":"0.000%"},{"v":0,"d":"0.000%"},{"v":0,"d":"0.000%"},{"v":0,"d":"0.000%"},{"v":0,"d":"0.000%"},{"v":0,"d":"0.000%"},{"v":0,"d":"0.000%"},{"v":0,"d":"0.000%"},{"v":0,"d":"0.000%"},{"v":0,"d":"0.000%"},{"v":0,"d":"0.000%"},{"v":0,"d":"0.000%"},{"v":0,"d":"0.000%"}]
[41,{"$nulls":4},{"v":0,"d":"0.000"},{"v":0,"d":"0.000"},{"v":0,"d":"0.000"},{"v":0,"d":"0.000"},{"v":0,"d":"0.000"},null,{"v":0,"d":"0.000%"},{"v":0,"d":"0.000%"},{"v":0,"d":"0.000%"},{"v":0,"d":"0.000%"},{"v":0,"d":"0.000%"},{"v":0,"d":"0.000%"},{"v":0,"d":"0.000%"},{"v":0,"d":"0.000%"},{"v":0,"d":"0.000%"},{"v":0,"d":"0.000%"},{"v":0,"d":"0.000%"},{"v":0,"d":"0.000%"},{"v":0,"d":"0.000%"},{"v":0,"d":"0.000%"},{"v":0,"d":"0.000%"},{"v":0,"d":"0.000%"},{"v":0,"d":"0.000%"},{"v":0,"d":"0.000%"}]
[42,{"$nulls":4},{"v":0,"d":"0.000"},{"$f":"F44*2.5","v":{"v":0,"d":"0.000"}},{"v":0,"d":"0.000"},{"v":0,"d":"0.000"},{"v":0,"d":"0.000"},null,{"v":0,"d":"0.000%"},{"v":0,"d":"0.000%"},{"v":0,"d":"0.000%"},{"v":0,"d":"0.000%"},{"v":0,"d":"0.000%"},{"v":0,"d":"0.000%"},{"v":0,"d":"0.000%"},{"v":0,"d":"0.000%"},{"v":0,"d":"0.000%"},{"v":0,"d":"0.000%"},{"v":0,"d":"0.000%"},{"v":0,"d":"0.000%"},{"v":0,"d":"0.000%"},{"v":0,"d":"0.000%"},{"v":0,"d":"0.000%"},{"v":0,"d":"0.000%"},{"v":0,"d":"0.000%"},{"v":0,"d":"0.000%"}]
[43,{"$nulls":4},{"v":0,"d":"0.000"},{"$f":"F45*2.5","v":{"v":0,"d":"0.000"}},{"v":0,"d":"0.000"},{"v":0,"d":"0.000"},{"v":0,"d":"0.000"},null,{"v":0,"d":"0.000%"},{"v":0,"d":"0.000%"},{"v":0,"d":"0.000%"},{"v":0,"d":"0.000%"},{"v":0,"d":"0.000%"},{"v":0,"d":"0.000%"},{"v":0,"d":"0.000%"},{"v":0,"d":"0.000%"},{"v":0,"d":"0.000%"},{"v":0,"d":"0.000%"},{"v":0,"d":"0.000%"},{"v":0,"d":"0.000%"},{"v":0,"d":"0.000%"},{"v":0,"d":"0.000%"},{"v":0,"d":"0.000%"},{"v":0,"d":"0.000%"},{"v":0,"d":"0.000%"},{"$f":"AB45*0.37775","v":{"v":0,"d":"0.000%"}}]
[44,{"$nulls":4},{"v":0,"d":"0.000"},{"v":0,"d":"0.000"},{"v":0,"d":"0.000"},{"v":0,"d":"0.000"},{"v":0,"d":"0.000"},null,{"v":0,"d":"0.000%"},{"v":0,"d":"0.000%"},{"v":0,"d":"0.000%"},{"v":0,"d":"0.000%"},{"v":0,"d":"0.000%"},{"v":0,"d":"0.000%"},{"v":0,"d":"0.000%"},{"v":0,"d":"0.000%"},{"v":0,"d":"0.000%"},{"v":0,"d":"0.000%"},{"v":0,"d":"0.000%"},{"v":0,"d":"0.000%"},{"v":0,"d":"0.000%"},{"v":0,"d":"0.000%"},{"v":0,"d":"0.000%"},{"v":0,"d":"0.000%"},{"v":0,"d":"0.000%"},{"v":0,"d":"0.000%"}]
[{"$nulls":11},0]
[46,"X1","Custom Liquid 1",null,null,{"$f":"E48*8.345404","v":{"v":0,"d":"0.000"}},{"v":0,"d":"0.000"},{"$f":"(E48/1.000028)","v":{"v":0,"d":"0.000"}},{"$f":"H48*3.785306","v":{"v":0,"d":"0.000"}},{"$f":"H48*10","v":{"v":0,"d":"0.000"}},{"$nulls":3},{"v":0,"d":"0.000%"},null,{"v":0,"d":"0.000%"},{"$nulls":12},{"$f":"AB48*0.37775","v":{"v":0,"d":"0.000%"}}]
[47,"X2","Custom Liquid 2",null,null,{"$f":"E49*8.345404","v":{"v":0,"d":"0.000"}},{"v":0,"d":"0.000"},{"$f":"(E49/1.000028)","v":{"v":0,"d":"0.000"}},{"v":0,"d":"0.000"},{"$f":"H49*10","v":{"v":0,"d":"0.000"}},{"$nulls":3},{"v":0,"d":"0.000%"},null,{"v":0,"d":"0.000%"},{"$nulls":12},{"v":0,"d":"0.000%"}]
[48,"X3","Custom SOLUBLE 1",{"$nulls":25},{"v":0,"d":"0.000%"}]
["order","FID#","BRANDT® GRANULARS","MSRP   per bag",null,"lbs per \n1 bag",null,"kg per \n1 bag",{"$nulls":3},"Total       N","P2O5","Elemental P","K2O","Elemental K","Ca","Mg","S","Fe","Mn","Zn","Cu","B","Si","Mo","Co","HPO3","ElementalP"]
[50,"30023","BRANDT Noculate 8-3-17",null,null,{"v":50,"d":"50.00"},null,{"$f":"F52*0.453592","v":{"v":22.6796,"d":"22.680"}},{"$nulls":3},{"v":0.08,"d":"8.000%"},{"v":0.03,"d":"3.000%"},{"$f":"M52*0.43642","v":{"v":0.0130926,"d":"1.309%"}},{"v":0.17,"d":"17.000%"},{"$f":"O52*0.83015","v":{"v":0.14112550000000001,"d":"14.113%"}},{"v":0,"d":"0.000%"},{"v":0.01,"d":"1.000%"},{"v":0.06,"d":"6.000%"},{"v":0.04,"d":"4.000%"},{"v":0.031,"d":"3.100%"},{"v":0,"d":"0.000%"},{"v":0,"d":"0.000%"},{"v":0,"d":"0.000%"},{"v":0,"d":"0.000%"},{"v":0,"d":"0.000%"},{"v":0,"d":"0.000%"},{"v":0,"d":"0.000%"},{"$f":"AB52*0.37775","v":{"v":0,"d":"0.000%"}}]
[51,"30019","BRANDT Noculate 11-2-11",null,null,{"v":50,"d":"50.00"},null,{"$f":"F53*0.453592","v":{"v":22.6796,"d":"22.680"}},{"$nulls":3},{"v":0.11,"d":"11.000%"},{"v":0.02,"d":"2.000%"},{"v":8.728399999999999E-3,"d":"0.873%"},{"v":0.11,"d":"11.000%"},{"v":0.09131650000000001,"d":"9.132%"},{"v":0,"d":"0.000%"},{"v":0.02,"d":"2.000%"},{"v":0.12,"d":"12.000%"},{"v":0.005,"d":"0.500%"},{"v":0,"d":"0.000%"},{"v":0,"d":"0.000%"},{"v":0,"d":"0.000%"},{"v":0,"d":"0.000%"},{"v":0,"d":"0.000%"},{"v":0,"d":"0.000%"},{"v":0,"d":"0.000%"},{"v":0,"d":"0.000%"},{"v":0,"d":"0.000%"}]
[52,"30034","BRANDT Noculate 13-4-13",null,null,{"v":50,"d":"50.00"},null,{"$f":"F54*0.453592","v":{"v":22.6796,"d":"22.680"}},{"$nulls":3},{"v":0.13,"d":"13.000%"},{"v":0.04,"d":"4.000%"},{"v":0.017456799999999998,"d":"1.746%"},{"v":0.13,"d":"13.000%"},{"v":0.10791950000000002,"d":"10.792%"},{"v":0,"d":"0.000%"},{"v":0.01,"d":"1.000%"},{"v":0.04,"d":"4.000%"},{"v":0.01,"d":"1.000%"},{"v":0.005,"d":"0.500%"},{"v":0,"d":"0.000%"},{"v":0,"d":"0.000%"},{"v":0,"d":"0.000%"},{"v":0,"d":"0.000%"},{"v":0,"d":"0.000%"},{"v":0,"d":"0.000%"},{"v":0,"d":"0.000%"},{"v":0,"d":"0.000%"}]
[53,"30020","BRANDT Parco-Blend 13-2-13",null,null,{"v":50,"d":"50.00"},null,{"v":22.6796,"d":"22.680"},{"$nulls":3},{"v":0.13,"d":"13.000%"},{"v":0.02,"d":"2.000%"},{"v":8.728399999999999E-3,"d":"0.873%"},{"v":0.13,"d":"13.000%"},{"v":0.10791950000000002,"d":"10.792%"},{"v":0.035,"d":"3.500%"},{"v":0.048,"d":"4.800%"},{"v":0.06,"d":"6.000%"},{"v":0.0105,"d":"1.050%"},{"v":0.015,"d":"1.500%"},{"v":0,"d":"0.000%"},{"v":0,"d":"0.000%"},{"v":0,"d":"0.000%"},{"v":0,"d":"0.000%"},{"v":0,"d":"0.000%"},{"v":0,"d":"0.000%"},{"v":0,"d":"0.000%"},{"v":0,"d":"0.000%"}]
[54,"30041","BRANDT Parco-Blend 17-4-17",null,null,{"v":50,"d":"50.00"},null,{"v":22.6796,"d":"22.680"},{"$nulls":3},{"v":0.17,"d":"17.000%"},{"v":0.04,"d":"4.000%"},{"v":0.017456799999999998,"d":"1.746%"},{"v":0.17,"d":"17.000%"},{"v":0.14112550000000001,"d":"14.113%"},{"v":0,"d":"0.000%"},{"v":0,"d":"0.000%"},{"v":0.055,"d":"5.500%"},{"v":0.0095,"d":"0.950%"},{"v":0,"d":"0.000%"},{"v":0,"d":"0.000%"},{"v":0,"d":"0.000%"},{"v":0,"d":"0.000%"},{"v":0,"d":"0.000%"},{"v":0,"d":"0.000%"},{"v":0,"d":"0.000%"},{"v":0,"d":"0.000%"},{"v":0,"d":"0.000%"}]
[55,{"$nulls":6},{"v":0,"d":"0.000"},{"$nulls":3},{"v":0,"d":"0.000%"},{"v":0,"d":"0.000%"},{"v":0,"d":"0.000%"},{"v":0,"d":"0.000%"},{"v":0,"d":"0.000%"},{"v":0,"d":"0.000%"},{"v":0,"d":"0.000%"},{"v":0,"d":"0.000%"},{"v":0,"d":"0.000%"},{"v":0,"d":"0.000%"},{"v":0,"d":"0.000%"},{"v":0,"d":"0.000%"},{"v":0,"d":"0.000%"},{"v":0,"d":"0.000%"},{"v":0,"d":"0.000%"},{"v":0,"d":"0.000%"},{"v":0,"d":"0.000%"},{"v":0,"d":"0.000%"}]
[56,{"$nulls":6},{"v":0,"d":"0.000"},{"$nulls":3},{"v":0,"d":"0.000%"},{"v":0,"d":"0.000%"},{"v":0,"d":"0.000%"},{"v":0,"d":"0.000%"},{"v":0,"d":"0.000%"},{"v":0,"d":"0.000%"},{"v":0,"d":"0.000%"},{"v":0,"d":"0.000%"},{"v":0,"d":"0.000%"},{"v":0,"d":"0.000%"},{"v":0,"d":"0.000%"},{"v":0,"d":"0.000%"},{"v":0,"d":"0.000%"},{"v":0,"d":"0.000%"},{"v":0,"d":"0.000%"},{"v":0,"d":"0.000%"},{"v":0,"d":"0.000%"},{"v":0,"d":"0.000%"}]
[57,{"$nulls":6},{"v":0,"d":"0.000"},{"$nulls":3},{"v":0,"d":"0.000%"},{"v":0,"d":"0.000%"},{"v":0,"d":"0.000%"},{"v":0,"d":"0.000%"},{"v":0,"d":"0.000%"},{"v":0,"d":"0.000%"},{"v":0,"d":"0.000%"},{"v":0,"d":"0.000%"},{"v":0,"d":"0.000%"},{"v":0,"d":"0.000%"},{"v":0,"d":"0.000%"},{"v":0,"d":"0.000%"},{"v":0,"d":"0.000%"},{"v":0,"d":"0.000%"},{"v":0,"d":"0.000%"},{"v":0,"d":"0.000%"},{"v":0,"d":"0.000%"},{"v":0,"d":"0.000%"}]
[58,{"$nulls":4},{"v":50,"d":"50.00"},null,{"v":22.6796,"d":"22.680"},{"$nulls":3},{"v":0,"d":"0.000%"},{"v":0,"d":"0.000%"},{"$f":"M60*0.43642","v":{"v":0,"d":"0.000%"}},{"v":0,"d":"0.000%"},{"$f":"O60*0.83015","v":{"v":0,"d":"0.000%"}},{"v":0,"d":"0.000%"},{"v":0,"d":"0.000%"},{"v":0,"d":"0.000%"},{"v":0,"d":"0.000%"},{"v":0,"d":"0.000%"},{"v":0,"d":"0.000%"},{"v":0,"d":"0.000%"},{"v":0,"d":"0.000%"},{"v":0,"d":"0.000%"},{"v":0,"d":"0.000%"},{"v":0,"d":"0.000%"},{"v":0,"d":"0.000%"},{"v":0,"d":"0.000%"}]
[59,{"$nulls":4},{"v":50,"d":"50.00"},null,{"v":22.6796,"d":"22.680"},{"$nulls":3},{"v":0,"d":"0.000%"},{"v":0,"d":"0.000%"},{"v":0,"d":"0.000%"},{"v":0,"d":"0.000%"},{"v":0,"d":"0.000%"},{"v":0,"d":"0.000%"},{"v":0,"d":"0.000%"},{"v":0,"d":"0.000%"},{"v":0,"d":"0.000%"},{"v":0,"d":"0.000%"},{"v":0,"d":"0.000%"},{"v":0,"d":"0.000%"},{"v":0,"d":"0.000%"},{"v":0,"d":"0.000%"},{"v":0,"d":"0.000%"},{"v":0,"d":"0.000%"},{"v":0,"d":"0.000%"},{"v":0,"d":"0.000%"}]
[60,{"$nulls":4},{"v":50,"d":"50.00"},null,{"v":22.6796,"d":"22.680"},{"$nulls":3},{"v":0,"d":"0.000%"},{"v":0,"d":"0.000%"},{"v":0,"d":"0.000%"},{"v":0,"d":"0.000%"},{"v":0,"d":"0.000%"},{"v":0,"d":"0.000%"},{"v":0,"d":"0.000%"},{"v":0,"d":"0.000%"},{"v":0,"d":"0.000%"},{"v":0,"d":"0.000%"},{"v":0,"d":"0.000%"},{"v":0,"d":"0.000%"},{"v":0,"d":"0.000%"},{"v":0,"d":"0.000%"},{"v":0,"d":"0.000%"},{"v":0,"d":"0.000%"},{"v":0,"d":"0.000%"},{"v":0,"d":"0.000%"}]
[61,{"$nulls":4},{"v":50,"d":"50.00"},null,{"v":22.6796,"d":"22.680"},{"$nulls":3},{"v":0,"d":"0.000%"},{"v":0,"d":"0.000%"},{"v":0,"d":"0.000%"},{"v":0,"d":"0.000%"},{"v":0,"d":"0.000%"},{"v":0,"d":"0.000%"},{"v":0,"d":"0.000%"},{"v":0,"d":"0.000%"},{"v":0,"d":"0.000%"},{"v":0,"d":"0.000%"},{"v":0,"d":"0.000%"},{"v":0,"d":"0.000%"},{"v":0,"d":"0.000%"},{"v":0,"d":"0.000%"},{"v":0,"d":"0.000%"},{"v":0,"d":"0.000%"},{"v":0,"d":"0.000%"},{"v":0,"d":"0.000%"}]
[62,{"$nulls":4},{"v":50,"d":"50.00"},null,{"v":22.6796,"d":"22.680"},{"$nulls":3},{"v":0,"d":"0.000%"},{"v":0,"d":"0.000%"},{"v":0,"d":"0.000%"},{"v":0,"d":"0.000%"},{"v":0,"d":"0.000%"},{"v":0,"d":"0.000%"},{"v":0,"d":"0.000%"},{"v":0,"d":"0.000%"},{"v":0,"d":"0.000%"},{"v":0,"d":"0.000%"},{"v":0,"d":"0.000%"},{"v":0,"d":"0.000%"},{"v":0,"d":"0.000%"},{"v":0,"d":"0.000%"},{"v":0,"d":"0.000%"},{"v":0,"d":"0.000%"},{"v":0,"d":"0.000%"},{"v":0,"d":"0.000%"}]
[63,{"$nulls":4},{"v":50,"d":"50.00"},null,{"v":22.6796,"d":"22.680"},{"$nulls":3},{"v":0,"d":"0.000%"},{"v":0,"d":"0.000%"},{"v":0,"d":"0.000%"},{"v":0,"d":"0.000%"},{"v":0,"d":"0.000%"},{"v":0,"d":"0.000%"},{"v":0,"d":"0.000%"},{"v":0,"d":"0.000%"},{"v":0,"d":"0.000%"},{"v":0,"d":"0.000%"},{"v":0,"d":"0.000%"},{"v":0,"d":"0.000%"},{"v":0,"d":"0.000%"},{"v":0,"d":"0.000%"},{"v":0,"d":"0.000%"},{"v":0,"d":"0.000%"},{"v":0,"d":"0.000%"},{"v":0,"d":"0.000%"}]
[64,{"$nulls":4},{"v":50,"d":"50.00"},null,{"v":22.6796,"d":"22.680"},{"$nulls":3},{"v":0,"d":"0.000%"},{"v":0,"d":"0.000%"},{"v":0,"d":"0.000%"},{"v":0,"d":"0.000%"},{"v":0,"d":"0.000%"},{"v":0,"d":"0.000%"},{"v":0,"d":"0.000%"},{"v":0,"d":"0.000%"},{"v":0,"d":"0.000%"},{"v":0,"d":"0.000%"},{"v":0,"d":"0.000%"},{"v":0,"d":"0.000%"},{"v":0,"d":"0.000%"},{"v":0,"d":"0.000%"},{"v":0,"d":"0.000%"},{"v":0,"d":"0.000%"},{"v":0,"d":"0.000%"},{"v":0,"d":"0.000%"}]
[65,{"$nulls":4},{"v":50,"d":"50.00"},null,{"v":22.6796,"d":"22.680"},{"$nulls":3},{"v":0,"d":"0.000%"},{"v":0,"d":"0.000%"},{"v":0,"d":"0.000%"},{"v":0,"d":"0.000%"},{"v":0,"d":"0.000%"},{"v":0,"d":"0.000%"},{"v":0,"d":"0.000%"},{"v":0,"d":"0.000%"},{"v":0,"d":"0.000%"},{"v":0,"d":"0.000%"},{"v":0,"d":"0.000%"},{"v":0,"d":"0.000%"},{"v":0,"d":"0.000%"},{"v":0,"d":"0.000%"},{"v":0,"d":"0.000%"},{"v":0,"d":"0.000%"},{"v":0,"d":"0.000%"},{"v":0,"d":"0.000%"}]
[66,{"$nulls":4},{"v":50,"d":"50.00"},null,{"v":22.6796,"d":"22.680"},{"$nulls":3},{"v":0,"d":"0.000%"},{"v":0,"d":"0.000%"},{"v":0,"d":"0.000%"},{"v":0,"d":"0.000%"},{"v":0,"d":"0.000%"},{"v":0,"d":"0.000%"},{"v":0,"d":"0.000%"},{"v":0,"d":"0.000%"},{"v":0,"d":"0.000%"},{"v":0,"d":"0.000%"},{"v":0,"d":"0.000%"},{"v":0,"d":"0.000%"},{"v":0,"d":"0.000%"},{"v":0,"d":"0.000%"},{"v":0,"d":"0.000%"},{"v":0,"d":"0.000%"},{"v":0,"d":"0.000%"},{"v":0,"d":"0.000%"}]
[67,{"$nulls":4},{"v":50,"d":"50.00"},null,{"v":22.6796,"d":"22.680"},{"$nulls":3},{"v":0,"d":"0.000%"},{"v":0,"d":"0.000%"},{"v":0,"d":"0.000%"},{"v":0,"d":"0.000%"},{"v":0,"d":"0.000%"},{"v":0,"d":"0.000%"},{"v":0,"d":"0.000%"},{"v":0,"d":"0.000%"},{"v":0,"d":"0.000%"},{"v":0,"d":"0.000%"},{"v":0,"d":"0.000%"},{"v":0,"d":"0.000%"},{"v":0,"d":"0.000%"},{"v":0,"d":"0.000%"},{"v":0,"d":"0.000%"},{"v":0,"d":"0.000%"},{"v":0,"d":"0.000%"},{"v":0,"d":"0.000%"}]
[68,{"$nulls":4},{"v":50,"d":"50.00"},null,{"v":22.6796,"d":"22.680"},{"$nulls":3},{"v":0,"d":"0.000%"},{"v":0,"d":"0.000%"},{"v":0,"d":"0.000%"},{"v":0,"d":"0.000%"},{"v":0,"d":"0.000%"},{"v":0,"d":"0.000%"},{"v":0,"d":"0.000%"},{"v":0,"d":"0.000%"},{"v":0,"d":"0.000%"},{"v":0,"d":"0.000%"},{"v":0,"d":"0.000%"},{"v":0,"d":"0.000%"},{"v":0,"d":"0.000%"},{"v":0,"d":"0.000%"},{"v":0,"d":"0.000%"},{"v":0,"d":"0.000%"},{"v":0,"d":"0.000%"},{"v":0,"d":"0.000%"}]
[69,{"$nulls":4},{"v":50,"d":"50.00"},null,{"v":22.6796,"d":"22.680"},{"$nulls":3},{"v":0,"d":"0.000%"},{"v":0,"d":"0.000%"},{"v":0,"d":"0.000%"},{"v":0,"d":"0.000%"},{"v":0,"d":"0.000%"},{"v":0,"d":"0.000%"},{"v":0,"d":"0.000%"},{"v":0,"d":"0.000%"},{"v":0,"d":"0.000%"},{"v":0,"d":"0.000%"},{"v":0,"d":"0.000%"},{"v":0,"d":"0.000%"},{"v":0,"d":"0.000%"},{"v":0,"d":"0.000%"},{"v":0,"d":"0.000%"},{"v":0,"d":"0.000%"},{"v":0,"d":"0.000%"},{"v":0,"d":"0.000%"}]
[]
[70,"Z1","Custom Granular 1"]
[71,"Z2","Custom Granular 2"]

{"sheet":"APPLICATION DATA - standard","index":2,"n_rows":147,"n_cols":22,"rows_kept":147,"merged":[[2,2,3,7],[2,9,3,11],[2,13,3,15],[5,2,6,7],[5,9,9,18],[8,3,9,4],[8,5,8,6],[10,2,11,2],[11,9,11,11],[12,9,12,11],[13,9,13,11],[14,8,14,11],[16,2,16,19],[21,2,22,4],[21,6,21,20],[23,2,23,4],[24,2,24,4],[25,2,25,4],[26,2,26,4],[27,2,27,4],[28,2,28,4],[29,2,29,4],[30,2,30,4],[31,2,31,4],[32,2,32,4],[33,2,33,5],[34,2,34,5],[35,2,35,5],[36,2,36,5],[38,2,39,4],[38,6,38,20],[40,2,40,4],[41,2,41,4],[42,2,42,4],[43,2,43,4],[44,2,44,4],[45,2,45,4],[46,2,46,5],[47,2,47,5],[48,2,48,5],[49,2,49,5],[51,2,52,4],[51,6,51,20],[53,2,53,4],[54,2,54,4],[55,2,55,4],[56,2,56,4],[57,2,57,4],[58,2,58,4],[59,2,59,5],[60,2,60,5],[61,2,61,5],[62,2,62,5],[63,2,64,4],[63,6,63,20],[65,2,65,4],[66,2,66,4],[67,2,67,4],[68,2,68,4],[69,2,69,4],[70,2,70,4],[71,2,71,5],[72,2,72,5],[73,2,73,5],[76,2,76,4],[76,6,76,20],[77,2,77,4],[78,2,78,4],[79,2,79,5],[80,2,80,5],[81,2,81,4],[82,2,82,4],[83,2,83,4],[84,2,84,5],[85,2,85,5],[86,2,86,5],[87,2,87,4],[88,2,88,4],[89,2,89,4],[90,2,90,5],[91,2,91,5],[92,2,92,5],[93,2,93,4],[94,2,94,4],[95,2,95,4],[96,2,96,5],[97,2,97,5],[98,2,98,5]]}
[null,null,{"$f":"VERSION","v":"version #BRANDT-D2401-"},null,"standard US measurments"]
[null,null,"PREPARED FOR",{"$nulls":6},"START DATE",{"$nulls":3},"END DATE"]
[]
[]
[null,null,"PROGRAM TITLE",{"$nulls":6},"NOTES / COMMENTS"]
[]
[]
[]
[{"$nulls":3},"KNOWN      APPLICATION AREA",null," conversion of area "]
[{"$nulls":5},"Ft2","Acres"]
[null,null,"Only select ONE area measurment >>"," FT² ",null,"***",{"$f":"E11/43560","v":{"v":0,"d":"0.00"}},null,null,"OTHER PROGRAM DETAILS"]
[{"$nulls":3},"Acre ",null,{"$f":"E12*43560","v":0},"***",null,null,"Total Applications of Mix #1?",{"$nulls":6},"Total Applications of Soluble #1?"]
[{"$nulls":5},"ACRES covered in 1 tank load?",null,"(optional)",null,"Total Applications of Mix #2?",{"$nulls":6},"Total Applications of Granular #1?"]
[{"$nulls":5},"ACRES covered in 1 spreader load?",null,"(optional)",null,"Total Applications of Mix #3?",{"$nulls":6},"Total Applications of Granular #2?"]
[{"$nulls":8},"Total Applications of Mix #4?",{"$nulls":7},"Total Applications of Granular #3?"]
[]
[null,null,"ENTIRE PROGRAM Nutrient TARGET Concentrations / LBS per 1,000 FT2 (optional)"]
[null,null,"N","P2O5","K2O","Ca","Mg","S","Fe","Mn","Zn","Cu","B","Si","Mo","Co","HPO3"]
[]
[]
[]
[null,null,"MIX #1",null,null,"oz / 1,000 FT2","LBS of Nutrient per 1,000 FT2"]
[{"$nulls":5},"RATE","N","P2O5","K2O","Ca","Mg","S","Fe","Mn","Zn","Cu","B","Si","Mo","Co","HPO3"]
[{"$f":"IF(($C24=id.32081),3,IF(($C24=id.32502),4,IF(($C24=id.20504),5,IF(($C24=id.32527),6,IF(($C24=id.32504),7,IF(($C24=id.32019),8,IF(($C24=id.32001),9,IF(($C24=id.32031),10,IF(($C24=id.25007),11,IF(($C24=id.20023),12,IF(($C24=id.32066),13,IF(($C24=id.32511),14,IF(($C24=id.32503),15,IF(($C24=id.32507),16,IF(($C24=id.32026),17,IF(($C24=id.32512),18,IF(($C24=id.32513),19,IF(($C24=id.32035),20,IF(($C24=id.32032),21,IF(($C24=id.32085),22,IF(($C24=id.32059),23,IF(($C24=id.20502),24,IF(($C24=id.32526),25,IF(($C24=id.32525),26,IF(($C24=id.32534),27,IF(($C24=id.51014),28,IF(($C24=id.51015),29,IF(($C24=id.32209),30,IF(($C24=id.32174),31,IF(($C24=id.32003),32,IF(($C24=id.20001),33,IF(($C24=id.20011),34,IF(($C24=id.49011),35,IF(($C24=id.49012),36,IF(($C24=id.42008),37,IF(($C24=id.42009),38,IF(($C24=id.x1),48,IF(($C24=id.x2),49,IF(($C24=id.x3),50,\"47\")))))))))))))))))))))))))))))))))))))))","v":"47"},{"$nulls":5},{"$f":"IF((INDIRECT(\"'PRODUCT DATA'!$L\"&$A24&\"\"))=0,\"*\",((INDIRECT(\"'PRODUCT DATA'!$F\"&$A24&\"\"))*(INDIRECT(\"'PRODUCT DATA'!$L\"&$A24&\"\")))*($F24/128))","v":"*"},{"$f":"IF((INDIRECT(\"'PRODUCT DATA'!$M\"&$A24&\"\"))=0,\"*\",((INDIRECT(\"'PRODUCT DATA'!$F\"&$A24&\"\"))*(INDIRECT(\"'PRODUCT DATA'!$M\"&$A24&\"\")))*($F24/128))","v":"*"},{"$f":"IF((INDIRECT(\"'PRODUCT DATA'!$O\"&$A24&\"\"))=0,\"*\",((INDIRECT(\"'PRODUCT DATA'!$F\"&$A24&\"\"))*(INDIRECT(\"'PRODUCT DATA'!$O\"&$A24&\"\")))*($F24/128))","v":"*"},{"$f":"IF((INDIRECT(\"'PRODUCT DATA'!$Q\"&$A24&\"\"))=0,\"*\",((INDIRECT(\"'PRODUCT DATA'!$F\"&$A24&\"\"))*(INDIRECT(\"'PRODUCT DATA'!$Q\"&$A24&\"\")))*($F24/128))","v":"*"},{"$f":"IF((INDIRECT(\"'PRODUCT DATA'!$R\"&$A24&\"\"))=0,\"*\",((INDIRECT(\"'PRODUCT DATA'!$F\"&$A24&\"\"))*(INDIRECT(\"'PRODUCT DATA'!$R\"&$A24&\"\")))*($F24/128))","v":"*"},{"$f":"IF((INDIRECT(\"'PRODUCT DATA'!$S\"&$A24&\"\"))=0,\"*\",((INDIRECT(\"'PRODUCT DATA'!$F\"&$A24&\"\"))*(INDIRECT(\"'PRODUCT DATA'!$S\"&$A24&\"\")))*($F24/128))","v":"*"},{"$f":"IF((INDIRECT(\"'PRODUCT DATA'!$T\"&$A24&\"\"))=0,\"*\",((INDIRECT(\"'PRODUCT DATA'!$F\"&$A24&\"\"))*(INDIRECT(\"'PRODUCT DATA'!$T\"&$A24&\"\")))*($F24/128))","v":"*"},{"$f":"IF((INDIRECT(\"'PRODUCT DATA'!$U\"&$A24&\"\"))=0,\"*\",((INDIRECT(\"'PRODUCT DATA'!$F\"&$A24&\"\"))*(INDIRECT(\"'PRODUCT DATA'!$U\"&$A24&\"\")))*($F24/128))","v":"*"},{"$f":"IF((INDIRECT(\"'PRODUCT DATA'!$V\"&$A24&\"\"))=0,\"*\",((INDIRECT(\"'PRODUCT DATA'!$F\"&$A24&\"\"))*(INDIRECT(\"'PRODUCT DATA'!$V\"&$A24&\"\")))*($F24/128))","v":"*"},{"$f":"IF((INDIRECT(\"'PRODUCT DATA'!$W\"&$A24&\"\"))=0,\"*\",((INDIRECT(\"'PRODUCT DATA'!$F\"&$A24&\"\"))*(INDIRECT(\"'PRODUCT DATA'!$W\"&$A24&\"\")))*($F24/128))","v":"*"},{"$f":"IF((INDIRECT(\"'PRODUCT DATA'!$X\"&$A24&\"\"))=0,\"*\",((INDIRECT(\"'PRODUCT DATA'!$F\"&$A24&\"\"))*(INDIRECT(\"'PRODUCT DATA'!$X\"&$A24&\"\")))*($F24/128))","v":"*"},{"$f":"IF((INDIRECT(\"'PRODUCT DATA'!$Y\"&$A24&\"\"))=0,\"*\",((INDIRECT(\"'PRODUCT DATA'!$F\"&$A24&\"\"))*(INDIRECT(\"'PRODUCT DATA'!$Y\"&$A24&\"\")))*($F24/128))","v":"*"},{"$f":"IF((INDIRECT(\"'PRODUCT DATA'!$Z\"&$A24&\"\"))=0,\"*\",((INDIRECT(\"'PRODUCT DATA'!$F\"&$A24&\"\"))*(INDIRECT(\"'PRODUCT DATA'!$Z\"&$A24&\"\")))*($F24/128))","v":"*"},{"$f":"IF((INDIRECT(\"'PRODUCT DATA'!$AA\"&$A24&\"\"))=0,\"*\",((INDIRECT(\"'PRODUCT DATA'!$F\"&$A24&\"\"))*(INDIRECT(\"'PRODUCT DATA'!$AA\"&$A24&\"\")))*($F24/128))","v":"*"},{"$f":"IF((INDIRECT(\"'PRODUCT DATA'!$AB\"&$A24&\"\"))=0,\"*\",((INDIRECT(\"'PRODUCT DATA'!$F\"&$A24&\"\"))*(INDIRECT(\"'PRODUCT DATA'!$AB\"&$A24&\"\")))*($F24/128))","v":"*"}]
["47",{"$nulls":5},{"$f":"IF((INDIRECT(\"'PRODUCT DATA'!$L\"&$A25&\"\"))=0,\"*\",((INDIRECT(\"'PRODUCT DATA'!$F\"&$A25&\"\"))*(INDIRECT(\"'PRODUCT DATA'!$L\"&$A25&\"\")))*($F25/128))","v":"*"},"*","*","*","*","*","*","*","*","*","*","*","*","*","*"]
["47",{"$nulls":5},"*","*","*","*","*","*","*","*","*","*","*","*","*","*","*"]
["47",{"$nulls":5},"*","*","*","*","*","*","*","*","*","*","*","*","*","*","*"]
["47",{"$nulls":5},"*","*","*","*","*","*","*","*","*","*","*","*","*","*","*"]
["47",{"$nulls":5},"*","*","*","*","*","*","*","*","*","*","*","*","*","*","*"]
["47",{"$nulls":5},"*","*","*","*","*","*","*","*","*","*","*","*","*","*","*"]
["47",{"$nulls":5},"*","*","*","*","*","*","*","*","*","*","*","*","*","*","*"]
["47",{"$nulls":5},"*","*","*","*","*","*","*","*","*","*","*","*","*","*","*"]
["47",{"$nulls":5},"*","*","*","*","*","*","*","*","*","*","*","*","*","*","*"]
[null,null,"Sub-Total (Each Application):",{"$nulls":3},{"$f":"IF(SUM(G24:G33)=0,\"0\",SUM(G24:G33))","v":"0"},{"$f":"IF(SUM(H24:H33)=0,\"0\",SUM(H24:H33))","v":"0"},"0","0","0","0","0","0","0","0","0","0","0","0","0"]
[null,null,"Program Sub-Total:",{"$nulls":3},{"$f":"G34*$M$12","v":{"v":0,"d":"0.0000"}},{"$f":"H34*$M$12","v":{"v":0,"d":"0.0000"}},{"v":0,"d":"0.0000"},{"v":0,"d":"0.0000"},{"v":0,"d":"0.0000"},{"v":0,"d":"0.0000"},{"v":0,"d":"0.0000"},{"v":0,"d":"0.0000"},{"v":0,"d":"0.0000"},{"v":0,"d":"0.0000"},{"v":0,"d":"0.00000"},{"v":0,"d":"0.00000"},{"v":0,"d":"0.00000"},{"v":0,"d":"0.00000"},{"v":0,"d":"0.00000"}]
[null,null,"lbs / ACRE (Each Application):",{"$nulls":3},{"$f":"IF((G34=\"*\"),\"*\",(G34*43.56))","v":{"v":0,"d":"0.000"}},{"v":0,"d":"0.000"},{"v":0,"d":"0.000"},{"v":0,"d":"0.000"},{"v":0,"d":"0.000"},{"v":0,"d":"0.000"},{"v":0,"d":"0.000"},{"v":0,"d":"0.000"},{"v":0,"d":"0.000"},{"v":0,"d":"0.000"},{"v":0,"d":"0.00000"},{"v":0,"d":"0.00000"},{"v":0,"d":"0.00000"},{"v":0,"d":"0.00000"},{"v":0,"d":"0.00000"}]
[]
[]
[null,null,"MIX #2",null,null,"oz / 1,000 FT2","LBS of Nutrient per 1,000 FT2"]
[{"$nulls":5},"RATE","N","P2O5","K2O","Ca","Mg","S","Fe","Mn","Zn","Cu","B","Si","Mo","Co","HPO3"]
[{"$f":"IF(($C41=id.32081),3,IF(($C41=id.32502),4,IF(($C41=id.20504),5,IF(($C41=id.32527),6,IF(($C41=id.32504),7,IF(($C41=id.32019),8,IF(($C41=id.32001),9,IF(($C41=id.32031),10,IF(($C41=id.25007),11,IF(($C41=id.20023),12,IF(($C41=id.32066),13,IF(($C41=id.32511),14,IF(($C41=id.32503),15,IF(($C41=id.32507),16,IF(($C41=id.32026),17,IF(($C41=id.32512),18,IF(($C41=id.32513),19,IF(($C41=id.32035),20,IF(($C41=id.32032),21,IF(($C41=id.32085),22,IF(($C41=id.32059),23,IF(($C41=id.20502),24,IF(($C41=id.32526),25,IF(($C41=id.32525),26,IF(($C41=id.32534),27,IF(($C41=id.51014),28,IF(($C41=id.51015),29,IF(($C41=id.32209),30,IF(($C41=id.32174),31,IF(($C41=id.32003),32,IF(($C41=id.20001),33,IF(($C41=id.20011),34,IF(($C41=id.49011),35,IF(($C41=id.49012),36,IF(($C41=id.42008),37,IF(($C41=id.42009),38,IF(($C41=id.x1),48,IF(($C41=id.x2),49,IF(($C41=id.x3),50,\"47\")))))))))))))))))))))))))))))))))))))))","v":"47"},{"$nulls":5},{"$f":"IF((INDIRECT(\"'PRODUCT DATA'!$L\"&$A41&\"\"))=0,\"*\",((INDIRECT(\"'PRODUCT DATA'!$F\"&$A41&\"\"))*(INDIRECT(\"'PRODUCT DATA'!$L\"&$A41&\"\")))*($F41/128))","v":"*"},{"$f":"IF((INDIRECT(\"'PRODUCT DATA'!$M\"&$A41&\"\"))=0,\"*\",((INDIRECT(\"'PRODUCT DATA'!$F\"&$A41&\"\"))*(INDIRECT(\"'PRODUCT DATA'!$M\"&$A41&\"\")))*($F41/128))","v":"*"},{"$f":"IF((INDIRECT(\"'PRODUCT DATA'!$O\"&$A41&\"\"))=0,\"*\",((INDIRECT(\"'PRODUCT DATA'!$F\"&$A41&\"\"))*(INDIRECT(\"'PRODUCT DATA'!$O\"&$A41&\"\")))*($F41/128))","v":"*"},{"$f":"IF((INDIRECT(\"'PRODUCT DATA'!$Q\"&$A41&\"\"))=0,\"*\",((INDIRECT(\"'PRODUCT DATA'!$F\"&$A41&\"\"))*(INDIRECT(\"'PRODUCT DATA'!$Q\"&$A41&\"\")))*($F41/128))","v":"*"},{"$f":"IF((INDIRECT(\"'PRODUCT DATA'!$R\"&$A41&\"\"))=0,\"*\",((INDIRECT(\"'PRODUCT DATA'!$F\"&$A41&\"\"))*(INDIRECT(\"'PRODUCT DATA'!$R\"&$A41&\"\")))*($F41/128))","v":"*"},{"$f":"IF((INDIRECT(\"'PRODUCT DATA'!$S\"&$A41&\"\"))=0,\"*\",((INDIRECT(\"'PRODUCT DATA'!$F\"&$A41&\"\"))*(INDIRECT(\"'PRODUCT DATA'!$S\"&$A41&\"\")))*($F41/128))","v":"*"},{"$f":"IF((INDIRECT(\"'PRODUCT DATA'!$T\"&$A41&\"\"))=0,\"*\",((INDIRECT(\"'PRODUCT DATA'!$F\"&$A41&\"\"))*(INDIRECT(\"'PRODUCT DATA'!$T\"&$A41&\"\")))*($F41/128))","v":"*"},{"$f":"IF((INDIRECT(\"'PRODUCT DATA'!$U\"&$A41&\"\"))=0,\"*\",((INDIRECT(\"'PRODUCT DATA'!$F\"&$A41&\"\"))*(INDIRECT(\"'PRODUCT DATA'!$U\"&$A41&\"\")))*($F41/128))","v":"*"},{"$f":"IF((INDIRECT(\"'PRODUCT DATA'!$V\"&$A41&\"\"))=0,\"*\",((INDIRECT(\"'PRODUCT DATA'!$F\"&$A41&\"\"))*(INDIRECT(\"'PRODUCT DATA'!$V\"&$A41&\"\")))*($F41/128))","v":"*"},{"$f":"IF((INDIRECT(\"'PRODUCT DATA'!$W\"&$A41&\"\"))=0,\"*\",((INDIRECT(\"'PRODUCT DATA'!$F\"&$A41&\"\"))*(INDIRECT(\"'PRODUCT DATA'!$W\"&$A41&\"\")))*($F41/128))","v":"*"},{"$f":"IF((INDIRECT(\"'PRODUCT DATA'!$X\"&$A41&\"\"))=0,\"*\",((INDIRECT(\"'PRODUCT DATA'!$F\"&$A41&\"\"))*(INDIRECT(\"'PRODUCT DATA'!$X\"&$A41&\"\")))*($F41/128))","v":"*"},{"$f":"IF((INDIRECT(\"'PRODUCT DATA'!$Y\"&$A41&\"\"))=0,\"*\",((INDIRECT(\"'PRODUCT DATA'!$F\"&$A41&\"\"))*(INDIRECT(\"'PRODUCT DATA'!$Y\"&$A41&\"\")))*($F41/128))","v":"*"},{"$f":"IF((INDIRECT(\"'PRODUCT DATA'!$Z\"&$A41&\"\"))=0,\"*\",((INDIRECT(\"'PRODUCT DATA'!$F\"&$A41&\"\"))*(INDIRECT(\"'PRODUCT DATA'!$Z\"&$A41&\"\")))*($F41/128))","v":"*"},{"$f":"IF((INDIRECT(\"'PRODUCT DATA'!$AA\"&$A41&\"\"))=0,\"*\",((INDIRECT(\"'PRODUCT DATA'!$F\"&$A41&\"\"))*(INDIRECT(\"'PRODUCT DATA'!$AA\"&$A41&\"\")))*($F41/128))","v":"*"},{"$f":"IF((INDIRECT(\"'PRODUCT DATA'!$AB\"&$A41&\"\"))=0,\"*\",((INDIRECT(\"'PRODUCT DATA'!$F\"&$A41&\"\"))*(INDIRECT(\"'PRODUCT DATA'!$AB\"&$A41&\"\")))*($F41/128))","v":"*"}]
["47",{"$nulls":5},"*","*","*","*","*","*","*","*","*","*","*","*","*","*","*"]
["47",{"$nulls":5},"*","*","*","*","*","*","*","*","*","*","*","*","*","*","*"]
["47",{"$nulls":5},"*","*","*","*","*","*","*","*","*","*","*","*","*","*","*"]
["47",{"$nulls":5},"*","*","*","*","*","*","*","*","*","*","*","*","*","*","*"]
["47",{"$nulls":5},"*","*","*","*","*","*","*","*","*","*","*","*","*","*","*"]
[null,null,"Sub-Total (Each Application):",{"$nulls":3},{"$f":"IF(SUM(G41:G46)=0,\"0\",SUM(G41:G46))","v":"0"},"0","0","0","0","0","0","0","0","0","0","0","0","0","0"]
[null,null,"Program Sub-Total:",{"$nulls":3},{"$f":"G47*$M$13","v":{"v":0,"d":"0.0000"}},{"$f":"H47*$M$13","v":{"v":0,"d":"0.0000"}},{"v":0,"d":"0.0000"},{"v":0,"d":"0.0000"},{"v":0,"d":"0.0000"},{"v":0,"d":"0.0000"},{"v":0,"d":"0.0000"},{"v":0,"d":"0.0000"},{"v":0,"d":"0.0000"},{"v":0,"d":"0.0000"},{"v":0,"d":"0.00000"},{"v":0,"d":"0.00000"},{"v":0,"d":"0.00000"},{"v":0,"d":"0.00000"},{"v":0,"d":"0.00000"}]
[null,null,"lbs / ACRE (Each Application):",{"$nulls":3},{"$f":"IF((G47=\"*\"),\"*\",(G47*43.56))","v":{"v":0,"d":"0.000"}},{"v":0,"d":"0.000"},{"v":0,"d":"0.000"},{"v":0,"d":"0.000"},{"v":0,"d":"0.000"},{"v":0,"d":"0.000"},{"v":0,"d":"0.000"},{"v":0,"d":"0.000"},{"v":0,"d":"0.000"},{"v":0,"d":"0.000"},{"v":0,"d":"0.00000"},{"v":0,"d":"0.00000"},{"v":0,"d":"0.00000"},{"v":0,"d":"0.00000"},{"v":0,"d":"0.00000"}]
[]
[]
[null,null,"MIX #3",null,null,"oz / 1,000 FT2","LBS of Nutrient per 1,000 FT2"]
[{"$nulls":5},"RATE","N","P2O5","K2O","Ca","Mg","S","Fe","Mn","Zn","Cu","B","Si","Mo","Co","HPO3"]
[{"$f":"IF(($C54=id.32081),3,IF(($C54=id.32502),4,IF(($C54=id.20504),5,IF(($C54=id.32527),6,IF(($C54=id.32504),7,IF(($C54=id.32019),8,IF(($C54=id.32001),9,IF(($C54=id.32031),10,IF(($C54=id.25007),11,IF(($C54=id.20023),12,IF(($C54=id.32066),13,IF(($C54=id.32511),14,IF(($C54=id.32503),15,IF(($C54=id.32507),16,IF(($C54=id.32026),17,IF(($C54=id.32512),18,IF(($C54=id.32513),19,IF(($C54=id.32035),20,IF(($C54=id.32032),21,IF(($C54=id.32085),22,IF(($C54=id.32059),23,IF(($C54=id.20502),24,IF(($C54=id.32526),25,IF(($C54=id.32525),26,IF(($C54=id.32534),27,IF(($C54=id.51014),28,IF(($C54=id.51015),29,IF(($C54=id.32209),30,IF(($C54=id.32174),31,IF(($C54=id.32003),32,IF(($C54=id.20001),33,IF(($C54=id.20011),34,IF(($C54=id.49011),35,IF(($C54=id.49012),36,IF(($C54=id.42008),37,IF(($C54=id.42009),38,IF(($C54=id.x1),48,IF(($C54=id.x2),49,IF(($C54=id.x3),50,\"47\")))))))))))))))))))))))))))))))))))))))","v":"47"},{"$nulls":5},{"$f":"IF((INDIRECT(\"'PRODUCT DATA'!$L\"&$A54&\"\"))=0,\"*\",((INDIRECT(\"'PRODUCT DATA'!$F\"&$A54&\"\"))*(INDIRECT(\"'PRODUCT DATA'!$L\"&$A54&\"\")))*($F54/128))","v":"*"},{"$f":"IF((INDIRECT(\"'PRODUCT DATA'!$M\"&$A54&\"\"))=0,\"*\",((INDIRECT(\"'PRODUCT DATA'!$F\"&$A54&\"\"))*(INDIRECT(\"'PRODUCT DATA'!$M\"&$A54&\"\")))*($F54/128))","v":"*"},{"$f":"IF((INDIRECT(\"'PRODUCT DATA'!$O\"&$A54&\"\"))=0,\"*\",((INDIRECT(\"'PRODUCT DATA'!$F\"&$A54&\"\"))*(INDIRECT(\"'PRODUCT DATA'!$O\"&$A54&\"\")))*($F54/128))","v":"*"},{"$f":"IF((INDIRECT(\"'PRODUCT DATA'!$Q\"&$A54&\"\"))=0,\"*\",((INDIRECT(\"'PRODUCT DATA'!$F\"&$A54&\"\"))*(INDIRECT(\"'PRODUCT DATA'!$Q\"&$A54&\"\")))*($F54/128))","v":"*"},{"$f":"IF((INDIRECT(\"'PRODUCT DATA'!$R\"&$A54&\"\"))=0,\"*\",((INDIRECT(\"'PRODUCT DATA'!$F\"&$A54&\"\"))*(INDIRECT(\"'PRODUCT DATA'!$R\"&$A54&\"\")))*($F54/128))","v":"*"},{"$f":"IF((INDIRECT(\"'PRODUCT DATA'!$S\"&$A54&\"\"))=0,\"*\",((INDIRECT(\"'PRODUCT DATA'!$F\"&$A54&\"\"))*(INDIRECT(\"'PRODUCT DATA'!$S\"&$A54&\"\")))*($F54/128))","v":"*"},{"$f":"IF((INDIRECT(\"'PRODUCT DATA'!$T\"&$A54&\"\"))=0,\"*\",((INDIRECT(\"'PRODUCT DATA'!$F\"&$A54&\"\"))*(INDIRECT(\"'PRODUCT DATA'!$T\"&$A54&\"\")))*($F54/128))","v":"*"},{"$f":"IF((INDIRECT(\"'PRODUCT DATA'!$U\"&$A54&\"\"))=0,\"*\",((INDIRECT(\"'PRODUCT DATA'!$F\"&$A54&\"\"))*(INDIRECT(\"'PRODUCT DATA'!$U\"&$A54&\"\")))*($F54/128))","v":"*"},{"$f":"IF((INDIRECT(\"'PRODUCT DATA'!$V\"&$A54&\"\"))=0,\"*\",((INDIRECT(\"'PRODUCT DATA'!$F\"&$A54&\"\"))*(INDIRECT(\"'PRODUCT DATA'!$V\"&$A54&\"\")))*($F54/128))","v":"*"},{"$f":"IF((INDIRECT(\"'PRODUCT DATA'!$W\"&$A54&\"\"))=0,\"*\",((INDIRECT(\"'PRODUCT DATA'!$F\"&$A54&\"\"))*(INDIRECT(\"'PRODUCT DATA'!$W\"&$A54&\"\")))*($F54/128))","v":"*"},{"$f":"IF((INDIRECT(\"'PRODUCT DATA'!$X\"&$A54&\"\"))=0,\"*\",((INDIRECT(\"'PRODUCT DATA'!$F\"&$A54&\"\"))*(INDIRECT(\"'PRODUCT DATA'!$X\"&$A54&\"\")))*($F54/128))","v":"*"},{"$f":"IF((INDIRECT(\"'PRODUCT DATA'!$Y\"&$A54&\"\"))=0,\"*\",((INDIRECT(\"'PRODUCT DATA'!$F\"&$A54&\"\"))*(INDIRECT(\"'PRODUCT DATA'!$Y\"&$A54&\"\")))*($F54/128))","v":"*"},{"$f":"IF((INDIRECT(\"'PRODUCT DATA'!$Z\"&$A54&\"\"))=0,\"*\",((INDIRECT(\"'PRODUCT DATA'!$F\"&$A54&\"\"))*(INDIRECT(\"'PRODUCT DATA'!$Z\"&$A54&\"\")))*($F54/128))","v":"*"},{"$f":"IF((INDIRECT(\"'PRODUCT DATA'!$AA\"&$A54&\"\"))=0,\"*\",((INDIRECT(\"'PRODUCT DATA'!$F\"&$A54&\"\"))*(INDIRECT(\"'PRODUCT DATA'!$AA\"&$A54&\"\")))*($F54/128))","v":"*"},{"$f":"IF((INDIRECT(\"'PRODUCT DATA'!$AB\"&$A54&\"\"))=0,\"*\",((INDIRECT(\"'PRODUCT DATA'!$F\"&$A54&\"\"))*(INDIRECT(\"'PRODUCT DATA'!$AB\"&$A54&\"\")))*($F54/128))","v":"*"}]
["47",{"$nulls":5},"*","*","*","*","*","*","*","*","*","*","*","*","*","*","*"]
["47",{"$nulls":5},"*","*","*","*","*","*","*","*","*","*","*","*","*","*","*"]
["47",{"$nulls":5},"*","*","*","*","*","*","*","*","*","*","*","*","*","*","*"]
["47",{"$nulls":5},"*","*","*","*","*","*","*","*","*","*","*","*","*","*","*"]
["47",{"$nulls":5},"*","*","*","*","*","*","*","*","*","*","*","*","*","*","*"]
[null,null,"Sub-Total (Each Application):",{"$nulls":3},{"$f":"IF(SUM(G54:G59)=0,\"0\",SUM(G54:G59))","v":"0"},"0","0","0","0","0","0","0","0","0","0","0","0","0","0"]
[null,null,"Program Sub-Total:",{"$nulls":3},{"$f":"G60*$M$14","v":{"v":0,"d":"0.0000"}},{"$f":"H60*$M$14","v":{"v":0,"d":"0.0000"}},{"v":0,"d":"0.0000"},{"v":0,"d":"0.0000"},{"v":0,"d":"0.0000"},{"v":0,"d":"0.0000"},{"v":0,"d":"0.0000"},{"v":0,"d":"0.0000"},{"v":0,"d":"0.0000"},{"v":0,"d":"0.0000"},{"v":0,"d":"0.00000"},{"v":0,"d":"0.00000"},{"v":0,"d":"0.00000"},{"v":0,"d":"0.00000"},{"v":0,"d":"0.00000"}]
[null,null,"lbs / ACRE (Each Application):",{"$nulls":3},{"$f":"IF((G60=\"*\"),\"*\",(G60*43.56))","v":{"v":0,"d":"0.000"}},{"v":0,"d":"0.000"},{"v":0,"d":"0.000"},{"v":0,"d":"0.000"},{"v":0,"d":"0.000"},{"v":0,"d":"0.000"},{"v":0,"d":"0.000"},{"v":0,"d":"0.000"},{"v":0,"d":"0.000"},{"v":0,"d":"0.000"},{"v":0,"d":"0.00000"},{"v":0,"d":"0.00000"},{"v":0,"d":"0.00000"},{"v":0,"d":"0.00000"},{"v":0,"d":"0.00000"}]
[]
[null,null,"MIX #4    ",null,null,"oz / 1,000 FT2","LBS of Nutrient per 1,000 FT2"]
[{"$nulls":5},"RATE","N","P2O5","K2O","Ca","Mg","S","Fe","Mn","Zn","Cu","B","Si","Mo","Co","HPO3"]
[{"$f":"IF(($C66=id.32081),3,IF(($C66=id.32502),4,IF(($C66=id.20504),5,IF(($C66=id.32527),6,IF(($C66=id.32504),7,IF(($C66=id.32019),8,IF(($C66=id.32001),9,IF(($C66=id.32031),10,IF(($C66=id.25007),11,IF(($C66=id.20023),12,IF(($C66=id.32066),13,IF(($C66=id.32511),14,IF(($C66=id.32503),15,IF(($C66=id.32507),16,IF(($C66=id.32026),17,IF(($C66=id.32512),18,IF(($C66=id.32513),19,IF(($C66=id.32035),20,IF(($C66=id.32032),21,IF(($C66=id.32085),22,IF(($C66=id.32059),23,IF(($C66=id.20502),24,IF(($C66=id.32526),25,IF(($C66=id.32525),26,IF(($C66=id.32534),27,IF(($C66=id.51014),28,IF(($C66=id.51015),29,IF(($C66=id.32209),30,IF(($C66=id.32174),31,IF(($C66=id.32003),32,IF(($C66=id.20001),33,IF(($C66=id.20011),34,IF(($C66=id.49011),35,IF(($C66=id.49012),36,IF(($C66=id.42008),37,IF(($C66=id.42009),38,IF(($C66=id.x1),48,IF(($C66=id.x2),49,IF(($C66=id.x3),50,\"47\")))))))))))))))))))))))))))))))))))))))","v":"47"},{"$nulls":5},{"$f":"IF((INDIRECT(\"'PRODUCT DATA'!$L\"&$A66&\"\"))=0,\"*\",((INDIRECT(\"'PRODUCT DATA'!$F\"&$A66&\"\"))*(INDIRECT(\"'PRODUCT DATA'!$L\"&$A66&\"\")))*($F66/128))","v":"*"},{"$f":"IF((INDIRECT(\"'PRODUCT DATA'!$M\"&$A66&\"\"))=0,\"*\",((INDIRECT(\"'PRODUCT DATA'!$F\"&$A66&\"\"))*(INDIRECT(\"'PRODUCT DATA'!$M\"&$A66&\"\")))*($F66/128))","v":"*"},{"$f":"IF((INDIRECT(\"'PRODUCT DATA'!$O\"&$A66&\"\"))=0,\"*\",((INDIRECT(\"'PRODUCT DATA'!$F\"&$A66&\"\"))*(INDIRECT(\"'PRODUCT DATA'!$O\"&$A66&\"\")))*($F66/128))","v":"*"},{"$f":"IF((INDIRECT(\"'PRODUCT DATA'!$Q\"&$A66&\"\"))=0,\"*\",((INDIRECT(\"'PRODUCT DATA'!$F\"&$A66&\"\"))*(INDIRECT(\"'PRODUCT DATA'!$Q\"&$A66&\"\")))*($F66/128))","v":"*"},{"$f":"IF((INDIRECT(\"'PRODUCT DATA'!$R\"&$A66&\"\"))=0,\"*\",((INDIRECT(\"'PRODUCT DATA'!$F\"&$A66&\"\"))*(INDIRECT(\"'PRODUCT DATA'!$R\"&$A66&\"\")))*($F66/128))","v":"*"},{"$f":"IF((INDIRECT(\"'PRODUCT DATA'!$S\"&$A66&\"\"))=0,\"*\",((INDIRECT(\"'PRODUCT DATA'!$F\"&$A66&\"\"))*(INDIRECT(\"'PRODUCT DATA'!$S\"&$A66&\"\")))*($F66/128))","v":"*"},{"$f":"IF((INDIRECT(\"'PRODUCT DATA'!$T\"&$A66&\"\"))=0,\"*\",((INDIRECT(\"'PRODUCT DATA'!$F\"&$A66&\"\"))*(INDIRECT(\"'PRODUCT DATA'!$T\"&$A66&\"\")))*($F66/128))","v":"*"},{"$f":"IF((INDIRECT(\"'PRODUCT DATA'!$U\"&$A66&\"\"))=0,\"*\",((INDIRECT(\"'PRODUCT DATA'!$F\"&$A66&\"\"))*(INDIRECT(\"'PRODUCT DATA'!$U\"&$A66&\"\")))*($F66/128))","v":"*"},{"$f":"IF((INDIRECT(\"'PRODUCT DATA'!$V\"&$A66&\"\"))=0,\"*\",((INDIRECT(\"'PRODUCT DATA'!$F\"&$A66&\"\"))*(INDIRECT(\"'PRODUCT DATA'!$V\"&$A66&\"\")))*($F66/128))","v":"*"},{"$f":"IF((INDIRECT(\"'PRODUCT DATA'!$W\"&$A66&\"\"))=0,\"*\",((INDIRECT(\"'PRODUCT DATA'!$F\"&$A66&\"\"))*(INDIRECT(\"'PRODUCT DATA'!$W\"&$A66&\"\")))*($F66/128))","v":"*"},{"$f":"IF((INDIRECT(\"'PRODUCT DATA'!$X\"&$A66&\"\"))=0,\"*\",((INDIRECT(\"'PRODUCT DATA'!$F\"&$A66&\"\"))*(INDIRECT(\"'PRODUCT DATA'!$X\"&$A66&\"\")))*($F66/128))","v":"*"},{"$f":"IF((INDIRECT(\"'PRODUCT DATA'!$Y\"&$A66&\"\"))=0,\"*\",((INDIRECT(\"'PRODUCT DATA'!$F\"&$A66&\"\"))*(INDIRECT(\"'PRODUCT DATA'!$Y\"&$A66&\"\")))*($F66/128))","v":"*"},{"$f":"IF((INDIRECT(\"'PRODUCT DATA'!$Z\"&$A66&\"\"))=0,\"*\",((INDIRECT(\"'PRODUCT DATA'!$F\"&$A66&\"\"))*(INDIRECT(\"'PRODUCT DATA'!$Z\"&$A66&\"\")))*($F66/128))","v":"*"},{"$f":"IF((INDIRECT(\"'PRODUCT DATA'!$AA\"&$A66&\"\"))=0,\"*\",((INDIRECT(\"'PRODUCT DATA'!$F\"&$A66&\"\"))*(INDIRECT(\"'PRODUCT DATA'!$AA\"&$A66&\"\")))*($F66/128))","v":"*"},{"$f":"IF((INDIRECT(\"'PRODUCT DATA'!$AB\"&$A66&\"\"))=0,\"*\",((INDIRECT(\"'PRODUCT DATA'!$F\"&$A66&\"\"))*(INDIRECT(\"'PRODUCT DATA'!$AB\"&$A66&\"\")))*($F66/128))","v":"*"}]
["47",{"$nulls":5},"*","*","*","*","*","*","*","*","*","*","*","*","*","*","*"]
["47",{"$nulls":5},"*","*","*","*","*","*","*","*","*","*","*","*","*","*","*"]
["47",{"$nulls":5},"*","*","*","*","*","*","*","*","*","*","*","*","*","*","*"]
["47",{"$nulls":5},"*","*","*","*","*","*","*","*","*","*","*","*","*","*","*"]
["47",{"$nulls":5},"*","*","*","*","*","*","*","*","*","*","*","*","*","*","*"]
[null,null,"Sub-Total (Each Application):",{"$nulls":3},{"$f":"IF(SUM(G66:G71)=0,\"0\",SUM(G66:G71))","v":"0"},"0","0","0","0","0","0","0","0","0","0","0","0","0","0"]
[null,null,"Program Sub-Total:",{"$nulls":3},{"$f":"G72*$M$15","v":{"v":0,"d":"0.0000"}},{"$f":"H72*$M$15","v":{"v":0,"d":"0.0000"}},{"v":0,"d":"0.0000"},{"v":0,"d":"0.0000"},{"v":0,"d":"0.0000"},{"v":0,"d":"0.0000"},{"v":0,"d":"0.0000"},{"v":0,"d":"0.0000"},{"v":0,"d":"0.0000"},{"v":0,"d":"0.0000"},{"v":0,"d":"0.00000"},{"v":0,"d":"0.00000"},{"v":0,"d":"0.00000"},{"v":0,"d":"0.00000"},{"v":0,"d":"0.00000"}]
[null,null,"lbs / ACRE (Each Application):",{"$nulls":3},{"$f":"IF((G72=\"*\"),\"*\",(G72*43.56))","v":{"v":0,"d":"0.000"}},{"v":0,"d":"0.000"},{"v":0,"d":"0.000"},{"v":0,"d":"0.000"},{"v":0,"d":"0.000"},{"v":0,"d":"0.000"},{"v":0,"d":"0.000"},{"v":0,"d":"0.000"},{"v":0,"d":"0.000"},{"v":0,"d":"0.000"},{"v":0,"d":"0.00000"},{"v":0,"d":"0.00000"},{"v":0,"d":"0.00000"},{"v":0,"d":"0.00000"},{"v":0,"d":"0.00000"}]
[]
[]
[{"$nulls":5},"lbs / 1,000 FT2","LBS of Nutrient per 1,000 FT2"]
[null,null," SOLUBLE #1",null,null,"RATE","N","P2O5","K2O","Ca","Mg","S","Fe","Mn","Zn","Cu","B","Si","Mo","Co","HPO3"]
[{"$f":"IF(($C79=id.32081),3,IF(($C79=id.32502),4,IF(($C79=id.20504),5,IF(($C79=id.32527),6,IF(($C79=id.32504),7,IF(($C79=id.32019),8,IF(($C79=id.32001),9,IF(($C79=id.32031),10,IF(($C79=id.25007),11,IF(($C79=id.20023),12,IF(($C79=id.32066),13,IF(($C79=id.32511),14,IF(($C79=id.32503),15,IF(($C79=id.32507),16,IF(($C79=id.32026),17,IF(($C79=id.32512),18,IF(($C79=id.32513),19,IF(($C79=id.32035),20,IF(($C79=id.32032),21,IF(($C79=id.32085),22,IF(($C79=id.32059),23,IF(($C79=id.20502),24,IF(($C79=id.32526),25,IF(($C79=id.32525),26,IF(($C79=id.32534),27,IF(($C79=id.51014),28,IF(($C79=id.51015),29,IF(($C79=id.32209),30,IF(($C79=id.32174),31,IF(($C79=id.32003),32,IF(($C79=id.20001),33,IF(($C79=id.20011),34,IF(($C79=id.49011),35,IF(($C79=id.49012),36,IF(($C79=id.42008),37,IF(($C79=id.42009),38,IF(($C79=id.x1),48,IF(($C79=id.x2),49,IF(($C79=id.x3),50,\"47\")))))))))))))))))))))))))))))))))))))))","v":"47"},{"$nulls":5},{"$f":"IF((INDIRECT(\"'PRODUCT DATA'!$L\"&$A79&\"\"))=0,\"0\",((INDIRECT(\"'PRODUCT DATA'!$L\"&$A79&\"\"))*($F79)))","v":"0"},{"$f":"IF((INDIRECT(\"'PRODUCT DATA'!$M\"&$A79&\"\"))=0,\"0\",((INDIRECT(\"'PRODUCT DATA'!$M\"&$A79&\"\"))*($F79)))","v":"0"},{"$f":"IF((INDIRECT(\"'PRODUCT DATA'!$O\"&$A79&\"\"))=0,\"0\",((INDIRECT(\"'PRODUCT DATA'!$O\"&$A79&\"\"))*($F79)))","v":"0"},{"$f":"IF((INDIRECT(\"'PRODUCT DATA'!$Q\"&$A79&\"\"))=0,\"0\",((INDIRECT(\"'PRODUCT DATA'!$Q\"&$A79&\"\"))*($F79)))","v":"0"},{"$f":"IF((INDIRECT(\"'PRODUCT DATA'!$R\"&$A79&\"\"))=0,\"0\",((INDIRECT(\"'PRODUCT DATA'!$R\"&$A79&\"\"))*($F79)))","v":"0"},{"$f":"IF((INDIRECT(\"'PRODUCT DATA'!$S\"&$A79&\"\"))=0,\"0\",((INDIRECT(\"'PRODUCT DATA'!$S\"&$A79&\"\"))*($F79)))","v":"0"},{"$f":"IF((INDIRECT(\"'PRODUCT DATA'!$T\"&$A79&\"\"))=0,\"0\",((INDIRECT(\"'PRODUCT DATA'!$T\"&$A79&\"\"))*($F79)))","v":"0"},{"$f":"IF((INDIRECT(\"'PRODUCT DATA'!$U\"&$A79&\"\"))=0,\"0\",((INDIRECT(\"'PRODUCT DATA'!$U\"&$A79&\"\"))*($F79)))","v":"0"},{"$f":"IF((INDIRECT(\"'PRODUCT DATA'!$V\"&$A79&\"\"))=0,\"0\",((INDIRECT(\"'PRODUCT DATA'!$V\"&$A79&\"\"))*($F79)))","v":"0"},{"$f":"IF((INDIRECT(\"'PRODUCT DATA'!$W\"&$A79&\"\"))=0,\"0\",((INDIRECT(\"'PRODUCT DATA'!$W\"&$A79&\"\"))*($F79)))","v":"0"},{"$f":"IF((INDIRECT(\"'PRODUCT DATA'!$X\"&$A79&\"\"))=0,\"0\",((INDIRECT(\"'PRODUCT DATA'!$X\"&$A79&\"\"))*($F79)))","v":"0"},{"$f":"IF((INDIRECT(\"'PRODUCT DATA'!$Y\"&$A79&\"\"))=0,\"0\",((INDIRECT(\"'PRODUCT DATA'!$Y\"&$A79&\"\"))*($F79)))","v":"0"},{"$f":"IF((INDIRECT(\"'PRODUCT DATA'!$Z\"&$A79&\"\"))=0,\"0\",((INDIRECT(\"'PRODUCT DATA'!$Z\"&$A79&\"\"))*($F79)))","v":"0"},{"$f":"IF((INDIRECT(\"'PRODUCT DATA'!$AA\"&$A79&\"\"))=0,\"0\",((INDIRECT(\"'PRODUCT DATA'!$AA\"&$A79&\"\"))*($F79)))","v":"0"},{"$f":"IF((INDIRECT(\"'PRODUCT DATA'!$AB\"&$A79&\"\"))=0,\"0\",((INDIRECT(\"'PRODUCT DATA'!$AB\"&$A79&\"\"))*($F79)))","v":"0"}]
[null,null,"Program Sub-Total:",{"$nulls":3},{"$f":"G79*$R$12","v":{"v":0,"d":"0.000"}},{"$f":"H79*$R$12","v":{"v":0,"d":"0.000"}},{"v":0,"d":"0.000"},{"v":0,"d":"0.000"},{"v":0,"d":"0.000"},{"v":0,"d":"0.000"},{"v":0,"d":"0.000"},{"v":0,"d":"0.000"},{"v":0,"d":"0.000"},{"v":0,"d":"0.000"},{"v":0,"d":"0.00000"},{"v":0,"d":"0.00000"},{"v":0,"d":"0.00000"},{"v":0,"d":"0.00000"},{"v":0,"d":"0.00000"}]
[null,null,"lbs / ACRE:",{"$nulls":3},{"$f":"IF((G79=\"*\"),\"*\",(G79*43.56))","v":{"v":0,"d":"0.000"}},{"v":0,"d":"0.000"},{"v":0,"d":"0.000"},{"v":0,"d":"0.000"},{"v":0,"d":"0.000"},{"v":0,"d":"0.000"},{"v":0,"d":"0.000"},{"v":0,"d":"0.000"},{"v":0,"d":"0.000"},{"v":0,"d":"0.000"},{"v":0,"d":"0.00000"},{"v":0,"d":"0.00000"},{"v":0,"d":"0.00000"},{"v":0,"d":"0.00000"},{"v":0,"d":"0.00000"}]
[null,null,"GRANULAR #1",null,null,"RATE"]
[{"$f":"IF(($C83=id.30049),52,IF(($C83=id.30082),53,IF(($C83=id.30050),54,IF(($C83=id.30051),55,IF(($C83=id.30077),56,IF(($C83=id.z1),73,IF(($C83=id.z2),74,\"72\")))))))","v":"72"},{"$nulls":5},{"$f":"IF((INDIRECT(\"'PRODUCT DATA'!$L\"&$A83&\"\"))=0,\"*\",((INDIRECT(\"'PRODUCT DATA'!$L\"&$A83&\"\"))*($F83)))","v":"*"},{"$f":"IF((INDIRECT(\"'PRODUCT DATA'!$M\"&$A83&\"\"))=0,\"*\",((INDIRECT(\"'PRODUCT DATA'!$M\"&$A83&\"\"))*($F83)))","v":"*"},{"$f":"IF((INDIRECT(\"'PRODUCT DATA'!$O\"&$A83&\"\"))=0,\"*\",((INDIRECT(\"'PRODUCT DATA'!$O\"&$A83&\"\"))*($F83)))","v":"*"},{"$f":"IF((INDIRECT(\"'PRODUCT DATA'!$Q\"&$A83&\"\"))=0,\"*\",((INDIRECT(\"'PRODUCT DATA'!$Q\"&$A83&\"\"))*($F83)))","v":"*"},{"$f":"IF((INDIRECT(\"'PRODUCT DATA'!$R\"&$A83&\"\"))=0,\"*\",((INDIRECT(\"'PRODUCT DATA'!$R\"&$A83&\"\"))*($F83)))","v":"*"},{"$f":"IF((INDIRECT(\"'PRODUCT DATA'!$S\"&$A83&\"\"))=0,\"*\",((INDIRECT(\"'PRODUCT DATA'!$S\"&$A83&\"\"))*($F83)))","v":"*"},{"$f":"IF((INDIRECT(\"'PRODUCT DATA'!$T\"&$A83&\"\"))=0,\"*\",((INDIRECT(\"'PRODUCT DATA'!$T\"&$A83&\"\"))*($F83)))","v":"*"},{"$f":"IF((INDIRECT(\"'PRODUCT DATA'!$U\"&$A83&\"\"))=0,\"*\",((INDIRECT(\"'PRODUCT DATA'!$U\"&$A83&\"\"))*($F83)))","v":"*"},{"$f":"IF((INDIRECT(\"'PRODUCT DATA'!$V\"&$A83&\"\"))=0,\"*\",((INDIRECT(\"'PRODUCT DATA'!$V\"&$A83&\"\"))*($F83)))","v":"*"},{"$f":"IF((INDIRECT(\"'PRODUCT DATA'!$W\"&$A83&\"\"))=0,\"*\",((INDIRECT(\"'PRODUCT DATA'!$W\"&$A83&\"\"))*($F83)))","v":"*"},{"$f":"IF((INDIRECT(\"'PRODUCT DATA'!$X\"&$A83&\"\"))=0,\"*\",((INDIRECT(\"'PRODUCT DATA'!$X\"&$A83&\"\"))*($F83)))","v":"*"},{"$f":"IF((INDIRECT(\"'PRODUCT DATA'!$Y\"&$A83&\"\"))=0,\"*\",((INDIRECT(\"'PRODUCT DATA'!$Y\"&$A83&\"\"))*($F83)))","v":"*"},{"$f":"IF((INDIRECT(\"'PRODUCT DATA'!$Z\"&$A83&\"\"))=0,\"*\",((INDIRECT(\"'PRODUCT DATA'!$Z\"&$A83&\"\"))*($F83)))","v":"*"},{"$f":"IF((INDIRECT(\"'PRODUCT DATA'!$AA\"&$A83&\"\"))=0,\"*\",((INDIRECT(\"'PRODUCT DATA'!$AA\"&$A83&\"\"))*($F83)))","v":"*"},{"$f":"IF((INDIRECT(\"'PRODUCT DATA'!$AB\"&$A83&\"\"))=0,\"*\",((INDIRECT(\"'PRODUCT DATA'!$AB\"&$A83&\"\"))*($F83)))","v":"*"}]
[{"$f":"IF(($C84=id.30049),52,IF(($C84=id.30082),53,IF(($C84=id.30050),54,IF(($C84=id.30051),55,IF(($C84=id.30077),56,IF(($C84=id.z1),73,IF(($C84=id.z2),74,\"72\")))))))","v":"72"},{"$nulls":5},{"$f":"IF((INDIRECT(\"'PRODUCT DATA'!$L\"&$A84&\"\"))=0,\"*\",((INDIRECT(\"'PRODUCT DATA'!$L\"&$A84&\"\"))*($F84)))","v":"*"},{"$f":"IF((INDIRECT(\"'PRODUCT DATA'!$M\"&$A84&\"\"))=0,\"*\",((INDIRECT(\"'PRODUCT DATA'!$M\"&$A84&\"\"))*($F84)))","v":"*"},{"$f":"IF((INDIRECT(\"'PRODUCT DATA'!$O\"&$A84&\"\"))=0,\"*\",((INDIRECT(\"'PRODUCT DATA'!$O\"&$A84&\"\"))*($F84)))","v":"*"},{"$f":"IF((INDIRECT(\"'PRODUCT DATA'!$Q\"&$A84&\"\"))=0,\"*\",((INDIRECT(\"'PRODUCT DATA'!$Q\"&$A84&\"\"))*($F84)))","v":"*"},{"$f":"IF((INDIRECT(\"'PRODUCT DATA'!$R\"&$A84&\"\"))=0,\"*\",((INDIRECT(\"'PRODUCT DATA'!$R\"&$A84&\"\"))*($F84)))","v":"*"},{"$f":"IF((INDIRECT(\"'PRODUCT DATA'!$S\"&$A84&\"\"))=0,\"*\",((INDIRECT(\"'PRODUCT DATA'!$S\"&$A84&\"\"))*($F84)))","v":"*"},{"$f":"IF((INDIRECT(\"'PRODUCT DATA'!$T\"&$A84&\"\"))=0,\"*\",((INDIRECT(\"'PRODUCT DATA'!$T\"&$A84&\"\"))*($F84)))","v":"*"},{"$f":"IF((INDIRECT(\"'PRODUCT DATA'!$U\"&$A84&\"\"))=0,\"*\",((INDIRECT(\"'PRODUCT DATA'!$U\"&$A84&\"\"))*($F84)))","v":"*"},{"$f":"IF((INDIRECT(\"'PRODUCT DATA'!$V\"&$A84&\"\"))=0,\"*\",((INDIRECT(\"'PRODUCT DATA'!$V\"&$A84&\"\"))*($F84)))","v":"*"},{"$f":"IF((INDIRECT(\"'PRODUCT DATA'!$W\"&$A84&\"\"))=0,\"*\",((INDIRECT(\"'PRODUCT DATA'!$W\"&$A84&\"\"))*($F84)))","v":"*"},{"$f":"IF((INDIRECT(\"'PRODUCT DATA'!$X\"&$A84&\"\"))=0,\"*\",((INDIRECT(\"'PRODUCT DATA'!$X\"&$A84&\"\"))*($F84)))","v":"*"},{"$f":"IF((INDIRECT(\"'PRODUCT DATA'!$Y\"&$A84&\"\"))=0,\"*\",((INDIRECT(\"'PRODUCT DATA'!$Y\"&$A84&\"\"))*($F84)))","v":"*"},{"$f":"IF((INDIRECT(\"'PRODUCT DATA'!$Z\"&$A84&\"\"))=0,\"*\",((INDIRECT(\"'PRODUCT DATA'!$Z\"&$A84&\"\"))*($F84)))","v":"*"},{"$f":"IF((INDIRECT(\"'PRODUCT DATA'!$AA\"&$A84&\"\"))=0,\"*\",((INDIRECT(\"'PRODUCT DATA'!$AA\"&$A84&\"\"))*($F84)))","v":"*"},{"$f":"IF((INDIRECT(\"'PRODUCT DATA'!$AB\"&$A84&\"\"))=0,\"*\",((INDIRECT(\"'PRODUCT DATA'!$AB\"&$A84&\"\"))*($F84)))","v":"*"}]
[null,null,"Sub-Total (Each Application):",{"$nulls":3},{"$f":"IF(SUM(G83:G84)=0,\"0\",SUM(G83:G84))","v":"0"},{"$f":"IF(SUM(H83:H84)=0,\"0\",SUM(H83:H84))","v":"0"},"0","0","0","0","0","0","0","0","0","0","0","0","0"]
[null,null,"Program Sub-Total:",{"$nulls":3},{"$f":"(G85)*$R$13","v":{"v":0,"d":"0.000"}},{"$f":"(H85)*$R$13","v":{"v":0,"d":"0.000"}},{"v":0,"d":"0.000"},{"v":0,"d":"0.000"},{"v":0,"d":"0.000"},{"v":0,"d":"0.000"},{"v":0,"d":"0.000"},{"v":0,"d":"0.000"},{"v":0,"d":"0.000"},{"v":0,"d":"0.000"},{"v":0,"d":"0.000"},{"v":0,"d":"0.000"},{"v":0,"d":"0.000"},{"v":0,"d":"0.000"},{"v":0,"d":"0.000"}]
[null,null,"lbs / ACRE:",{"$nulls":3},{"$f":"IF((G85=\"*\"),\"*\",(G85*43.56))","v":{"v":0,"d":"0.000"}},{"$f":"IF((H85=\"*\"),\"*\",(H85*43.56))","v":{"v":0,"d":"0.000"}},{"v":0,"d":"0.000"},{"v":0,"d":"0.000"},{"v":0,"d":"0.000"},{"v":0,"d":"0.000"},{"v":0,"d":"0.000"},{"v":0,"d":"0.000"},{"v":0,"d":"0.000"},{"v":0,"d":"0.000"},{"v":0,"d":"0.000"},{"v":0,"d":"0.000"},{"v":0,"d":"0.000"},{"v":0,"d":"0.000"},{"v":0,"d":"0.000"}]
[null,null,"GRANULAR #2",null,null,"RATE"]
[{"$f":"IF(($C89=id.30049),52,IF(($C89=id.30082),53,IF(($C89=id.30050),54,IF(($C89=id.30051),55,IF(($C89=id.30077),56,IF(($C89=id.z1),73,IF(($C89=id.z2),74,\"72\")))))))","v":"72"},{"$nulls":5},{"$f":"IF((INDIRECT(\"'PRODUCT DATA'!$L\"&$A89&\"\"))=0,\"*\",((INDIRECT(\"'PRODUCT DATA'!$L\"&$A89&\"\"))*($F89)))","v":"*"},{"$f":"IF((INDIRECT(\"'PRODUCT DATA'!$M\"&$A89&\"\"))=0,\"*\",((INDIRECT(\"'PRODUCT DATA'!$M\"&$A89&\"\"))*($F89)))","v":"*"},{"$f":"IF((INDIRECT(\"'PRODUCT DATA'!$O\"&$A89&\"\"))=0,\"*\",((INDIRECT(\"'PRODUCT DATA'!$O\"&$A89&\"\"))*($F89)))","v":"*"},{"$f":"IF((INDIRECT(\"'PRODUCT DATA'!$Q\"&$A89&\"\"))=0,\"*\",((INDIRECT(\"'PRODUCT DATA'!$Q\"&$A89&\"\"))*($F89)))","v":"*"},{"$f":"IF((INDIRECT(\"'PRODUCT DATA'!$R\"&$A89&\"\"))=0,\"*\",((INDIRECT(\"'PRODUCT DATA'!$R\"&$A89&\"\"))*($F89)))","v":"*"},{"$f":"IF((INDIRECT(\"'PRODUCT DATA'!$S\"&$A89&\"\"))=0,\"*\",((INDIRECT(\"'PRODUCT DATA'!$S\"&$A89&\"\"))*($F89)))","v":"*"},{"$f":"IF((INDIRECT(\"'PRODUCT DATA'!$T\"&$A89&\"\"))=0,\"*\",((INDIRECT(\"'PRODUCT DATA'!$T\"&$A89&\"\"))*($F89)))","v":"*"},{"$f":"IF((INDIRECT(\"'PRODUCT DATA'!$U\"&$A89&\"\"))=0,\"*\",((INDIRECT(\"'PRODUCT DATA'!$U\"&$A89&\"\"))*($F89)))","v":"*"},{"$f":"IF((INDIRECT(\"'PRODUCT DATA'!$V\"&$A89&\"\"))=0,\"*\",((INDIRECT(\"'PRODUCT DATA'!$V\"&$A89&\"\"))*($F89)))","v":"*"},{"$f":"IF((INDIRECT(\"'PRODUCT DATA'!$W\"&$A89&\"\"))=0,\"*\",((INDIRECT(\"'PRODUCT DATA'!$W\"&$A89&\"\"))*($F89)))","v":"*"},{"$f":"IF((INDIRECT(\"'PRODUCT DATA'!$X\"&$A89&\"\"))=0,\"*\",((INDIRECT(\"'PRODUCT DATA'!$X\"&$A89&\"\"))*($F89)))","v":"*"},{"$f":"IF((INDIRECT(\"'PRODUCT DATA'!$Y\"&$A89&\"\"))=0,\"*\",((INDIRECT(\"'PRODUCT DATA'!$Y\"&$A89&\"\"))*($F89)))","v":"*"},{"$f":"IF((INDIRECT(\"'PRODUCT DATA'!$Z\"&$A89&\"\"))=0,\"*\",((INDIRECT(\"'PRODUCT DATA'!$Z\"&$A89&\"\"))*($F89)))","v":"*"},{"$f":"IF((INDIRECT(\"'PRODUCT DATA'!$AA\"&$A89&\"\"))=0,\"*\",((INDIRECT(\"'PRODUCT DATA'!$AA\"&$A89&\"\"))*($F89)))","v":"*"},{"$f":"IF((INDIRECT(\"'PRODUCT DATA'!$AB\"&$A89&\"\"))=0,\"*\",((INDIRECT(\"'PRODUCT DATA'!$AB\"&$A89&\"\"))*($F89)))","v":"*"}]
[{"$f":"IF(($C90=id.30049),52,IF(($C90=id.30082),53,IF(($C90=id.30050),54,IF(($C90=id.30051),55,IF(($C90=id.30077),56,IF(($C90=id.z1),73,IF(($C90=id.z2),74,\"72\")))))))","v":"72"},{"$nulls":5},{"$f":"IF((INDIRECT(\"'PRODUCT DATA'!$L\"&$A90&\"\"))=0,\"*\",((INDIRECT(\"'PRODUCT DATA'!$L\"&$A90&\"\"))*($F90)))","v":"*"},{"$f":"IF((INDIRECT(\"'PRODUCT DATA'!$M\"&$A90&\"\"))=0,\"*\",((INDIRECT(\"'PRODUCT DATA'!$M\"&$A90&\"\"))*($F90)))","v":"*"},{"$f":"IF((INDIRECT(\"'PRODUCT DATA'!$O\"&$A90&\"\"))=0,\"*\",((INDIRECT(\"'PRODUCT DATA'!$O\"&$A90&\"\"))*($F90)))","v":"*"},{"$f":"IF((INDIRECT(\"'PRODUCT DATA'!$Q\"&$A90&\"\"))=0,\"*\",((INDIRECT(\"'PRODUCT DATA'!$Q\"&$A90&\"\"))*($F90)))","v":"*"},{"$f":"IF((INDIRECT(\"'PRODUCT DATA'!$R\"&$A90&\"\"))=0,\"*\",((INDIRECT(\"'PRODUCT DATA'!$R\"&$A90&\"\"))*($F90)))","v":"*"},{"$f":"IF((INDIRECT(\"'PRODUCT DATA'!$S\"&$A90&\"\"))=0,\"*\",((INDIRECT(\"'PRODUCT DATA'!$S\"&$A90&\"\"))*($F90)))","v":"*"},{"$f":"IF((INDIRECT(\"'PRODUCT DATA'!$T\"&$A90&\"\"))=0,\"*\",((INDIRECT(\"'PRODUCT DATA'!$T\"&$A90&\"\"))*($F90)))","v":"*"},{"$f":"IF((INDIRECT(\"'PRODUCT DATA'!$U\"&$A90&\"\"))=0,\"*\",((INDIRECT(\"'PRODUCT DATA'!$U\"&$A90&\"\"))*($F90)))","v":"*"},{"$f":"IF((INDIRECT(\"'PRODUCT DATA'!$V\"&$A90&\"\"))=0,\"*\",((INDIRECT(\"'PRODUCT DATA'!$V\"&$A90&\"\"))*($F90)))","v":"*"},{"$f":"IF((INDIRECT(\"'PRODUCT DATA'!$W\"&$A90&\"\"))=0,\"*\",((INDIRECT(\"'PRODUCT DATA'!$W\"&$A90&\"\"))*($F90)))","v":"*"},{"$f":"IF((INDIRECT(\"'PRODUCT DATA'!$X\"&$A90&\"\"))=0,\"*\",((INDIRECT(\"'PRODUCT DATA'!$X\"&$A90&\"\"))*($F90)))","v":"*"},{"$f":"IF((INDIRECT(\"'PRODUCT DATA'!$Y\"&$A90&\"\"))=0,\"*\",((INDIRECT(\"'PRODUCT DATA'!$Y\"&$A90&\"\"))*($F90)))","v":"*"},{"$f":"IF((INDIRECT(\"'PRODUCT DATA'!$Z\"&$A90&\"\"))=0,\"*\",((INDIRECT(\"'PRODUCT DATA'!$Z\"&$A90&\"\"))*($F90)))","v":"*"},{"$f":"IF((INDIRECT(\"'PRODUCT DATA'!$AA\"&$A90&\"\"))=0,\"*\",((INDIRECT(\"'PRODUCT DATA'!$AA\"&$A90&\"\"))*($F90)))","v":"*"},{"$f":"IF((INDIRECT(\"'PRODUCT DATA'!$AB\"&$A90&\"\"))=0,\"*\",((INDIRECT(\"'PRODUCT DATA'!$AB\"&$A90&\"\"))*($F90)))","v":"*"}]
[null,null,"Sub-Total (Each Application):",{"$nulls":3},{"$f":"IF(SUM(G89:G90)=0,\"0\",SUM(G89:G90))","v":"0"},{"$f":"IF(SUM(H89:H90)=0,\"0\",SUM(H89:H90))","v":"0"},"0","0","0","0","0","0","0","0","0","0","0","0","0"]
[null,null,"Program Sub-Total:",{"$nulls":3},{"$f":"G91*$R$14","v":{"v":0,"d":"0.000"}},{"$f":"H91*$R$14","v":{"v":0,"d":"0.000"}},{"v":0,"d":"0.000"},{"v":0,"d":"0.000"},{"v":0,"d":"0.000"},{"v":0,"d":"0.000"},{"v":0,"d":"0.000"},{"v":0,"d":"0.000"},{"v":0,"d":"0.000"},{"v":0,"d":"0.000"},{"v":0,"d":"0.000"},{"v":0,"d":"0.000"},{"v":0,"d":"0.000"},{"v":0,"d":"0.000"},{"v":0,"d":"0.000"}]
[null,null,"lbs / ACRE:",{"$nulls":3},{"$f":"IF((G91=\"*\"),\"*\",(G91*43.56))","v":{"v":0,"d":"0.000"}},{"$f":"IF((H91=\"*\"),\"*\",(H91*43.56))","v":{"v":0,"d":"0.000"}},{"v":0,"d":"0.000"},{"v":0,"d":"0.000"},{"v":0,"d":"0.000"},{"v":0,"d":"0.000"},{"v":0,"d":"0.000"},{"v":0,"d":"0.000"},{"v":0,"d":"0.000"},{"v":0,"d":"0.000"},{"v":0,"d":"0.000"},{"v":0,"d":"0.000"},{"v":0,"d":"0.000"},{"v":0,"d":"0.000"},{"v":0,"d":"0.000"}]
[null,null,"GRANULAR #3",null,null,"RATE"]
[{"$f":"IF(($C95=id.30049),52,IF(($C95=id.30082),53,IF(($C95=id.30050),54,IF(($C95=id.30051),55,IF(($C95=id.30077),56,IF(($C95=id.z1),73,IF(($C95=id.z2),74,\"72\")))))))","v":"72"},{"$nulls":5},{"$f":"IF((INDIRECT(\"'PRODUCT DATA'!$L\"&$A95&\"\"))=0,\"*\",((INDIRECT(\"'PRODUCT DATA'!$L\"&$A95&\"\"))*($F95)))","v":"*"},{"$f":"IF((INDIRECT(\"'PRODUCT DATA'!$M\"&$A95&\"\"))=0,\"*\",((INDIRECT(\"'PRODUCT DATA'!$M\"&$A95&\"\"))*($F95)))","v":"*"},{"$f":"IF((INDIRECT(\"'PRODUCT DATA'!$O\"&$A95&\"\"))=0,\"*\",((INDIRECT(\"'PRODUCT DATA'!$O\"&$A95&\"\"))*($F95)))","v":"*"},{"$f":"IF((INDIRECT(\"'PRODUCT DATA'!$Q\"&$A95&\"\"))=0,\"*\",((INDIRECT(\"'PRODUCT DATA'!$Q\"&$A95&\"\"))*($F95)))","v":"*"},{"$f":"IF((INDIRECT(\"'PRODUCT DATA'!$R\"&$A95&\"\"))=0,\"*\",((INDIRECT(\"'PRODUCT DATA'!$R\"&$A95&\"\"))*($F95)))","v":"*"},{"$f":"IF((INDIRECT(\"'PRODUCT DATA'!$S\"&$A95&\"\"))=0,\"*\",((INDIRECT(\"'PRODUCT DATA'!$S\"&$A95&\"\"))*($F95)))","v":"*"},{"$f":"IF((INDIRECT(\"'PRODUCT DATA'!$T\"&$A95&\"\"))=0,\"*\",((INDIRECT(\"'PRODUCT DATA'!$T\"&$A95&\"\"))*($F95)))","v":"*"},{"$f":"IF((INDIRECT(\"'PRODUCT DATA'!$U\"&$A95&\"\"))=0,\"*\",((INDIRECT(\"'PRODUCT DATA'!$U\"&$A95&\"\"))*($F95)))","v":"*"},{"$f":"IF((INDIRECT(\"'PRODUCT DATA'!$V\"&$A95&\"\"))=0,\"*\",((INDIRECT(\"'PRODUCT DATA'!$V\"&$A95&\"\"))*($F95)))","v":"*"},{"$f":"IF((INDIRECT(\"'PRODUCT DATA'!$W\"&$A95&\"\"))=0,\"*\",((INDIRECT(\"'PRODUCT DATA'!$W\"&$A95&\"\"))*($F95)))","v":"*"},{"$f":"IF((INDIRECT(\"'PRODUCT DATA'!$X\"&$A95&\"\"))=0,\"*\",((INDIRECT(\"'PRODUCT DATA'!$X\"&$A95&\"\"))*($F95)))","v":"*"},{"$f":"IF((INDIRECT(\"'PRODUCT DATA'!$Y\"&$A95&\"\"))=0,\"*\",((INDIRECT(\"'PRODUCT DATA'!$Y\"&$A95&\"\"))*($F95)))","v":"*"},{"$f":"IF((INDIRECT(\"'PRODUCT DATA'!$Z\"&$A95&\"\"))=0,\"*\",((INDIRECT(\"'PRODUCT DATA'!$Z\"&$A95&\"\"))*($F95)))","v":"*"},{"$f":"IF((INDIRECT(\"'PRODUCT DATA'!$AA\"&$A95&\"\"))=0,\"*\",((INDIRECT(\"'PRODUCT DATA'!$AA\"&$A95&\"\"))*($F95)))","v":"*"},{"$f":"IF((INDIRECT(\"'PRODUCT DATA'!$AB\"&$A95&\"\"))=0,\"*\",((INDIRECT(\"'PRODUCT DATA'!$AB\"&$A95&\"\"))*($F95)))","v":"*"}]
[{"$f":"IF(($C96=id.30049),52,IF(($C96=id.30082),53,IF(($C96=id.30050),54,IF(($C96=id.30051),55,IF(($C96=id.30077),56,IF(($C96=id.z1),73,IF(($C96=id.z2),74,\"72\")))))))","v":"72"},{"$nulls":5},{"$f":"IF((INDIRECT(\"'PRODUCT DATA'!$L\"&$A96&\"\"))=0,\"*\",((INDIRECT(\"'PRODUCT DATA'!$L\"&$A96&\"\"))*($F96)))","v":"*"},{"$f":"IF((INDIRECT(\"'PRODUCT DATA'!$M\"&$A96&\"\"))=0,\"*\",((INDIRECT(\"'PRODUCT DATA'!$M\"&$A96&\"\"))*($F96)))","v":"*"},{"$f":"IF((INDIRECT(\"'PRODUCT DATA'!$O\"&$A96&\"\"))=0,\"*\",((INDIRECT(\"'PRODUCT DATA'!$O\"&$A96&\"\"))*($F96)))","v":"*"},{"$f":"IF((INDIRECT(\"'PRODUCT DATA'!$Q\"&$A96&\"\"))=0,\"*\",((INDIRECT(\"'PRODUCT DATA'!$Q\"&$A96&\"\"))*($F96)))","v":"*"},{"$f":"IF((INDIRECT(\"'PRODUCT DATA'!$R\"&$A96&\"\"))=0,\"*\",((INDIRECT(\"'PRODUCT DATA'!$R\"&$A96&\"\"))*($F96)))","v":"*"},{"$f":"IF((INDIRECT(\"'PRODUCT DATA'!$S\"&$A96&\"\"))=0,\"*\",((INDIRECT(\"'PRODUCT DATA'!$S\"&$A96&\"\"))*($F96)))","v":"*"},{"$f":"IF((INDIRECT(\"'PRODUCT DATA'!$T\"&$A96&\"\"))=0,\"*\",((INDIRECT(\"'PRODUCT DATA'!$T\"&$A96&\"\"))*($F96)))","v":"*"},{"$f":"IF((INDIRECT(\"'PRODUCT DATA'!$U\"&$A96&\"\"))=0,\"*\",((INDIRECT(\"'PRODUCT DATA'!$U\"&$A96&\"\"))*($F96)))","v":"*"},{"$f":"IF((INDIRECT(\"'PRODUCT DATA'!$V\"&$A96&\"\"))=0,\"*\",((INDIRECT(\"'PRODUCT DATA'!$V\"&$A96&\"\"))*($F96)))","v":"*"},{"$f":"IF((INDIRECT(\"'PRODUCT DATA'!$W\"&$A96&\"\"))=0,\"*\",((INDIRECT(\"'PRODUCT DATA'!$W\"&$A96&\"\"))*($F96)))","v":"*"},{"$f":"IF((INDIRECT(\"'PRODUCT DATA'!$X\"&$A96&\"\"))=0,\"*\",((INDIRECT(\"'PRODUCT DATA'!$X\"&$A96&\"\"))*($F96)))","v":"*"},{"$f":"IF((INDIRECT(\"'PRODUCT DATA'!$Y\"&$A96&\"\"))=0,\"*\",((INDIRECT(\"'PRODUCT DATA'!$Y\"&$A96&\"\"))*($F96)))","v":"*"},{"$f":"IF((INDIRECT(\"'PRODUCT DATA'!$Z\"&$A96&\"\"))=0,\"*\",((INDIRECT(\"'PRODUCT DATA'!$Z\"&$A96&\"\"))*($F96)))","v":"*"},{"$f":"IF((INDIRECT(\"'PRODUCT DATA'!$AA\"&$A96&\"\"))=0,\"*\",((INDIRECT(\"'PRODUCT DATA'!$AA\"&$A96&\"\"))*($F96)))","v":"*"},{"$f":"IF((INDIRECT(\"'PRODUCT DATA'!$AB\"&$A96&\"\"))=0,\"*\",((INDIRECT(\"'PRODUCT DATA'!$AB\"&$A96&\"\"))*($F96)))","v":"*"}]
[null,null,"Sub-Total (Each Application):",{"$nulls":3},{"$f":"IF(SUM(G95:G96)=0,\"0\",SUM(G95:G96))","v":"0"},{"$f":"IF(SUM(H95:H96)=0,\"0\",SUM(H95:H96))","v":"0"},"0","0","0","0","0","0","0","0","0","0","0","0","0"]
[null,null,"Program Sub-Total:",{"$nulls":3},{"$f":"G97*$R$15","v":{"v":0,"d":"0.000"}},{"$f":"H97*$R$15","v":{"v":0,"d":"0.000"}},{"v":0,"d":"0.000"},{"v":0,"d":"0.000"},{"v":0,"d":"0.000"},{"v":0,"d":"0.000"},{"v":0,"d":"0.000"},{"v":0,"d":"0.000"},{"v":0,"d":"0.000"},{"v":0,"d":"0.000"},{"v":0,"d":"0.000"},{"v":0,"d":"0.000"},{"v":0,"d":"0.000"},{"v":0,"d":"0.000"},{"v":0,"d":"0.000"}]
[null,null,"lbs / ACRE:",{"$nulls":3},{"$f":"IF((G97=\"*\"),\"*\",(G97*43.56))","v":{"v":0,"d":"0.000"}},{"$f":"IF((H97=\"*\"),\"*\",(H97*43.56))","v":{"v":0,"d":"0.000"}},{"v":0,"d":"0.000"},{"v":0,"d":"0.000"},{"v":0,"d":"0.000"},{"v":0,"d":"0.000"},{"v":0,"d":"0.000"},{"v":0,"d":"0.000"},{"v":0,"d":"0.000"},{"v":0,"d":"0.000"},{"v":0,"d":"0.000"},{"v":0,"d":"0.000"},{"v":0,"d":"0.000"},{"v":0,"d":"0.000"},{"v":0,"d":"0.000"}]
[]
[{"$nulls":21},{"$f":"_xlfn.SINGLE(id.32081)","v":"BRANDT Foli-Cal "}]
[{"$nulls":21},{"$f":"_xlfn.SINGLE(id.32502)","v":"BRANDT Manni-Plex Cal-Mag"}]
[{"$nulls":21},{"$f":"_xlfn.SINGLE(id.20504)","v":"BRANDT Manni-Plex Eagle "}]
[{"$nulls":21},{"$f":"_xlfn.SINGLE(id.32527)","v":"BRANDT Manni-Plex Fe "}]
[{"$nulls":21},{"$f":"_xlfn.SINGLE(id.32504)","v":"BRANDT Manni-Plex Grow"}]
[{"$nulls":21},{"$f":"_xlfn.SINGLE(id.32019)","v":"BRANDT Manni-Plex K "}]
[{"$nulls":21},{"$f":"_xlfn.SINGLE(id.32001)","v":"BRANDT Manni-Plex Mg "}]
[{"$nulls":21},{"$f":"_xlfn.SINGLE(id.32031)","v":"BRANDT Manni-Plex Mn "}]
[{"$nulls":21},{"$f":"_xlfn.SINGLE(id.25007)","v":"BRANDT Manni-Plex Root Builder"}]
[{"$nulls":21},{"$f":"_xlfn.SINGLE(id.20023)","v":"BRANDT Manni-Plex Si "}]
[{"$nulls":21},{"$f":"_xlfn.SINGLE(id.32066)","v":"BRANDT Manni-Plex Total Turf "}]
[{"$nulls":21},{"$f":"_xlfn.SINGLE(id.32511)","v":"BRANDT Manni-Plex Traffic"}]
[{"$nulls":21},{"$f":"_xlfn.SINGLE(id.32503)","v":"BRANDT Manni-Plex Ultra Turf "}]
[{"$nulls":21},{"$f":"_xlfn.SINGLE(id.32507)","v":"BRANDT Manni-Plex Ni 5%"}]
[{"$nulls":21},{"$f":"_xlfn.SINGLE(id.32026)","v":"BRANDT Manni-Plex Zn "}]
[{"$nulls":21},{"$f":"_xlfn.SINGLE(id.32512)","v":"BRANDT Organiplex 8% Ca "}]
[{"$nulls":21},{"$f":"_xlfn.SINGLE(id.32513)","v":"BRANDT Organiplex MicroMix "}]
[{"$nulls":21},{"$f":"_xlfn.SINGLE(id.32035)","v":"BRANDT Organiplex 4% Fe "}]
[{"$nulls":21},{"$f":"_xlfn.SINGLE(id.32032)","v":"BRANDT Organiplex 4% Mn "}]
[{"$nulls":21},{"$f":"_xlfn.SINGLE(id.32085)","v":"BRANDT Converge SRN 18-0-6"}]
[{"$nulls":21},{"$f":"_xlfn.SINGLE(id.32059)","v":"BRANDT Converge SRN 18-3-6"}]
[{"$nulls":21},{"$f":"_xlfn.SINGLE(id.20502)","v":"BRANDT Converge SRN 30-0-0"}]
[{"$nulls":21},{"$f":"_xlfn.SINGLE(id.32526)","v":"BRANDT MKS"}]
[{"$nulls":21},{"$f":"_xlfn.SINGLE(id.32525)","v":"BRANDT Parco-Root XL"}]
[{"$nulls":21},{"$f":"_xlfn.SINGLE(id.32534)","v":"BRANDT Plant Start"}]
[{"$nulls":21},{"$f":"_xlfn.SINGLE(id.51014)","v":"N-Boost "}]
[{"$nulls":21},{"$f":"_xlfn.SINGLE(id.51015)","v":"BRANDT Liqui-Phi "}]
[{"$nulls":21},{"$f":"id.32209","v":"BRANDT Mega-Phi "}]
[{"$nulls":21},{"$f":"id.32174","v":"BRANDT 20-K "}]
[{"$nulls":21},{"$f":"id.32003","v":"BRANDT 30-K "}]
[{"$nulls":21},{"$f":"id.20001","v":"BRANDT Flash Dance"}]
[{"$nulls":21},{"$f":"id.20011","v":"BRANDT Supreme Green "}]
[{"$nulls":21},{"$f":"id.49011","v":"BRANDT In-Cyte"}]
[{"$nulls":21},{"$f":"id.49012","v":"BRANDT Seaweed Max"}]
[{"$nulls":21},{"$f":"id.42008","v":"BRANDT Uptake 12 "}]
[{"$nulls":21},{"$f":"id.42009","v":"BRANDT Uptake Advanced"}]
[{"$nulls":21},{"$f":"id.x1","v":"Custom Liquid 1"}]
[{"$nulls":21},{"$f":"id.x2","v":"Custom Liquid 2"}]
[{"$nulls":21},{"$f":"id.x3","v":"Custom SOLUBLE 1"}]
[]
[{"$nulls":21},{"$f":"_xlfn.SINGLE(id.30049)","v":"BRANDT Noculate 8-3-17"}]
[{"$nulls":21},{"$f":"_xlfn.SINGLE(id.30082)","v":"BRANDT Noculate 11-2-11"}]
[{"$nulls":21},{"$f":"_xlfn.SINGLE(id.30050)","v":"BRANDT Noculate 13-4-13"}]
[{"$nulls":21},{"$f":"_xlfn.SINGLE(id.30051)","v":"BRANDT Parco-Blend 13-2-13"}]
[{"$nulls":21},{"$f":"_xlfn.SINGLE(id.30077)","v":"BRANDT Parco-Blend 17-4-17"}]
[{"$nulls":21},{"$f":"id.z1","v":"Custom Granular 1"}]
[{"$nulls":21},{"$f":"id.z2","v":"Custom Granular 2"}]

{"sheet":"PROGRAM ANALYSIS - standard","index":3,"n_rows":80,"n_cols":22,"rows_kept":80,"merged":[[1,3,1,4],[1,5,1,8],[1,18,1,21],[2,3,2,4],[2,5,2,9],[2,19,3,20],[3,3,3,4],[4,3,4,4],[4,19,4,20],[4,23,4,26],[4,27,4,28],[5,18,5,21],[5,23,5,26],[5,27,5,28],[6,19,6,20],[7,19,7,20],[7,23,7,24],[7,25,7,26],[7,27,7,28],[7,29,7,30],[8,4,8,12],[8,14,21,16],[8,18,8,21],[8,25,8,26],[8,29,8,30],[9,19,9,20],[9,25,9,26],[10,19,10,20],[10,25,10,26],[11,25,11,26],[12,25,12,26],[14,18,15,18],[14,19,15,20],[15,10,15,12],[16,19,16,20],[23,3,24,5],[23,6,24,6],[23,7,24,7],[23,8,24,8],[23,9,24,9],[23,10,24,10],[23,11,24,11],[23,12,24,13],[23,14,24,15],[23,16,24,17],[23,18,24,19],[23,20,24,21],[25,3,25,5],[26,3,26,5],[27,3,27,5],[28,3,28,5],[29,3,29,5],[30,3,30,5],[31,3,31,5],[32,3,32,5],[33,3,33,5],[34,3,34,5],[35,3,35,5],[37,3,38,5],[37,6,38,6],[37,7,38,7],[37,8,38,8],[37,9,38,9],[37,10,38,10],[37,11,38,11],[37,12,38,13],[37,14,38,15],[37,16,38,17],[37,18,38,19],[37,20,38,21],[39,3,39,5],[40,3,40,5],[41,3,41,5],[42,3,42,5],[43,3,43,5],[44,3,44,5],[45,3,45,5],[47,3,48,5],[47,6,48,6],[47,7,48,7],[47,8,48,8],[47,9,48,9],[47,10,48,10],[47,11,48,11],[47,12,48,13],[47,14,48,15],[47,16,48,17],[47,18,48,19],[47,20,48,21],[49,3,49,5],[50,3,50,5],[51,3,51,5],[52,3,52,5],[53,3,53,5],[54,3,54,5],[55,3,55,5],[57,3,58,5],[57,6,58,6],[57,7,58,7],[57,8,58,8],[57,9,58,9],[57,10,58,10],[57,11,58,11],[57,12,58,13],[57,14,58,15],[57,16,58,17],[57,18,58,19],[57,20,58,21],[59,3,59,5],[60,3,60,5],[61,3,61,5],[62,3,62,5],[63,3,63,5],[64,3,64,5],[65,3,65,5],[67,3,68,5],[67,6,68,7],[67,8,68,8],[67,9,68,9],[67,10,68,10],[67,11,68,11],[67,12,68,13],[67,14,68,15],[67,16,68,17],[67,18,68,19],[67,20,68,21],[69,3,69,5],[70,3,70,5],[70,6,70,7],[71,3,71,5],[72,3,72,5],[72,6,72,7],[73,3,73,5],[73,6,73,7],[74,3,74,5],[75,3,75,5],[75,6,75,7],[76,3,76,5],[76,6,76,7],[77,3,77,5],[78,3,78,5],[78,6,78,7],[79,3,79,5],[79,6,79,7]]}
[{"$nulls":3},{"$f":"VERSION","v":"version #BRANDT-D2401-"},null,"for use with \"APPLICATION DATA - standard\""]
[{"$nulls":3},"PREPARED FOR:",null,{"$f":"IF(customer=\"\",\"\",customer)","v":""},{"$nulls":6},"Total Coverage Area per Application:",{"$f":"((sq.ft.a)+(sq.ft.b))","v":0},"FT2",{"$nulls":3},"Total Program Cost"]
[{"$nulls":3},"PROGRAM:",null,{"$f":"IF(ProgTitle=\"\",\"\",ProgTitle)","v":""},{"$nulls":7},{"$f":"((acre.a)+(acre.b))","v":0},"ACRES",{"$nulls":4},{"$f":"T7+T10","v":{"v":0,"d":"$0.00"}}]
[{"$nulls":3},"DURATION:",null,{"$f":"(end.date-start.date)","v":0},"DAYS",{"$nulls":3},"Total Spray Apps / Program:",{"$f":"mix1.count+mix2.count+mix3.count+mix4.count","v":0},null,"Spray Frequency:","Abt. Every",{"$f":"IF((L4=0),0,($F$4/L4))","v":0},"DAYS"]
[{"$nulls":10},"Total Spreader Apps / Program:",{"$f":"spreader1.count+spreader2.count+spreader3.count","v":0},null,"Spreader Frequency:","Abt. Every",{"$f":"IF((L5=0),0,($F$4/L5))","v":0},"DAYS",null,"Unit Adjusted:",{"$f":"T8+T11","v":{"v":0,"d":"0.00"}}]
[{"$nulls":6},"Total Tank Loads / Application:",{"$f":"IF(tank.area=\"\",\"\",($N$3/tank.area))","v":""},null,null,"Total Tank Loads / Program:",{"$f":"IF(H6=\"\",\"\",(L4*H6))","v":""},{"$nulls":6},"Total Liquid Cost"]
[{"$nulls":6},"Total Spreader Loads / Application:",{"$f":"IF(spreader.area=\"\",\"\",($N$3/spreader.area))","v":""},null,null,"Total Spreader Loads / Program:",{"$f":"IF(H7=\"\",\"\",(L5*H7))","v":""},{"$nulls":7},{"$f":"(SUM(liquid.prog.subcost))","v":{"v":0,"d":"$0.00"}}]
[{"$nulls":14},"NOTES:",{"$nulls":3},"Case Adjusted:",{"$f":"(SUM(liquid.prog.adjustcost.case))","v":{"v":0,"d":"0.00"}}]
[{"$nulls":4},"Entire Program Nutrient Concentrations :: lbs / 1,000 FT2",{"$nulls":9},{"$f":"IF(prog.descrip=\"\",\"\",prog.descrip)","v":""},{"$nulls":3},"Total Granular Cost"]
[{"$nulls":4},"N","P2O5","K2O","Fe","Mn","Zn","Cu","Ca","Mg",{"$nulls":6},{"$f":"SUM(granular.prog.subcost)","v":{"v":0,"d":"$0.00"}}]
[{"$nulls":3},"Liquid",{"$f":"IF((SUM(mixt.n)=0),\"*\",SUM(mixt.n))","v":"*"},{"$f":"IF((SUM(mixt.p)=0),\"*\",SUM(mixt.p))","v":"*"},{"$f":"IF((SUM(mixt.k)=0),\"*\",SUM(mixt.k))","v":"*"},{"$f":"IF((SUM(mixt.fe)=0),\"*\",SUM(mixt.fe))","v":"*"},{"$f":"IF((SUM(mixt.mn)=0),\"*\",SUM(mixt.mn))","v":"*"},{"$f":"IF((SUM(mixt.zn)=0),\"*\",SUM(mixt.zn))","v":"*"},{"$f":"IF((SUM(mixt.cu)=0),\"*\",SUM(mixt.cu))","v":"*"},{"$f":"IF((SUM(mixt.ca)=0),\"*\",SUM(mixt.ca))","v":"*"},{"$f":"IF((SUM(mixt.mg)=0),\"*\",SUM(mixt.mg))","v":"*"},{"$nulls":5},"Bag Adjusted:",{"$f":"SUM(granular.prog.adjustcost)","v":{"v":0,"d":"0.00"}}]
[{"$nulls":3},"Granular",{"$f":"IF((SUM(spreadt.n)=0),\"*\",SUM(spreadt.n))","v":"*"},{"$f":"IF((SUM(spreadt.p)=0),\"*\",SUM(spreadt.p))","v":"*"},{"$f":"IF((SUM(spreadt.k)=0),\"*\",SUM(spreadt.k))","v":"*"},{"$f":"IF((SUM(spreadt.fe)=0),\"*\",SUM(spreadt.fe))","v":"*"},{"$f":"IF((SUM(spreadt.mn)=0),\"*\",SUM(spreadt.mn))","v":"*"},{"$f":"IF((SUM(spreadt.zn)=0),\"*\",SUM(spreadt.zn))","v":"*"},{"$f":"IF((SUM(spreadt.cu)=0),\"*\",SUM(spreadt.cu))","v":"*"},{"$f":"IF((SUM(spreadt.ca)=0),\"*\",SUM(spreadt.ca))","v":"*"},{"$f":"IF((SUM(spreadt.mg)=0),\"*\",SUM(spreadt.mg))","v":"*"}]
[{"$nulls":3},"Combined",{"$f":"IF(SUM(E11:E12)=0,0,SUM(E11:E12))","v":{"v":0,"d":"0.000"}},{"v":0,"d":"0.000"},{"v":0,"d":"0.000"},{"v":0,"d":"0.000"},{"v":0,"d":"0.000"},{"v":0,"d":"0.000"},{"v":0,"d":"0.000"},{"v":0,"d":"0.000"},{"v":0,"d":"0.000"}]
[{"$nulls":3},"Target",{"$f":"IF(OR(all.n=0,target.n=0),\"*\",IF((all.n>=target.n*0.95),5,IF((AND(all.n<target.n*0.95,all.n>=target.n*0.9)),4,IF((AND(all.n<target.n*0.9,all.n>=target.n*0.85)),3,IF((AND(all.n<target.n*0.85,all.n>=target.n*0.8)),2,IF((all.n<target.n*0.8),1))))))","v":"*"},{"$f":"IF(OR(all.p=0,target.p=0),\"*\",IF((all.p>=target.p*0.95),5,IF((AND(all.p<target.p*0.95,all.p>=target.p*0.9)),4,IF((AND(all.p<target.p*0.9,all.p>=target.p*0.85)),3,IF((AND(all.p<target.n*0.85,all.p>=target.p*0.8)),2,IF((all.p<target.p*0.8),1))))))","v":"*"},{"$f":"IF(OR(all.k=0,target.k=0),\"*\",IF((all.k>=target.k*0.95),5,IF((AND(all.k<target.k*0.95,all.k>=target.k*0.9)),4,IF((AND(all.k<target.k*0.9,all.k>=target.k*0.85)),3,IF((AND(all.k<target.k*0.85,all.k>=target.k*0.8)),2,IF((all.k<target.k*0.8),1))))))","v":"*"},{"$f":"IF(OR(all.fe=0,target.fe=0),\"*\",IF((all.fe>=target.fe*0.95),5,IF((AND(all.fe<target.fe*0.95,all.fe>=target.fe*0.9)),4,IF((AND(all.fe<target.fe*0.9,all.fe>=target.fe*0.85)),3,IF((AND(all.fe<target.fe*0.85,all.fe>=target.fe*0.8)),2,IF((all.fe<target.fe*0.8),1))))))","v":"*"},{"$f":"IF(OR(all.mn=0,target.mn=0),\"*\",IF((all.mn>=target.mn*0.95),5,IF((AND(all.mn<target.mn*0.95,all.mn>=target.mn*0.9)),4,IF((AND(all.mn<target.mn*0.9,all.mn>=target.mn*0.85)),3,IF((AND(all.mn<target.mn*0.85,all.mn>=target.mn*0.8)),2,IF((all.mn<target.mn*0.8),1))))))","v":"*"},{"$f":"IF(OR(all.zn=0,target.zn=0),\"*\",IF((all.zn>=target.zn*0.95),5,IF((AND(all.zn<target.zn*0.95,all.zn>=target.zn*0.9)),4,IF((AND(all.zn<target.n*0.9,all.zn>=target.zn*0.85)),3,IF((AND(all.zn<target.n*0.85,all.zn=target.zn*0.8)),2,IF((all.zn<target.zn*0.8),1))))))","v":"*"},{"$f":"IF(OR(all.cu=0,target.cu=0),\"*\",IF((all.cu>=target.cu*0.95),5,IF((AND(all.cu<target.cu*0.95,all.cu>=target.cu*0.9)),4,IF((AND(all.cu<target.cu*0.9,all.cu>=target.cu*0.85)),3,IF((AND(all.cu<target.cu*0.85,all.cu>=target.cu*0.8)),2,IF((all.cu<target.cu*0.8),1))))))","v":"*"},{"$f":"IF(OR(all.ca=0,target.ca=0),\"*\",IF((all.ca>=target.ca*0.95),5,IF((AND(all.ca<target.ca*0.95,all.ca>=target.ca*0.9)),4,IF((AND(all.ca<target.ca*0.9,all.ca>=target.ca*0.85)),3,IF((AND(all.ca<target.ca*0.85,all.ca>=target.ca*0.8)),2,IF((all.ca<target.ca*0.8),1))))))","v":"*"},{"$f":"IF(OR(all.mg=0,target.mg=0),\"*\",IF((all.mg>=target.mg*0.95),5,IF((AND(all.mg<target.mg*0.95,all.mg>=target.mg*0.9)),4,IF((AND(all.mg<target.n*0.9,all.mg>=target.n*0.85)),3,IF((AND(all.mg<target.n*0.85,all.mg>=target.n*0.8)),2,IF((all.mg<target.mg*0.8),1))))))","v":"*"}]
[{"$nulls":4},{"$f":"IF((target.n=0),\"*\",target.n)","v":"*"},{"$f":"IF((target.p=0),\"*\",target.p)","v":"*"},{"$f":"IF((target.k=0),\"*\",target.k)","v":"*"},{"$f":"IF((target.fe=0),\"*\",target.fe)","v":"*"},{"$f":"IF((target.mn=0),\"*\",target.mn)","v":"*"},{"$f":"IF((target.zn=0),\"*\",target.zn)","v":"*"},{"$f":"IF((target.cu=0),\"*\",target.cu)","v":"*"},{"$f":"IF((target.ca=0),\"*\",target.ca)","v":"*"},{"$f":"IF((target.mg=0),\"*\",target.mg)","v":"*"},{"$nulls":5},"Bulk Discount"]
[]
[{"$nulls":4},"S","B","Si","Mo","Co","HPO3",{"$nulls":7},"15 gal Drum:"]
[{"$nulls":3},"Liquid",{"$f":"IF((SUM(mixt.s)=0),\"*\",SUM(mixt.s))","v":"*"},{"$f":"IF((SUM(mixt.b)=0),\"*\",SUM(mixt.b))","v":"*"},{"$f":"IF((SUM(mixt.si)=0),\"*\",SUM(mixt.si))","v":"*"},{"$f":"IF((SUM(mixt.mo)=0),\"*\",SUM(mixt.mo))","v":"*"},{"$f":"IF((SUM(mixt.co)=0),\"*\",SUM(mixt.co))","v":"*"},{"$f":"IF((SUM(mixt.hpo3)=0),\"*\",SUM(mixt.hpo3))","v":"*"},{"$nulls":7},"30 gal Drum:"]
[{"$nulls":3},"Granular",{"$f":"IF((SUM(spreadt.s)=0),\"*\",SUM(spreadt.s))","v":"*"},{"$f":"IF((SUM(spreadt.b)=0),\"*\",SUM(spreadt.b))","v":"*"},{"$f":"IF((SUM(spreadt.si)=0),\"*\",SUM(spreadt.si))","v":"*"},{"$f":"IF((SUM(spreadt.mo)=0),\"*\",SUM(spreadt.mo))","v":"*"},{"$f":"IF((SUM(spreadt.co)=0),\"*\",SUM(spreadt.co))","v":"*"},{"$f":"IF((SUM(spreadt.hpo3)=0),\"*\",SUM(spreadt.hpo3))","v":"*"},{"$nulls":7},"55 gal Drum:"]
[{"$nulls":3},"Combined",{"$f":"IF(SUM(E18:E19)=0,0,SUM(E18:E19))","v":{"v":0,"d":"0.000"}},{"v":0,"d":"0.00000"},{"v":0,"d":"0.00000"},{"v":0,"d":"0.00000"},{"v":0,"d":"0.00000"},{"v":0,"d":"0.00000"},{"$nulls":7},"270 gal Tote:"]
[{"$nulls":3},"Target",{"$f":"IF(OR(all.s=0,target.s=0),\"*\",IF((all.s>=target.s*0.95),5,IF((AND(all.s<target.s*0.95,all.s>=target.s*0.9)),4,IF((AND(all.s<target.s*0.9,all.s>=target.s*0.85)),3,IF((AND(all.s<target.s*0.85,all.s>=target.s*0.8)),2,IF((all.s<target.s*0.8),1))))))","v":"*"},{"$f":"IF(OR(all.b=0,target.b=0),\"*\",IF((all.b>=target.b*0.95),5,IF((AND(all.b<target.b*0.95,all.b>=target.b*0.9)),4,IF((AND(all.b<target.b*0.9,all.b>=target.b*0.85)),3,IF((AND(all.b<target.b*0.85,all.b>=target.b*0.8)),2,IF((all.b<target.b*0.8),1))))))","v":"*"},{"$f":"IF(OR(all.si=0,target.si=0),\"*\",IF((all.si>=target.si*0.95),5,IF((AND(all.si<target.si*0.95,all.si>=target.si*0.9)),4,IF((AND(all.si<target.si*0.9,all.si>=target.si*0.85)),3,IF((AND(all.si<target.si*0.85,all.si>=target.si*0.8)),2,IF((all.si<target.si*0.8),1))))))","v":"*"},{"$f":"IF(OR(all.mo=0,target.mo=0),\"*\",IF((all.mo>=target.mo*0.95),5,IF((AND(all.mo<target.mo*0.95,all.mo>=target.mo*0.9)),4,IF((AND(all.mo<target.mo*0.9,all.mo>=target.mo*0.85)),3,IF((AND(all.mo<target.mo*0.85,all.mo>=target.mo*0.8)),2,IF((all.mo<target.mo*0.8),1))))))","v":"*"},{"$f":"IF(OR(all.co=0,target.co=0),\"*\",IF((all.co>=target.co*0.95),5,IF((AND(all.co<target.co*0.95,all.co>=target.co*0.9)),4,IF((AND(all.co<target.co*0.9,all.co>=target.co*0.85)),3,IF((AND(all.co<target.co*0.85,all.co>=target.co*0.8)),2,IF((all.co<target.co*0.8),1))))))","v":"*"},{"$f":"IF(OR(all.hpo3=0,target.hpo3=0),\"*\",IF((all.hpo3>=target.hpo3*0.95),5,IF((AND(all.hpo3<target.hpo3*0.95,all.hpo3>=target.hpo3*0.9)),4,IF((AND(all.hpo3<target.hpo3*0.9,all.hpo3>=target.hpo3*0.85)),3,IF((AND(all.hpo3<target.hpo3*0.85,all.hpo3>=target.hpo3*0.8)),2,IF((all.hpo3<target.hpo3*0.8),1))))))","v":"*"},{"$nulls":7},"1k lb Tote:"]
[{"$nulls":4},{"$f":"IF((target.s=0),\"*\",target.s)","v":"*"},{"$f":"IF((target.b=0),\"*\",target.b)","v":"*"},{"$f":"IF((target.si=0),\"*\",target.si)","v":"*"},{"$f":"IF((target.mo=0),\"*\",target.mo)","v":"*"},{"$f":"IF((target.co=0),\"*\",target.co)","v":"*"},{"$f":"IF((target.hpo3=0),\"*\",target.hpo3)","v":"*"},{"$nulls":7},"2k lb Tote:"]
[]
[{"$f":"mix1.count","v":0},null,null,"MIX #1",null,null,"Program Total oz","Gallons Needed","Cost / gal","Cost / Acre","Cost / App","Program Cost","WHOLE 5 gal Cases & Case Cost",null,"15 gal Drums &      Cost Equivalent",null,"30 gal Drums &      Cost Equivalent",null,"55 gal Drums &      Cost Equivalent",null,"270 gal Totes &      Cost Equivalent"]
[{"$f":"IF(A24=0,1,A24)","v":1}]
[{"$f":"'APPLICATION DATA - standard'!A24","v":"47"},null,null,{"$f":"IF((m1.1=\"\"),\"\",m1.1)","v":""},null,null,{"$f":"IF(($D26=\"\"),\"*\",IF((m1r.1=\"\"),\"0\",((m1r.1*(total.sqft/1000))*(($A$25)))))","v":"*"},{"$f":"IF(($D26=\"\"),\"*\",(G26/128))","v":"*"},{"$f":"IF(($D26=\"\"),\"*\",(INDIRECT(\"'PRODUCT DATA'!$D\"&$A26&\"\")*global.discount))","v":"*"},{"$f":"IF(OR($D26=\"\",$I26=0),\"*\",(($I26/128)*m1r.1)*43.56)","v":"*"},{"$f":"IF(OR($D26=\"\",$I26=0),\"*\",($I26*$H26/$A$25))","v":"*"},{"$f":"IF(OR($D26=\"\",$I26=0),\"*\",($I26*$H26))","v":"*"},{"$f":"IF(($D26=\"\"),\"0\",(ROUNDUP(($H26/5),0)))","v":"0"},{"$f":"IF(OR($D26=\"\",$I26=0),\"*\",$I26*($M26*5))","v":"*"},{"$f":"IF(($M26*5)<15,\"*\",($H26/15))","v":"*"},{"$f":"IF(OR($O26=\"*\",$I26=0),\"*\",($I26-$S$17)*($O26*15))","v":"*"},{"$f":"IF(($M26*5)<30,\"*\",($H26/30))","v":"*"},{"$f":"IF(OR($Q26=\"*\",$I26=0),\"*\",($I26-$S$18)*($Q26*30))","v":"*"},{"$f":"IF(($M26*5)<55,\"*\",($H26/55))","v":"*"},{"$f":"IF(OR($S26=\"*\",$I26=0),\"*\",($I26-$S$19)*($S26*55))","v":"*"},{"$f":"IF(($M26*5)<270,\"*\",($H26/270))","v":"*"},{"$f":"IF(OR($U26=\"*\",$I26=0),\"*\",($I26-$S$20)*($U26*270))","v":"*"}]
[{"$f":"'APPLICATION DATA - standard'!A25","v":"47"},null,null,{"$f":"IF((m1.2=\"\"),\"\",m1.2)","v":""},null,null,{"$f":"IF(($D27=\"\"),\"*\",IF((m1r.2=\"\"),\"0\",((m1r.2*(total.sqft/1000))*(($A$25)))))","v":"*"},"*","*",{"$f":"IF(OR($D27=\"\",$I27=0),\"*\",(($I27/128)*m1r.2)*43.56)","v":"*"},{"$f":"IF(OR($D27=\"\",$I27=0),\"*\",($I27*$H27/$A$25))","v":"*"},"*","0","*",{"$f":"IF(($M27*5)<15,\"*\",($H27/15))","v":"*"},"*",{"$f":"IF(($M27*5)<30,\"*\",($H27/30))","v":"*"},"*",{"$f":"IF(($M27*5)<55,\"*\",($H27/55))","v":"*"},"*","*","*"]
[{"$f":"'APPLICATION DATA - standard'!A26","v":"47"},null,null,{"$f":"IF((m1.3=\"\"),\"\",m1.3)","v":""},null,null,{"$f":"IF(($D28=\"\"),\"*\",IF((m1r.3=\"\"),\"0\",((m1r.3*(total.sqft/1000))*(($A$25)))))","v":"*"},"*","*",{"$f":"IF(OR($D28=\"\",$I28=0),\"*\",(($I28/128)*m1r.3)*43.56)","v":"*"},"*","*","0","*","*","*","*","*","*","*","*","*"]
[{"$f":"'APPLICATION DATA - standard'!A27","v":"47"},null,null,{"$f":"IF((m1.4=\"\"),\"\",m1.4)","v":""},null,null,{"$f":"IF(($D29=\"\"),\"*\",IF((m1r.4=\"\"),\"0\",((m1r.4*(total.sqft/1000))*(($A$25)))))","v":"*"},{"$f":"IF(($D29=\"\"),\"*\",(G29/128))","v":"*"},"*",{"$f":"IF(OR($D29=\"\",$I29=0),\"*\",(($I29/128)*m1r.4)*43.56)","v":"*"},"*","*","0","*","*","*","*","*","*","*","*","*"]
[{"$f":"'APPLICATION DATA - standard'!A28","v":"47"},null,null,{"$f":"IF((m1.5=\"\"),\"\",m1.5)","v":""},null,null,{"$f":"IF(($D30=\"\"),\"*\",IF((m1r.5=\"\"),\"0\",((m1r.5*(total.sqft/1000))*(($A$25)))))","v":"*"},"*","*",{"$f":"IF(OR($D30=\"\",$I30=0),\"*\",(($I30/128)*m1r.5)*43.56)","v":"*"},"*","*","0","*","*","*","*","*","*","*","*","*"]
[{"$f":"'APPLICATION DATA - standard'!A29","v":"47"},null,null,{"$f":"IF((m1.6=\"\"),\"\",m1.6)","v":""},null,null,{"$f":"IF(($D31=\"\"),\"*\",IF((m1r.6=\"\"),\"0\",((m1r.6*(total.sqft/1000))*(($A$25)))))","v":"*"},"*","*",{"$f":"IF(OR($D31=\"\",$I31=0),\"*\",(($I31/128)*m1r.6)*43.56)","v":"*"},"*","*","0","*","*","*","*","*","*","*","*","*"]
[{"$f":"'APPLICATION DATA - standard'!A30","v":"47"},null,null,{"$f":"IF((m1.7=\"\"),\"\",m1.7)","v":""},null,null,{"$f":"IF(($D32=\"\"),\"*\",IF((m1r.7=\"\"),\"0\",((m1r.7*(total.sqft/1000))*(($A$25)))))","v":"*"},"*","*",{"$f":"IF(OR($D32=\"\",$I32=0),\"*\",(($I32/128)*m1r.7)*43.56)","v":"*"},"*","*","0","*","*","*","*","*","*","*","*","*"]
[{"$f":"'APPLICATION DATA - standard'!A31","v":"47"},null,null,{"$f":"IF((m1.8=\"\"),\"\",m1.8)","v":""},null,null,{"$f":"IF(($D33=\"\"),\"*\",IF((m1r.8=\"\"),\"0\",((m1r.8*(total.sqft/1000))*(($A$25)))))","v":"*"},"*","*",{"$f":"IF(OR($D33=\"\",$I33=0),\"*\",(($I33/128)*m1r.8)*43.56)","v":"*"},"*","*","0","*","*","*","*","*","*","*","*","*"]
[{"$f":"'APPLICATION DATA - standard'!A32","v":"47"},null,null,{"$f":"IF((m1.9=\"\"),\"\",m1.9)","v":""},null,null,{"$f":"IF(($D34=\"\"),\"*\",IF((m1r.9=\"\"),\"0\",((m1r.9*(total.sqft/1000))*(($A$25)))))","v":"*"},"*","*",{"$f":"IF(OR($D34=\"\",$I34=0),\"*\",(($I34/128)*m1r.9)*43.56)","v":"*"},"*","*","0","*","*","*","*","*","*","*","*","*"]
[{"$f":"'APPLICATION DATA - standard'!A33","v":"47"},null,null,{"$f":"IF((m1.10=\"\"),\"\",m1.10)","v":""},null,null,{"$f":"IF(($D35=\"\"),\"*\",IF((m1r.10=\"\"),\"0\",((m1r.10*(total.sqft/1000))*(($A$25)))))","v":"*"},"*","*",{"$f":"IF(OR($D35=\"\",$I35=0),\"*\",(($I35/128)*m1r.10)*43.56)","v":"*"},"*","*","0","*","*","*","*","*","*","*","*","*"]
[{"$nulls":3},"Mix-1 Sub-Total:",null,null,{"$f":"IF(SUM(G26:G35)=0,\"*\",SUM(G26:G35))","v":"*"},"*","*","*","*","*","*","*",{"$f":"IF(SUM(O26:O35)=0,\"*\",SUM(O26:O35))","v":"*"},{"$f":"IF(SUM(P26:P35)=0,\"*\",SUM(P26:P35))","v":"*"},"*",{"$f":"IF(SUM(R26:R35)=0,\"*\",SUM(R26:R35))","v":"*"},"*",{"$f":"IF(SUM(T26:T35)=0,\"*\",SUM(T26:T35))","v":"*"},"*",{"$f":"IF(SUM(V26:V35)=0,\"*\",SUM(V26:V35))","v":"*"}]
[]
[{"$f":"mix2.count","v":0},null,null,"MIX #2",null,null,"Program Total oz","Gallons Needed","Cost / gal","Cost / Acre","Cost / App","Program Cost","WHOLE 5 gal Cases & Case Cost",null,"15 gal Drums &      Cost Equivalent",null,"30 gal Drums &      Cost Equivalent",null,"55 gal Drums &      Cost Equivalent",null,"270 gal Totes &      Cost Equivalent"]
[{"$f":"IF(A38=0,1,A38)","v":1}]
[{"$f":"'APPLICATION DATA - standard'!A41","v":"47"},null,null,{"$f":"IF((m2.1=\"\"),\"\",m2.1)","v":""},null,null,{"$f":"IF(($D40=\"\"),\"*\",IF((m2r.1=\"\"),\"0\",((m2r.1*(total.sqft/1000))*(($A$39)))))","v":"*"},{"$f":"IF(($D40=\"\"),\"*\",(G40/128))","v":"*"},{"$f":"IF(($D40=\"\"),\"*\",(INDIRECT(\"'PRODUCT DATA'!$D\"&$A40&\"\")*global.discount))","v":"*"},{"$f":"IF(OR($D40=\"\",$I40=0),\"*\",(($I40/128)*m2r.1)*43.56)","v":"*"},{"$f":"IF(OR($D40=\"\",$I40=0),\"*\",($I40*$H40/$A$39))","v":"*"},{"$f":"IF(OR($D40=\"\",$I40=0),\"*\",($I40*$H40))","v":"*"},{"$f":"IF(($D40=\"\"),\"0\",(ROUNDUP(($H40/5),0)))","v":"0"},{"$f":"IF(OR($D40=\"\",$I40=0),\"*\",$I40*($M40*5))","v":"*"},{"$f":"IF(($M40*5)<15,\"*\",($H40/15))","v":"*"},{"$f":"IF(OR($O40=\"*\",$I40=0),\"*\",($I40-$S$17)*($O40*15))","v":"*"},{"$f":"IF(($M40*5)<30,\"*\",($H40/30))","v":"*"},{"$f":"IF(OR($Q40=\"*\",$I40=0),\"*\",($I40-$S$18)*($Q40*30))","v":"*"},{"$f":"IF(($M40*5)<55,\"*\",($H40/55))","v":"*"},{"$f":"IF(OR($S40=\"*\",$I40=0),\"*\",($I40-$S$19)*($S40*55))","v":"*"},{"$f":"IF(($M40*5)<270,\"*\",($H40/270))","v":"*"},{"$f":"IF(OR($U40=\"*\",$I40=0),\"*\",($I40-$S$20)*($U40*270))","v":"*"}]
[{"$f":"'APPLICATION DATA - standard'!A42","v":"47"},null,null,{"$f":"IF((m2.2=\"\"),\"\",m2.2)","v":""},null,null,{"$f":"IF(($D41=\"\"),\"*\",IF((m2r.2=\"\"),\"0\",((m2r.2*(total.sqft/1000))*(($A$39)))))","v":"*"},"*","*",{"$f":"IF(OR($D41=\"\",$I41=0),\"*\",(($I41/128)*m2r.2)*43.56)","v":"*"},{"$f":"IF(OR($D41=\"\",$I41=0),\"*\",($I41*$H41/$A$39))","v":"*"},"*","0","*","*","*","*","*","*","*","*","*"]
[{"$f":"'APPLICATION DATA - standard'!A43","v":"47"},null,null,{"$f":"IF((m2.3=\"\"),\"\",m2.3)","v":""},null,null,{"$f":"IF(($D42=\"\"),\"*\",IF((m2r.3=\"\"),\"0\",((m2r.3*(total.sqft/1000))*(($A$39)))))","v":"*"},"*","*",{"$f":"IF(OR($D42=\"\",$I42=0),\"*\",(($I42/128)*m2r.3)*43.56)","v":"*"},"*","*","0","*","*","*","*","*","*","*","*","*"]
[{"$f":"'APPLICATION DATA - standard'!A44","v":"47"},null,null,{"$f":"IF((m2.4=\"\"),\"\",m2.4)","v":""},null,null,{"$f":"IF(($D43=\"\"),\"*\",IF((m2r.4=\"\"),\"0\",((m2r.4*(total.sqft/1000))*(($A$39)))))","v":"*"},"*","*",{"$f":"IF(OR($D43=\"\",$I43=0),\"*\",(($I43/128)*m2r.4)*43.56)","v":"*"},"*","*","0","*","*","*","*","*","*","*","*","*"]
[{"$f":"'APPLICATION DATA - standard'!A45","v":"47"},null,null,{"$f":"IF((m2.5=\"\"),\"\",m2.5)","v":""},null,null,{"$f":"IF(($D44=\"\"),\"*\",IF((m2r.5=\"\"),\"0\",((m2r.5*(total.sqft/1000))*(($A$39)))))","v":"*"},"*","*",{"$f":"IF(OR($D44=\"\",$I44=0),\"*\",(($I44/128)*m2r.5)*43.56)","v":"*"},"*","*","0","*","*","*","*","*","*","*","*","*"]
[{"$f":"'APPLICATION DATA - standard'!A46","v":"47"},null,null,{"$f":"IF((m2.6=\"\"),\"\",m2.6)","v":""},null,null,{"$f":"IF(($D45=\"\"),\"*\",IF((m2r.6=\"\"),\"0\",((m2r.6*(total.sqft/1000))*(($A$39)))))","v":"*"},"*","*",{"$f":"IF(OR($D45=\"\",$I45=0),\"*\",(($I45/128)*m2r.6)*43.56)","v":"*"},"*","*","0","*","*","*","*","*","*","*","*","*"]
[{"$nulls":3},"Sub-Total:",null,null,{"$f":"IF(SUM(G40:G45)=0,\"*\",SUM(G40:G45))","v":"*"},"*","*","*","*","*","*","*",{"$f":"IF(SUM(O40:O45)=0,\"*\",SUM(O40:O45))","v":"*"},"*","*","*","*","*","*","*"]
[]
[{"$f":"mix3.count","v":0},null,null,"MIX #3",null,null,"Program Total oz","Gallons Needed","Cost / gal","Cost / Acre","Cost / App","Program Cost","WHOLE 5 gal Cases & Case Cost",null,"15 gal Drums &      Cost Equivalent",null,"30 gal Drums &      Cost Equivalent",null,"55 gal Drums &      Cost Equivalent",null,"270 gal Totes &      Cost Equivalent"]
[{"$f":"IF(A48=0,1,A48)","v":1}]
[{"$f":"'APPLICATION DATA - standard'!A54","v":"47"},null,null,{"$f":"IF((m3.1=\"\"),\"\",m3.1)","v":""},null,null,{"$f":"IF(($D50=\"\"),\"*\",IF((m3r.1=\"\"),\"0\",((m3r.1*(total.sqft/1000))*(($A$49)))))","v":"*"},{"$f":"IF(($D50=\"\"),\"*\",(G50/128))","v":"*"},{"$f":"IF(($D50=\"\"),\"*\",(INDIRECT(\"'PRODUCT DATA'!$D\"&$A50&\"\")*global.discount))","v":"*"},{"$f":"IF(OR($D50=\"\",$I50=0),\"*\",(($I50/128)*m3r.1)*43.56)","v":"*"},{"$f":"IF(OR($D50=\"\",$I50=0),\"*\",($I50*$H50/$A$49))","v":"*"},{"$f":"IF(OR($D50=\"\",$I50=0),\"*\",($I50*$H50))","v":"*"},{"$f":"IF(($D50=\"\"),\"0\",(ROUNDUP(($H50/5),0)))","v":"0"},{"$f":"IF(OR($D50=\"\",$I50=0),\"*\",$I50*($M50*5))","v":"*"},{"$f":"IF(($M50*5)<15,\"*\",($H50/15))","v":"*"},{"$f":"IF(OR($O50=\"*\",$I50=0),\"*\",($I50-$S$17)*($O50*15))","v":"*"},{"$f":"IF(($M50*5)<30,\"*\",($H50/30))","v":"*"},{"$f":"IF(OR($Q50=\"*\",$I50=0),\"*\",($I50-$S$18)*($Q50*30))","v":"*"},{"$f":"IF(($M50*5)<55,\"*\",($H50/55))","v":"*"},{"$f":"IF(OR($S50=\"*\",$I50=0),\"*\",($I50-$S$19)*($S50*55))","v":"*"},{"$f":"IF(($M50*5)<270,\"*\",($H50/270))","v":"*"},{"$f":"IF(OR($U50=\"*\",$I50=0),\"*\",($I50-$S$20)*($U50*270))","v":"*"}]
[{"$f":"'APPLICATION DATA - standard'!A55","v":"47"},null,null,{"$f":"IF((m3.2=\"\"),\"\",m3.2)","v":""},null,null,{"$f":"IF(($D51=\"\"),\"*\",IF((m3r.2=\"\"),\"0\",((m3r.2*(total.sqft/1000))*(($A$49)))))","v":"*"},"*","*",{"$f":"IF(OR($D51=\"\",$I51=0),\"*\",(($I51/128)*m3r.2)*43.56)","v":"*"},{"$f":"IF(OR($D51=\"\",$I51=0),\"*\",($I51*$H51/$A$49))","v":"*"},"*","0","*","*","*","*","*","*","*","*","*"]
[{"$f":"'APPLICATION DATA - standard'!A56","v":"47"},null,null,{"$f":"IF((m3.3=\"\"),\"\",m3.3)","v":""},null,null,{"$f":"IF(($D52=\"\"),\"*\",IF((m3r.3=\"\"),\"0\",((m3r.3*(total.sqft/1000))*(($A$49)))))","v":"*"},"*","*",{"$f":"IF(OR($D52=\"\",$I52=0),\"*\",(($I52/128)*m3r.3)*43.56)","v":"*"},"*","*","0","*","*","*","*","*","*","*","*","*"]
[{"$f":"'APPLICATION DATA - standard'!A57","v":"47"},null,null,{"$f":"IF((m3.4=\"\"),\"\",m3.4)","v":""},null,null,{"$f":"IF(($D53=\"\"),\"*\",IF((m3r.4=\"\"),\"0\",((m3r.4*(total.sqft/1000))*(($A$49)))))","v":"*"},"*","*",{"$f":"IF(OR($D53=\"\",$I53=0),\"*\",(($I53/128)*m3r.4)*43.56)","v":"*"},"*","*","0","*","*","*","*","*","*","*","*","*"]
[{"$f":"'APPLICATION DATA - standard'!A58","v":"47"},null,null,{"$f":"IF((m3.5=\"\"),\"\",m3.5)","v":""},null,null,{"$f":"IF(($D54=\"\"),\"*\",IF((m3r.5=\"\"),\"0\",((m3r.5*(total.sqft/1000))*(($A$49)))))","v":"*"},"*","*",{"$f":"IF(OR($D54=\"\",$I54=0),\"*\",(($I54/128)*m3r.5)*43.56)","v":"*"},"*","*","0","*","*","*","*","*","*","*","*","*"]
[{"$f":"'APPLICATION DATA - standard'!A59","v":"47"},null,null,{"$f":"IF((m3.6=\"\"),\"\",m3.6)","v":""},null,null,{"$f":"IF(($D55=\"\"),\"*\",IF((m3r.6=\"\"),\"0\",((m3r.6*(total.sqft/1000))*(($A$49)))))","v":"*"},"*","*",{"$f":"IF(OR($D55=\"\",$I55=0),\"*\",(($I55/128)*m3r.6)*43.56)","v":"*"},"*","*","0","*","*","*","*","*","*","*","*","*"]
[{"$nulls":3},"Sub-Total:",null,null,{"$f":"IF(SUM(G50:G55)=0,\"*\",SUM(G50:G55))","v":"*"},"*","*","*","*","*","*","*",{"$f":"IF(SUM(O50:O55)=0,\"*\",SUM(O50:O55))","v":"*"},"*","*","*","*","*","*","*"]
[]
[{"$f":"mix4.count","v":0},null,null,"MIX #4",null,null,"Program Total oz","Gallons Needed","Cost / gal","Cost / Acre","Cost / App","Program Cost","WHOLE 5 gal Cases & Case Cost",null,"15 gal Drums &      Cost Equivalent",null,"30 gal Drums &      Cost Equivalent",null,"55 gal Drums &      Cost Equivalent",null,"270 gal Totes &      Cost Equivalent"]
[{"$f":"IF(A58=0,1,A58)","v":1}]
[{"$f":"'APPLICATION DATA - standard'!A66","v":"47"},null,null,{"$f":"IF((m4.1=\"\"),\"\",m4.1)","v":""},null,null,{"$f":"IF(($D60=\"\"),\"*\",IF((m4r.1=\"\"),\"0\",((m4r.1*(total.sqft/1000))*(($A$59)))))","v":"*"},{"$f":"IF(($D60=\"\"),\"*\",(G60/128))","v":"*"},{"$f":"IF(($D60=\"\"),\"*\",(INDIRECT(\"'PRODUCT DATA'!$D\"&$A60&\"\")*global.discount))","v":"*"},{"$f":"IF(OR($D60=\"\",$I60=0),\"*\",(($I60/128)*m4r.1)*43.56)","v":"*"},{"$f":"IF(OR($D60=\"\",$I60=0),\"*\",($I60*$H60/$A$59))","v":"*"},{"$f":"IF(OR($D60=\"\",$I60=0),\"*\",($I60*$H60))","v":"*"},{"$f":"IF(($D60=\"\"),\"0\",(ROUNDUP(($H60/5),0)))","v":"0"},{"$f":"IF(OR($D60=\"\",$I60=0),\"*\",$I60*($M60*5))","v":"*"},{"$f":"IF(($M60*5)<15,\"*\",($H60/15))","v":"*"},{"$f":"IF(OR($O60=\"*\",$I60=0),\"*\",($I60-$S$17)*($O60*15))","v":"*"},{"$f":"IF(($M60*5)<30,\"*\",($H60/30))","v":"*"},{"$f":"IF(OR($Q60=\"*\",$I60=0),\"*\",($I60-$S$18)*($Q60*30))","v":"*"},{"$f":"IF(($M60*5)<55,\"*\",($H60/55))","v":"*"},{"$f":"IF(OR($S60=\"*\",$I60=0),\"*\",($I60-$S$19)*($S60*55))","v":"*"},{"$f":"IF(($M60*5)<270,\"*\",($H60/270))","v":"*"},{"$f":"IF(OR($U60=\"*\",$I60=0),\"*\",($I60-$S$20)*($U60*270))","v":"*"}]
[{"$f":"'APPLICATION DATA - standard'!A67","v":"47"},null,null,{"$f":"IF((m4.2=\"\"),\"\",m4.2)","v":""},null,null,{"$f":"IF(($D61=\"\"),\"*\",IF((m4r.2=\"\"),\"0\",((m4r.2*(total.sqft/1000))*(($A$59)))))","v":"*"},"*","*",{"$f":"IF(OR($D61=\"\",$I61=0),\"*\",(($I61/128)*m4r.2)*43.56)","v":"*"},{"$f":"IF(OR($D61=\"\",$I61=0),\"*\",($I61*$H61/$A$59))","v":"*"},"*","0","*","*","*","*","*","*","*","*","*"]
[{"$f":"'APPLICATION DATA - standard'!A68","v":"47"},null,null,{"$f":"IF((m4.3=\"\"),\"\",m4.3)","v":""},null,null,{"$f":"IF(($D62=\"\"),\"*\",IF((m4r.3=\"\"),\"0\",((m4r.3*(total.sqft/1000))*(($A$59)))))","v":"*"},"*","*",{"$f":"IF(OR($D62=\"\",$I62=0),\"*\",(($I62/128)*m4r.3)*43.56)","v":"*"},"*","*","0","*","*","*","*","*","*","*","*","*"]
[{"$f":"'APPLICATION DATA - standard'!A69","v":"47"},null,null,{"$f":"IF((m4.4=\"\"),\"\",m4.4)","v":""},null,null,{"$f":"IF(($D63=\"\"),\"*\",IF((m4r.4=\"\"),\"0\",((m4r.4*(total.sqft/1000))*(($A$59)))))","v":"*"},"*","*",{"$f":"IF(OR($D63=\"\",$I63=0),\"*\",(($I63/128)*m4r.4)*43.56)","v":"*"},"*","*","0","*","*","*","*","*","*","*","*","*"]
[{"$f":"'APPLICATION DATA - standard'!A70","v":"47"},null,null,{"$f":"IF((m4.5=\"\"),\"\",m4.5)","v":""},null,null,{"$f":"IF(($D64=\"\"),\"*\",IF((m4r.5=\"\"),\"0\",((m4r.5*(total.sqft/1000))*(($A$59)))))","v":"*"},"*","*",{"$f":"IF(OR($D64=\"\",$I64=0),\"*\",(($I64/128)*m4r.5)*43.56)","v":"*"},"*","*","0","*","*","*","*","*","*","*","*","*"]
[{"$f":"'APPLICATION DATA - standard'!A71","v":"47"},null,null,{"$f":"IF((m4.6=\"\"),\"\",m4.6)","v":""},null,null,{"$f":"IF(($D65=\"\"),\"*\",IF((m4r.6=\"\"),\"0\",((m4r.6*(total.sqft/1000))*(($A$59)))))","v":"*"},"*","*",{"$f":"IF(OR($D65=\"\",$I65=0),\"*\",(($I65/128)*m4r.6)*43.56)","v":"*"},"*","*","0","*","*","*","*","*","*","*","*","*"]
[{"$nulls":3},"Sub-Total:",null,null,{"$f":"IF(SUM(G60:G65)=0,\"*\",SUM(G60:G65))","v":"*"},"*","*","*","*","*","*","*",{"$f":"IF(SUM(O60:O65)=0,\"*\",SUM(O60:O65))","v":"*"},"*","*","*","*","*","*","*"]
[]
[{"$nulls":6},"Program Total lbs",null,"Cost / lb","Cost / Acre","Cost / App","Program Cost","WHOLE Bags & Bag Cost",null,"1,000 lb Tote Bags & Cost Equivalent",null,"2,000 lb Tote Bags & Cost Equivalent"]
[]
[{"$f":"spreader1.count","v":0},{"$f":"IF(A70=0,1,A70)","v":1},null,"SOLUBLE #1"]
[{"$f":"'APPLICATION DATA - standard'!A79","v":"47"},null,null,{"$f":"IF((s1.1=\"\"),\"\",s1.1)","v":""},null,null,{"$f":"IF(($D71=\"\"),\"*\",IF((s1r.1=\"\"),\"0\",((s1r.1*(total.sqft/1000))*(($B$70)))))","v":"*"},null,{"$f":"IF(($D71=\"\"),\"*\",((INDIRECT(\"'PRODUCT DATA'!$D\"&$A71&\"\")/INDIRECT(\"'PRODUCT DATA'!$F\"&$A71&\"\"))*global.discount))","v":"*"},{"$f":"IF(OR($D71=\"\",$I71=0),\"*\",(($I71*s1r.1)*43.56))","v":"*"},{"$f":"IF(OR($D71=\"\",$I71=0),\"*\",($I71*$G71/$B$70))","v":"*"},{"$f":"IF(OR($D71=\"\",$I71=0),\"*\",($I71*$G71))","v":"*"},{"$f":"IF(($D71=\"\"),\"0\",(ROUNDUP(($G71/INDIRECT(\"'PRODUCT DATA'!$F\"&$A71&\"\")),0)))","v":"0"},{"$f":"IF(OR($D71=\"\",$I71=0),\"*\",$I71*($M71*INDIRECT(\"'PRODUCT DATA'!$F\"&$A71&\"\")))","v":"*"},{"$f":"IF(($M71*50)<1000,\"*\",($G71/1000))","v":"*"},{"$f":"IF(OR($Q71=\"*\",$I71=0),\"*\",($I71-$S$21)*($O71*1000))","v":"*"},{"$f":"IF(($M71*50)<2000,\"*\",($G71/2000))","v":"*"},{"$f":"IF(OR($Q71=\"*\",$I71=0),\"*\",($I71-$S$22)*($Q71*2000))","v":"*"}]
[{"$f":"spreader2.count","v":0},{"$f":"IF(A72=0,1,A72)","v":1},null,"GRANULAR #1"]
[{"$f":"'APPLICATION DATA - standard'!A83","v":"72"},null,null,{"$f":"IF((s2.1=\"\"),\"\",s2.1)","v":""},null,null,{"$f":"IF(($D73=\"\"),\"*\",IF((s2r.1=\"\"),\"0\",((s2r.1*(total.sqft/1000))*(($B$72)))))","v":"*"},null,{"$f":"IF(($D73=\"\"),\"*\",((INDIRECT(\"'PRODUCT DATA'!$D\"&$A73&\"\")/INDIRECT(\"'PRODUCT DATA'!$F\"&$A73&\"\"))*global.discount))","v":"*"},{"$f":"IF(OR($D73=\"\",$I73=0),\"*\",(($I73*s2r.1)*43.56))","v":"*"},{"$f":"IF(OR($D73=\"\",$I73=0),\"*\",($I73*$G73/$B$72))","v":"*"},{"$f":"IF(OR($D73=\"\",$I73=0),\"*\",($I73*$G73))","v":"*"},{"$f":"IF(($D73=\"\"),\"0\",(ROUNDUP(($G73/INDIRECT(\"'PRODUCT DATA'!$F\"&$A73&\"\")),0)))","v":"0"},{"$f":"IF(OR($D73=\"\",$I73=0),\"*\",$I73*($M73*INDIRECT(\"'PRODUCT DATA'!$F\"&$A73&\"\")))","v":"*"},{"$f":"IF(($M73*50)<1000,\"*\",($G73/1000))","v":"*"},{"$f":"IF(OR($Q73=\"*\",$I73=0),\"*\",($I73-$S$21)*($Q73*2000))","v":"*"},{"$f":"IF(($M73*50)<2000,\"*\",($G73/2000))","v":"*"},{"$f":"IF(OR($Q73=\"*\",$I73=0),\"*\",($I73-$S$22)*($Q73*2000))","v":"*"}]
[{"$f":"'APPLICATION DATA - standard'!A84","v":"72"},null,null,{"$f":"IF((s2.2=\"\"),\"\",s2.2)","v":""},null,null,{"$f":"IF(($D74=\"\"),\"*\",IF((s2r.2=\"\"),\"0\",((s2r.2*(total.sqft/1000))*(($B$72)))))","v":"*"},null,{"$f":"IF(($D74=\"\"),\"*\",((INDIRECT(\"'PRODUCT DATA'!$D\"&$A74&\"\")/INDIRECT(\"'PRODUCT DATA'!$F\"&$A74&\"\"))*global.discount))","v":"*"},{"$f":"IF(OR($D74=\"\",$I74=0),\"*\",(($I74*s2r.2)*43.56))","v":"*"},{"$f":"IF(OR($D74=\"\",$I74=0),\"*\",($I74*$G74/$B$72))","v":"*"},{"$f":"IF(OR($D74=\"\",$I74=0),\"*\",($I74*$G74))","v":"*"},{"$f":"IF(($D74=\"\"),\"0\",(ROUNDUP(($G74/INDIRECT(\"'PRODUCT DATA'!$F\"&$A74&\"\")),0)))","v":"0"},{"$f":"IF(OR($D74=\"\",$I74=0),\"*\",$I74*($M74*INDIRECT(\"'PRODUCT DATA'!$F\"&$A74&\"\")))","v":"*"},{"$f":"IF(($M74*50)<1000,\"*\",($G74/1000))","v":"*"},{"$f":"IF(OR($Q74=\"*\",$I74=0),\"*\",($I74-$S$21)*($Q74*2000))","v":"*"},{"$f":"IF(($M74*50)<2000,\"*\",($G74/2000))","v":"*"},{"$f":"IF(OR($Q74=\"*\",$I74=0),\"*\",($I74-$S$22)*($Q74*2000))","v":"*"}]
[{"$f":"spreader3.count","v":0},{"$f":"IF(A75=0,1,A75)","v":1},null,"GRANULAR #2"]
[{"$f":"'APPLICATION DATA - standard'!A89","v":"72"},null,null,{"$f":"IF((s3.1=\"\"),\"\",s3.1)","v":""},null,null,{"$f":"IF(($D76=\"\"),\"*\",IF((s3r.1=\"\"),\"0\",((s3r.1*(total.sqft/1000))*(($B$75)))))","v":"*"},null,{"$f":"IF(($D76=\"\"),\"*\",((INDIRECT(\"'PRODUCT DATA'!$D\"&$A76&\"\")/INDIRECT(\"'PRODUCT DATA'!$F\"&$A76&\"\"))*global.discount))","v":"*"},{"$f":"IF(OR($D76=\"\",$I76=0),\"*\",(($I76*s3r.1)*43.56))","v":"*"},{"$f":"IF(OR($D76=\"\",$I76=0),\"*\",($I76*$G76/$B$75))","v":"*"},{"$f":"IF(OR($D76=\"\",$I76=0),\"*\",($I76*$G76))","v":"*"},{"$f":"IF(($D76=\"\"),\"0\",(ROUNDUP(($G76/INDIRECT(\"'PRODUCT DATA'!$F\"&$A76&\"\")),0)))","v":"0"},{"$f":"IF(OR($D76=\"\",$I76=0),\"*\",$I76*($M76*INDIRECT(\"'PRODUCT DATA'!$F\"&$A76&\"\")))","v":"*"},{"$f":"IF(($M76*50)<1000,\"*\",($G76/1000))","v":"*"},{"$f":"IF(OR($Q76=\"*\",$I76=0),\"*\",($I76-$S$21)*($Q76*2000))","v":"*"},{"$f":"IF(($M76*50)<2000,\"*\",($G76/2000))","v":"*"},{"$f":"IF(OR($Q76=\"*\",$I76=0),\"*\",($I76-$S$22)*($Q76*2000))","v":"*"}]
[{"$f":"'APPLICATION DATA - standard'!A90","v":"72"},null,null,{"$f":"IF((s3.2=\"\"),\"\",s3.2)","v":""},null,null,{"$f":"IF(($D77=\"\"),\"*\",IF((s3r.2=\"\"),\"0\",((s3r.2*(total.sqft/1000))*(($B$75)))))","v":"*"},null,{"$f":"IF(($D77=\"\"),\"*\",((INDIRECT(\"'PRODUCT DATA'!$D\"&$A77&\"\")/INDIRECT(\"'PRODUCT DATA'!$F\"&$A77&\"\"))*global.discount))","v":"*"},{"$f":"IF(OR($D77=\"\",$I77=0),\"*\",(($I77*s3r.2)*43.56))","v":"*"},{"$f":"IF(OR($D77=\"\",$I77=0),\"*\",($I77*$G77/$B$75))","v":"*"},{"$f":"IF(OR($D77=\"\",$I77=0),\"*\",($I77*$G77))","v":"*"},{"$f":"IF(($D77=\"\"),\"0\",(ROUNDUP(($G77/INDIRECT(\"'PRODUCT DATA'!$F\"&$A77&\"\")),0)))","v":"0"},{"$f":"IF(OR($D77=\"\",$I77=0),\"*\",$I77*($M77*INDIRECT(\"'PRODUCT DATA'!$F\"&$A77&\"\")))","v":"*"},{"$f":"IF(($M77*50)<1000,\"*\",($G77/1000))","v":"*"},{"$f":"IF(OR($Q77=\"*\",$I77=0),\"*\",($I77-$S$21)*($Q77*2000))","v":"*"},{"$f":"IF(($M77*50)<2000,\"*\",($G77/2000))","v":"*"},{"$f":"IF(OR($Q77=\"*\",$I77=0),\"*\",($I77-$S$22)*($Q77*2000))","v":"*"}]
[{"$f":"spreader4.count","v":0},{"$f":"IF(A78=0,1,A78)","v":1},null,"GRANULAR #3"]
[{"$f":"'APPLICATION DATA - standard'!A95","v":"72"},null,null,{"$f":"IF((s4.1=\"\"),\"\",s4.1)","v":""},null,null,{"$f":"IF(($D79=\"\"),\"*\",IF((s4r.1=\"\"),\"0\",((s4r.1*(total.sqft/1000))*(($B$78)))))","v":"*"},null,{"$f":"IF(($D79=\"\"),\"*\",((INDIRECT(\"'PRODUCT DATA'!$D\"&$A79&\"\")/INDIRECT(\"'PRODUCT DATA'!$F\"&$A79&\"\"))*global.discount))","v":"*"},{"$f":"IF(OR($D79=\"\",$I79=0),\"*\",(($I79*s4r.1)*43.56))","v":"*"},{"$f":"IF(OR($D79=\"\",$I79=0),\"*\",($I79*$G79/$B$78))","v":"*"},{"$f":"IF(OR($D79=\"\",$I79=0),\"*\",($I79*$G79))","v":"*"},{"$f":"IF(($D79=\"\"),\"0\",(ROUNDUP(($G79/INDIRECT(\"'PRODUCT DATA'!$F\"&$A79&\"\")),0)))","v":"0"},{"$f":"IF(OR($D79=\"\",$I79=0),\"*\",$I79*($M79*INDIRECT(\"'PRODUCT DATA'!$F\"&$A79&\"\")))","v":"*"},{"$f":"IF(($M79*50)<1000,\"*\",($G79/1000))","v":"*"},{"$f":"IF(OR($Q79=\"*\",$I79=0),\"*\",($I79-$S$21)*($Q79*2000))","v":"*"},{"$f":"IF(($M79*50)<2000,\"*\",($G79/2000))","v":"*"},{"$f":"IF(OR($Q79=\"*\",$I79=0),\"*\",($I79-$S$22)*($Q79*2000))","v":"*"}]
[{"$f":"'APPLICATION DATA - standard'!A96","v":"72"},null,null,{"$f":"IF((s4.2=\"\"),\"\",s4.2)","v":""},null,null,{"$f":"IF(($D80=\"\"),\"*\",IF((s4r.2=\"\"),\"0\",((s4r.2*(total.sqft/1000))*(($B$78)))))","v":"*"},null,{"$f":"IF(($D80=\"\"),\"*\",((INDIRECT(\"'PRODUCT DATA'!$D\"&$A80&\"\")/INDIRECT(\"'PRODUCT DATA'!$F\"&$A80&\"\"))*global.discount))","v":"*"},{"$f":"IF(OR($D80=\"\",$I80=0),\"*\",(($I80*s4r.2)*43.56))","v":"*"},{"$f":"IF(OR($D80=\"\",$I80=0),\"*\",($I80*$G80/$B$78))","v":"*"},{"$f":"IF(OR($D80=\"\",$I80=0),\"*\",($I80*$G80))","v":"*"},{"$f":"IF(($D80=\"\"),\"0\",(ROUNDUP(($G80/INDIRECT(\"'PRODUCT DATA'!$F\"&$A80&\"\")),0)))","v":"0"},{"$f":"IF(OR($D80=\"\",$I80=0),\"*\",$I80*($M80*INDIRECT(\"'PRODUCT DATA'!$F\"&$A80&\"\")))","v":"*"},{"$f":"IF(($M80*50)<1000,\"*\",($G80/1000))","v":"*"},{"$f":"IF(OR($Q80=\"*\",$I80=0),\"*\",($I80-$S$21)*($Q80*2000))","v":"*"},{"$f":"IF(($M80*50)<2000,\"*\",($G80/2000))","v":"*"},{"$f":"IF(OR($Q80=\"*\",$I80=0),\"*\",($I80-$S$22)*($Q80*2000))","v":"*"}]

{"sheet":"APPLICATION DATA - metric","index":4,"n_rows":130,"n_cols":22,"rows_kept":130,"hidden":true,"merged":[[2,2,3,7],[2,9,3,11],[2,13,3,15],[5,2,6,7],[5,9,9,18],[8,3,9,4],[8,5,8,6],[10,2,11,2],[11,9,11,11],[12,9,12,11],[13,9,13,11],[14,8,14,11],[16,2,16,19],[21,2,22,4],[21,6,21,20],[23,2,23,4],[24,2,24,4],[25,2,25,4],[26,2,26,4],[27,2,27,4],[28,2,28,4],[29,2,29,5],[30,2,30,5],[31,2,31,5],[32,2,32,5],[34,2,35,4],[34,6,34,20],[36,2,36,4],[37,2,37,4],[38,2,38,4],[39,2,39,4],[40,2,40,4],[41,2,41,4],[42,2,42,5],[43,2,43,5],[44,2,44,5],[45,2,45,5],[47,2,48,4],[47,6,47,20],[49,2,49,4],[50,2,50,4],[51,2,51,4],[52,2,52,4],[53,2,53,4],[54,2,54,4],[55,2,55,5],[56,2,56,5],[57,2,57,5],[58,2,58,5],[59,2,60,4],[59,6,59,20],[61,2,61,4],[62,2,62,4],[63,2,63,4],[64,2,64,4],[65,2,65,4],[66,2,66,4],[67,2,67,5],[68,2,68,5],[69,2,69,5],[72,2,72,4],[72,6,72,20],[73,2,73,4],[74,2,74,4],[75,2,75,5],[76,2,76,5],[77,2,77,4],[78,2,78,4],[79,2,79,5],[80,2,80,5],[81,2,81,4],[82,2,82,4],[83,2,83,5],[84,2,84,5],[85,2,85,4],[86,2,86,4],[87,2,87,5],[88,2,88,5]]}
[null,null,{"$f":"VERSION","v":"version #BRANDT-D2401-"},null,"metric measurments"]
[null,null,"PREPARED FOR",{"$nulls":6},"START DATE",{"$nulls":3},"END DATE"]
[]
[]
[null,null,"PROGRAMME TITLE",{"$nulls":6},"NOTES / COMMENTS"]
[]
[]
[]
[{"$nulls":3},"KNOWN      APPLICATION AREA",null," conversion of area "]
[{"$nulls":5},"m2","Hectares"]
[null,null,"Only select ONE area measurment >>"," m² ",null,"***",{"$f":"(E11/10000)","v":{"v":0,"d":"0.000"}},null,null,"OTHER PROGRAMME DETAILS"]
[{"$nulls":3},"Hectares",null,{"$f":"E12*10000","v":0},"***",null,null,"Total Applications of Mix #1?",{"$nulls":6},"Total Applications of Soluble #1?"]
[{"$nulls":5},"HECTARES covered in 1 tank load?",null,"(optional)",null,"Total Applications of Mix #2?",{"$nulls":6},"Total Applications of Granular #1?"]
[{"$nulls":5},"HECTARES covered in 1 spreader load?",null,"(optional)",null,"Total Applications of Mix #3?",{"$nulls":6},"Total Applications of Granular #2?"]
[{"$nulls":8},"Total Applications of Mix #4?",{"$nulls":7},"Total Applications of Granular #3?"]
[]
[null,null,"ENTIRE PROGRAMME Nutrient TARGET Concentrations / Kg per Hectare (optional)"]
[null,null,"N","P2O5","K2O","Ca","Mg","S","Fe","Mn","Zn","Cu","B","Si","Mo","Co","HPO3"]
[]
[]
[]
[null,null,"MIX #1",null,null,"L / Ha","Kg of Nutrient per Ha"]
[{"$nulls":5},"RATE","N","P2O5","K2O","Ca","Mg","S","Fe","Mn","Zn","Cu","B","Si","Mo","Co","HPO3"]
[{"$f":"IF(($C24=id.255),3,IF(($C24=id.256),4,IF(($C24=id.215),5,IF(($C24=id.200),7,IF(($C24=id.285),10,IF(($C24=id.210),12,IF(($C24=id.106),13,IF(($C24=id.310),14,IF(($C24=id.141),15,IF(($C24=id.360),16,IF(($C24=id.245),17,IF(($C24=id.225),18,IF(($C24=id.192),19,IF(($C24=id.196),20,IF(($C24=id.330),21,IF(($C24=id.675),22,IF(($C24=id.730),23,IF(($C24=id.855),24,IF(($C24=id.180),28,IF(($C24=id.185),29,IF(($C24=id.195),30,IF(($C24=id.240),31,IF(($C24=id.300),32,IF(($C24=id.177),33,IF(($C24=id.860),35,IF(($C24=id.840),36,IF(($C24=id.865),37,IF(($C24=id.800),38,IF(($C24=id.600),41,IF(($C24=id.x1),43,IF(($C24=id.x2),44,\"42\")))))))))))))))))))))))))))))))","v":{"$error":"#NAME?"}},{"$nulls":5},{"$f":"IF((INDIRECT(\"'PRODUCT DATA'!$L\"&$A24&\"\"))=0,\"*\",((INDIRECT(\"'PRODUCT DATA'!$H\"&$A24&\"\"))*(INDIRECT(\"'PRODUCT DATA'!$L\"&$A24&\"\")))*($F24))","v":{"$error":"#NAME?"}},{"$f":"IF((INDIRECT(\"'PRODUCT DATA'!$M\"&$A24&\"\"))=0,\"*\",((INDIRECT(\"'PRODUCT DATA'!$H\"&$A24&\"\"))*(INDIRECT(\"'PRODUCT DATA'!$M\"&$A24&\"\")))*($F24))","v":{"$error":"#NAME?"}},{"$f":"IF((INDIRECT(\"'PRODUCT DATA'!$O\"&$A24&\"\"))=0,\"*\",((INDIRECT(\"'PRODUCT DATA'!$H\"&$A24&\"\"))*(INDIRECT(\"'PRODUCT DATA'!$O\"&$A24&\"\")))*($F24))","v":{"$error":"#NAME?"}},{"$f":"IF((INDIRECT(\"'PRODUCT DATA'!$Q\"&$A24&\"\"))=0,\"*\",((INDIRECT(\"'PRODUCT DATA'!$H\"&$A24&\"\"))*(INDIRECT(\"'PRODUCT DATA'!$Q\"&$A24&\"\")))*($F24))","v":{"$error":"#NAME?"}},{"$f":"IF((INDIRECT(\"'PRODUCT DATA'!$R\"&$A24&\"\"))=0,\"*\",((INDIRECT(\"'PRODUCT DATA'!$H\"&$A24&\"\"))*(INDIRECT(\"'PRODUCT DATA'!$R\"&$A24&\"\")))*($F24))","v":{"$error":"#NAME?"}},{"$f":"IF((INDIRECT(\"'PRODUCT DATA'!$S\"&$A24&\"\"))=0,\"*\",((INDIRECT(\"'PRODUCT DATA'!$H\"&$A24&\"\"))*(INDIRECT(\"'PRODUCT DATA'!$S\"&$A24&\"\")))*($F24))","v":{"$error":"#NAME?"}},{"$f":"IF((INDIRECT(\"'PRODUCT DATA'!$T\"&$A24&\"\"))=0,\"*\",((INDIRECT(\"'PRODUCT DATA'!$H\"&$A24&\"\"))*(INDIRECT(\"'PRODUCT DATA'!$T\"&$A24&\"\")))*($F24))","v":{"$error":"#NAME?"}},{"$f":"IF((INDIRECT(\"'PRODUCT DATA'!$U\"&$A24&\"\"))=0,\"*\",((INDIRECT(\"'PRODUCT DATA'!$H\"&$A24&\"\"))*(INDIRECT(\"'PRODUCT DATA'!$U\"&$A24&\"\")))*($F24))","v":{"$error":"#NAME?"}},{"$f":"IF((INDIRECT(\"'PRODUCT DATA'!$V\"&$A24&\"\"))=0,\"*\",((INDIRECT(\"'PRODUCT DATA'!$H\"&$A24&\"\"))*(INDIRECT(\"'PRODUCT DATA'!$V\"&$A24&\"\")))*($F24))","v":{"$error":"#NAME?"}},{"$f":"IF((INDIRECT(\"'PRODUCT DATA'!$W\"&$A24&\"\"))=0,\"*\",((INDIRECT(\"'PRODUCT DATA'!$H\"&$A24&\"\"))*(INDIRECT(\"'PRODUCT DATA'!$W\"&$A24&\"\")))*($F24))","v":{"$error":"#NAME?"}},{"$f":"IF((INDIRECT(\"'PRODUCT DATA'!$X\"&$A24&\"\"))=0,\"*\",((INDIRECT(\"'PRODUCT DATA'!$H\"&$A24&\"\"))*(INDIRECT(\"'PRODUCT DATA'!$X\"&$A24&\"\")))*($F24))","v":{"$error":"#NAME?"}},{"$f":"IF((INDIRECT(\"'PRODUCT DATA'!$Y\"&$A24&\"\"))=0,\"*\",((INDIRECT(\"'PRODUCT DATA'!$H\"&$A24&\"\"))*(INDIRECT(\"'PRODUCT DATA'!$Y\"&$A24&\"\")))*($F24))","v":{"$error":"#NAME?"}},{"$f":"IF((INDIRECT(\"'PRODUCT DATA'!$Z\"&$A24&\"\"))=0,\"*\",((INDIRECT(\"'PRODUCT DATA'!$H\"&$A24&\"\"))*(INDIRECT(\"'PRODUCT DATA'!$Z\"&$A24&\"\")))*($F24))","v":{"$error":"#NAME?"}},{"$f":"IF((INDIRECT(\"'PRODUCT DATA'!$AA\"&$A24&\"\"))=0,\"*\",((INDIRECT(\"'PRODUCT DATA'!$H\"&$A24&\"\"))*(INDIRECT(\"'PRODUCT DATA'!$AA\"&$A24&\"\")))*($F24))","v":{"$error":"#NAME?"}},{"$f":"IF((INDIRECT(\"'PRODUCT DATA'!$AB\"&$A24&\"\"))=0,\"*\",((INDIRECT(\"'PRODUCT DATA'!$H\"&$A24&\"\"))*(INDIRECT(\"'PRODUCT DATA'!$AB\"&$A24&\"\")))*($F24))","v":{"$error":"#NAME?"}}]
[{"$error":"#NAME?"},{"$nulls":5},{"$error":"#NAME?"},{"$error":"#NAME?"},{"$error":"#NAME?"},{"$error":"#NAME?"},{"$error":"#NAME?"},{"$error":"#NAME?"},{"$error":"#NAME?"},{"$error":"#NAME?"},{"$error":"#NAME?"},{"$error":"#NAME?"},{"$error":"#NAME?"},{"$error":"#NAME?"},{"$error":"#NAME?"},{"$error":"#NAME?"},{"$error":"#NAME?"}]
[{"$error":"#NAME?"},{"$nulls":5},{"$error":"#NAME?"},{"$error":"#NAME?"},{"$error":"#NAME?"},{"$error":"#NAME?"},{"$error":"#NAME?"},{"$error":"#NAME?"},{"$error":"#NAME?"},{"$error":"#NAME?"},{"$error":"#NAME?"},{"$error":"#NAME?"},{"$error":"#NAME?"},{"$error":"#NAME?"},{"$error":"#NAME?"},{"$error":"#NAME?"},{"$error":"#NAME?"}]
[{"$error":"#NAME?"},{"$nulls":5},{"$error":"#NAME?"},{"$error":"#NAME?"},{"$error":"#NAME?"},{"$error":"#NAME?"},{"$error":"#NAME?"},{"$error":"#NAME?"},{"$error":"#NAME?"},{"$error":"#NAME?"},{"$error":"#NAME?"},{"$error":"#NAME?"},{"$error":"#NAME?"},{"$error":"#NAME?"},{"$error":"#NAME?"},{"$error":"#NAME?"},{"$error":"#NAME?"}]
[{"$error":"#NAME?"},{"$nulls":5},{"$error":"#NAME?"},{"$error":"#NAME?"},{"$error":"#NAME?"},{"$error":"#NAME?"},{"$error":"#NAME?"},{"$error":"#NAME?"},{"$error":"#NAME?"},{"$error":"#NAME?"},{"$error":"#NAME?"},{"$error":"#NAME?"},{"$error":"#NAME?"},{"$error":"#NAME?"},{"$error":"#NAME?"},{"$error":"#NAME?"},{"$error":"#NAME?"}]
[{"$error":"#NAME?"},{"$nulls":5},{"$error":"#NAME?"},{"$error":"#NAME?"},{"$error":"#NAME?"},{"$error":"#NAME?"},{"$error":"#NAME?"},{"$error":"#NAME?"},{"$error":"#NAME?"},{"$error":"#NAME?"},{"$error":"#NAME?"},{"$error":"#NAME?"},{"$error":"#NAME?"},{"$error":"#NAME?"},{"$error":"#NAME?"},{"$error":"#NAME?"},{"$error":"#NAME?"}]
[null,null,"Sub-Total (Each Application):",{"$nulls":3},{"$f":"IF(SUM(G24:G29)=0,\"0\",SUM(G24:G29))","v":{"$error":"#NAME?"}},{"$error":"#NAME?"},{"$error":"#NAME?"},{"$error":"#NAME?"},{"$error":"#NAME?"},{"$error":"#NAME?"},{"$error":"#NAME?"},{"$error":"#NAME?"},{"$error":"#NAME?"},{"$error":"#NAME?"},{"$error":"#NAME?"},{"$error":"#NAME?"},{"$error":"#NAME?"},{"$error":"#NAME?"},{"$error":"#NAME?"}]
[null,null,"Programme Sub-Total:",{"$nulls":3},{"$f":"G30*$M$12","v":{"$error":"#NAME?"}},{"$error":"#NAME?"},{"$error":"#NAME?"},{"$error":"#NAME?"},{"$error":"#NAME?"},{"$error":"#NAME?"},{"$error":"#NAME?"},{"$error":"#NAME?"},{"$error":"#NAME?"},{"$error":"#NAME?"},{"$error":"#NAME?"},{"$error":"#NAME?"},{"$error":"#NAME?"},{"$error":"#NAME?"},{"$error":"#NAME?"}]
[]
[]
[]
[null,null,"MIX #2",null,null,"L / Ha","Kg of Nutrient per Ha"]
[{"$nulls":5},"RATE","N","P2O5","K2O","Ca","Mg","S","Fe","Mn","Zn","Cu","B","Si","Mo","Co","HPO3"]
[{"$f":"IF(($C37=id.255),3,IF(($C37=id.256),4,IF(($C37=id.215),5,IF(($C37=id.200),7,IF(($C37=id.285),10,IF(($C37=id.210),12,IF(($C37=id.106),13,IF(($C37=id.310),14,IF(($C37=id.141),15,IF(($C37=id.360),16,IF(($C37=id.245),17,IF(($C37=id.225),18,IF(($C37=id.192),19,IF(($C37=id.196),20,IF(($C37=id.330),21,IF(($C37=id.675),22,IF(($C37=id.730),23,IF(($C37=id.855),24,IF(($C37=id.180),28,IF(($C37=id.185),29,IF(($C37=id.195),30,IF(($C37=id.240),31,IF(($C37=id.300),32,IF(($C37=id.177),33,IF(($C37=id.860),35,IF(($C37=id.840),36,IF(($C37=id.865),37,IF(($C37=id.800),38,IF(($C37=id.600),41,IF(($C37=id.x1),43,IF(($C37=id.x2),44,\"42\")))))))))))))))))))))))))))))))","v":{"$error":"#NAME?"}},{"$nulls":5},{"$f":"IF((INDIRECT(\"'PRODUCT DATA'!$L\"&$A37&\"\"))=0,\"*\",((INDIRECT(\"'PRODUCT DATA'!$H\"&$A37&\"\"))*(INDIRECT(\"'PRODUCT DATA'!$L\"&$A37&\"\")))*($F37))","v":{"$error":"#NAME?"}},{"$f":"IF((INDIRECT(\"'PRODUCT DATA'!$M\"&$A37&\"\"))=0,\"*\",((INDIRECT(\"'PRODUCT DATA'!$H\"&$A37&\"\"))*(INDIRECT(\"'PRODUCT DATA'!$M\"&$A37&\"\")))*($F37))","v":{"$error":"#NAME?"}},{"$f":"IF((INDIRECT(\"'PRODUCT DATA'!$O\"&$A37&\"\"))=0,\"*\",((INDIRECT(\"'PRODUCT DATA'!$H\"&$A37&\"\"))*(INDIRECT(\"'PRODUCT DATA'!$O\"&$A37&\"\")))*($F37))","v":{"$error":"#NAME?"}},{"$f":"IF((INDIRECT(\"'PRODUCT DATA'!$Q\"&$A37&\"\"))=0,\"*\",((INDIRECT(\"'PRODUCT DATA'!$H\"&$A37&\"\"))*(INDIRECT(\"'PRODUCT DATA'!$Q\"&$A37&\"\")))*($F37))","v":{"$error":"#NAME?"}},{"$f":"IF((INDIRECT(\"'PRODUCT DATA'!$R\"&$A37&\"\"))=0,\"*\",((INDIRECT(\"'PRODUCT DATA'!$H\"&$A37&\"\"))*(INDIRECT(\"'PRODUCT DATA'!$R\"&$A37&\"\")))*($F37))","v":{"$error":"#NAME?"}},{"$f":"IF((INDIRECT(\"'PRODUCT DATA'!$S\"&$A37&\"\"))=0,\"*\",((INDIRECT(\"'PRODUCT DATA'!$H\"&$A37&\"\"))*(INDIRECT(\"'PRODUCT DATA'!$S\"&$A37&\"\")))*($F37))","v":{"$error":"#NAME?"}},{"$f":"IF((INDIRECT(\"'PRODUCT DATA'!$T\"&$A37&\"\"))=0,\"*\",((INDIRECT(\"'PRODUCT DATA'!$H\"&$A37&\"\"))*(INDIRECT(\"'PRODUCT DATA'!$T\"&$A37&\"\")))*($F37))","v":{"$error":"#NAME?"}},{"$f":"IF((INDIRECT(\"'PRODUCT DATA'!$U\"&$A37&\"\"))=0,\"*\",((INDIRECT(\"'PRODUCT DATA'!$H\"&$A37&\"\"))*(INDIRECT(\"'PRODUCT DATA'!$U\"&$A37&\"\")))*($F37))","v":{"$error":"#NAME?"}},{"$f":"IF((INDIRECT(\"'PRODUCT DATA'!$V\"&$A37&\"\"))=0,\"*\",((INDIRECT(\"'PRODUCT DATA'!$H\"&$A37&\"\"))*(INDIRECT(\"'PRODUCT DATA'!$V\"&$A37&\"\")))*($F37))","v":{"$error":"#NAME?"}},{"$f":"IF((INDIRECT(\"'PRODUCT DATA'!$W\"&$A37&\"\"))=0,\"*\",((INDIRECT(\"'PRODUCT DATA'!$H\"&$A37&\"\"))*(INDIRECT(\"'PRODUCT DATA'!$W\"&$A37&\"\")))*($F37))","v":{"$error":"#NAME?"}},{"$f":"IF((INDIRECT(\"'PRODUCT DATA'!$X\"&$A37&\"\"))=0,\"*\",((INDIRECT(\"'PRODUCT DATA'!$H\"&$A37&\"\"))*(INDIRECT(\"'PRODUCT DATA'!$X\"&$A37&\"\")))*($F37))","v":{"$error":"#NAME?"}},{"$f":"IF((INDIRECT(\"'PRODUCT DATA'!$Y\"&$A37&\"\"))=0,\"*\",((INDIRECT(\"'PRODUCT DATA'!$H\"&$A37&\"\"))*(INDIRECT(\"'PRODUCT DATA'!$Y\"&$A37&\"\")))*($F37))","v":{"$error":"#NAME?"}},{"$f":"IF((INDIRECT(\"'PRODUCT DATA'!$Z\"&$A37&\"\"))=0,\"*\",((INDIRECT(\"'PRODUCT DATA'!$H\"&$A37&\"\"))*(INDIRECT(\"'PRODUCT DATA'!$Z\"&$A37&\"\")))*($F37))","v":{"$error":"#NAME?"}},{"$f":"IF((INDIRECT(\"'PRODUCT DATA'!$AA\"&$A37&\"\"))=0,\"*\",((INDIRECT(\"'PRODUCT DATA'!$H\"&$A37&\"\"))*(INDIRECT(\"'PRODUCT DATA'!$AA\"&$A37&\"\")))*($F37))","v":{"$error":"#NAME?"}},{"$f":"IF((INDIRECT(\"'PRODUCT DATA'!$AB\"&$A37&\"\"))=0,\"*\",((INDIRECT(\"'PRODUCT DATA'!$H\"&$A37&\"\"))*(INDIRECT(\"'PRODUCT DATA'!$AB\"&$A37&\"\")))*($F37))","v":{"$error":"#NAME?"}}]
[{"$error":"#NAME?"},{"$nulls":5},{"$error":"#NAME?"},{"$error":"#NAME?"},{"$error":"#NAME?"},{"$error":"#NAME?"},{"$error":"#NAME?"},{"$error":"#NAME?"},{"$error":"#NAME?"},{"$error":"#NAME?"},{"$error":"#NAME?"},{"$error":"#NAME?"},{"$error":"#NAME?"},{"$error":"#NAME?"},{"$error":"#NAME?"},{"$error":"#NAME?"},{"$error":"#NAME?"}]
[{"$error":"#NAME?"},{"$nulls":5},{"$error":"#NAME?"},{"$error":"#NAME?"},{"$error":"#NAME?"},{"$error":"#NAME?"},{"$error":"#NAME?"},{"$error":"#NAME?"},{"$error":"#NAME?"},{"$error":"#NAME?"},{"$error":"#NAME?"},{"$error":"#NAME?"},{"$error":"#NAME?"},{"$error":"#NAME?"},{"$error":"#NAME?"},{"$error":"#NAME?"},{"$error":"#NAME?"}]
[{"$error":"#NAME?"},{"$nulls":5},{"$error":"#NAME?"},{"$error":"#NAME?"},{"$error":"#NAME?"},{"$error":"#NAME?"},{"$error":"#NAME?"},{"$error":"#NAME?"},{"$error":"#NAME?"},{"$error":"#NAME?"},{"$error":"#NAME?"},{"$error":"#NAME?"},{"$error":"#NAME?"},{"$error":"#NAME?"},{"$error":"#NAME?"},{"$error":"#NAME?"},{"$error":"#NAME?"}]
[{"$error":"#NAME?"},{"$nulls":5},{"$error":"#NAME?"},{"$error":"#NAME?"},{"$error":"#NAME?"},{"$error":"#NAME?"},{"$error":"#NAME?"},{"$error":"#NAME?"},{"$error":"#NAME?"},{"$error":"#NAME?"},{"$error":"#NAME?"},{"$error":"#NAME?"},{"$error":"#NAME?"},{"$error":"#NAME?"},{"$error":"#NAME?"},{"$error":"#NAME?"},{"$error":"#NAME?"}]
[{"$error":"#NAME?"},{"$nulls":5},{"$error":"#NAME?"},{"$error":"#NAME?"},{"$error":"#NAME?"},{"$error":"#NAME?"},{"$error":"#NAME?"},{"$error":"#NAME?"},{"$error":"#NAME?"},{"$error":"#NAME?"},{"$error":"#NAME?"},{"$error":"#NAME?"},{"$error":"#NAME?"},{"$error":"#NAME?"},{"$error":"#NAME?"},{"$error":"#NAME?"},{"$error":"#NAME?"}]
[null,null,"Sub-Total (Each Application):",{"$nulls":3},{"$f":"IF(SUM(G37:G42)=0,\"0\",SUM(G37:G42))","v":{"$error":"#NAME?"}},{"$error":"#NAME?"},{"$error":"#NAME?"},{"$error":"#NAME?"},{"$error":"#NAME?"},{"$error":"#NAME?"},{"$error":"#NAME?"},{"$error":"#NAME?"},{"$error":"#NAME?"},{"$error":"#NAME?"},{"$error":"#NAME?"},{"$error":"#NAME?"},{"$error":"#NAME?"},{"$error":"#NAME?"},{"$error":"#NAME?"}]
[null,null,"Programme Sub-Total:",{"$nulls":3},{"$f":"G43*$M$13","v":{"$error":"#NAME?"}},{"$error":"#NAME?"},{"$error":"#NAME?"},{"$error":"#NAME?"},{"$error":"#NAME?"},{"$error":"#NAME?"},{"$error":"#NAME?"},{"$error":"#NAME?"},{"$error":"#NAME?"},{"$error":"#NAME?"},{"$error":"#NAME?"},{"$error":"#NAME?"},{"$error":"#NAME?"},{"$error":"#NAME?"},{"$error":"#NAME?"}]
[]
[]
[]
[null,null,"MIX #3",null,null,"L / Ha","Kg of Nutrient per Ha"]
[{"$nulls":5},"RATE","N","P2O5","K2O","Ca","Mg","S","Fe","Mn","Zn","Cu","B","Si","Mo","Co","HPO3"]
[{"$f":"IF(($C50=id.255),3,IF(($C50=id.256),4,IF(($C50=id.215),5,IF(($C50=id.200),7,IF(($C50=id.285),10,IF(($C50=id.210),12,IF(($C50=id.106),13,IF(($C50=id.310),14,IF(($C50=id.141),15,IF(($C50=id.360),16,IF(($C50=id.245),17,IF(($C50=id.225),18,IF(($C50=id.192),19,IF(($C50=id.196),20,IF(($C50=id.330),21,IF(($C50=id.675),22,IF(($C50=id.730),23,IF(($C50=id.855),24,IF(($C50=id.180),28,IF(($C50=id.185),29,IF(($C50=id.195),30,IF(($C50=id.240),31,IF(($C50=id.300),32,IF(($C50=id.177),33,IF(($C50=id.860),35,IF(($C50=id.840),36,IF(($C50=id.865),37,IF(($C50=id.800),38,IF(($C50=id.600),41,IF(($C50=id.x1),43,IF(($C50=id.x2),44,\"42\")))))))))))))))))))))))))))))))","v":{"$error":"#NAME?"}},{"$nulls":5},{"$f":"IF((INDIRECT(\"'PRODUCT DATA'!$L\"&$A50&\"\"))=0,\"*\",((INDIRECT(\"'PRODUCT DATA'!$H\"&$A50&\"\"))*(INDIRECT(\"'PRODUCT DATA'!$L\"&$A50&\"\")))*($F50))","v":{"$error":"#NAME?"}},{"$f":"IF((INDIRECT(\"'PRODUCT DATA'!$M\"&$A50&\"\"))=0,\"*\",((INDIRECT(\"'PRODUCT DATA'!$H\"&$A50&\"\"))*(INDIRECT(\"'PRODUCT DATA'!$M\"&$A50&\"\")))*($F50))","v":{"$error":"#NAME?"}},{"$f":"IF((INDIRECT(\"'PRODUCT DATA'!$O\"&$A50&\"\"))=0,\"*\",((INDIRECT(\"'PRODUCT DATA'!$H\"&$A50&\"\"))*(INDIRECT(\"'PRODUCT DATA'!$O\"&$A50&\"\")))*($F50))","v":{"$error":"#NAME?"}},{"$f":"IF((INDIRECT(\"'PRODUCT DATA'!$Q\"&$A50&\"\"))=0,\"*\",((INDIRECT(\"'PRODUCT DATA'!$H\"&$A50&\"\"))*(INDIRECT(\"'PRODUCT DATA'!$Q\"&$A50&\"\")))*($F50))","v":{"$error":"#NAME?"}},{"$f":"IF((INDIRECT(\"'PRODUCT DATA'!$R\"&$A50&\"\"))=0,\"*\",((INDIRECT(\"'PRODUCT DATA'!$H\"&$A50&\"\"))*(INDIRECT(\"'PRODUCT DATA'!$R\"&$A50&\"\")))*($F50))","v":{"$error":"#NAME?"}},{"$f":"IF((INDIRECT(\"'PRODUCT DATA'!$S\"&$A50&\"\"))=0,\"*\",((INDIRECT(\"'PRODUCT DATA'!$H\"&$A50&\"\"))*(INDIRECT(\"'PRODUCT DATA'!$S\"&$A50&\"\")))*($F50))","v":{"$error":"#NAME?"}},{"$f":"IF((INDIRECT(\"'PRODUCT DATA'!$T\"&$A50&\"\"))=0,\"*\",((INDIRECT(\"'PRODUCT DATA'!$H\"&$A50&\"\"))*(INDIRECT(\"'PRODUCT DATA'!$T\"&$A50&\"\")))*($F50))","v":{"$error":"#NAME?"}},{"$f":"IF((INDIRECT(\"'PRODUCT DATA'!$U\"&$A50&\"\"))=0,\"*\",((INDIRECT(\"'PRODUCT DATA'!$H\"&$A50&\"\"))*(INDIRECT(\"'PRODUCT DATA'!$U\"&$A50&\"\")))*($F50))","v":{"$error":"#NAME?"}},{"$f":"IF((INDIRECT(\"'PRODUCT DATA'!$V\"&$A50&\"\"))=0,\"*\",((INDIRECT(\"'PRODUCT DATA'!$H\"&$A50&\"\"))*(INDIRECT(\"'PRODUCT DATA'!$V\"&$A50&\"\")))*($F50))","v":{"$error":"#NAME?"}},{"$f":"IF((INDIRECT(\"'PRODUCT DATA'!$W\"&$A50&\"\"))=0,\"*\",((INDIRECT(\"'PRODUCT DATA'!$H\"&$A50&\"\"))*(INDIRECT(\"'PRODUCT DATA'!$W\"&$A50&\"\")))*($F50))","v":{"$error":"#NAME?"}},{"$f":"IF((INDIRECT(\"'PRODUCT DATA'!$X\"&$A50&\"\"))=0,\"*\",((INDIRECT(\"'PRODUCT DATA'!$H\"&$A50&\"\"))*(INDIRECT(\"'PRODUCT DATA'!$X\"&$A50&\"\")))*($F50))","v":{"$error":"#NAME?"}},{"$f":"IF((INDIRECT(\"'PRODUCT DATA'!$Y\"&$A50&\"\"))=0,\"*\",((INDIRECT(\"'PRODUCT DATA'!$H\"&$A50&\"\"))*(INDIRECT(\"'PRODUCT DATA'!$Y\"&$A50&\"\")))*($F50))","v":{"$error":"#NAME?"}},{"$f":"IF((INDIRECT(\"'PRODUCT DATA'!$Z\"&$A50&\"\"))=0,\"*\",((INDIRECT(\"'PRODUCT DATA'!$H\"&$A50&\"\"))*(INDIRECT(\"'PRODUCT DATA'!$Z\"&$A50&\"\")))*($F50))","v":{"$error":"#NAME?"}},{"$f":"IF((INDIRECT(\"'PRODUCT DATA'!$AA\"&$A50&\"\"))=0,\"*\",((INDIRECT(\"'PRODUCT DATA'!$H\"&$A50&\"\"))*(INDIRECT(\"'PRODUCT DATA'!$AA\"&$A50&\"\")))*($F50))","v":{"$error":"#NAME?"}},{"$f":"IF((INDIRECT(\"'PRODUCT DATA'!$AB\"&$A50&\"\"))=0,\"*\",((INDIRECT(\"'PRODUCT DATA'!$H\"&$A50&\"\"))*(INDIRECT(\"'PRODUCT DATA'!$AB\"&$A50&\"\")))*($F50))","v":{"$error":"#NAME?"}}]
[{"$error":"#NAME?"},{"$nulls":5},{"$error":"#NAME?"},{"$error":"#NAME?"},{"$error":"#NAME?"},{"$error":"#NAME?"},{"$error":"#NAME?"},{"$error":"#NAME?"},{"$error":"#NAME?"},{"$error":"#NAME?"},{"$error":"#NAME?"},{"$error":"#NAME?"},{"$error":"#NAME?"},{"$error":"#NAME?"},{"$error":"#NAME?"},{"$error":"#NAME?"},{"$error":"#NAME?"}]
[{"$error":"#NAME?"},{"$nulls":5},{"$error":"#NAME?"},{"$error":"#NAME?"},{"$error":"#NAME?"},{"$error":"#NAME?"},{"$error":"#NAME?"},{"$error":"#NAME?"},{"$error":"#NAME?"},{"$error":"#NAME?"},{"$error":"#NAME?"},{"$error":"#NAME?"},{"$error":"#NAME?"},{"$error":"#NAME?"},{"$error":"#NAME?"},{"$error":"#NAME?"},{"$error":"#NAME?"}]
[{"$error":"#NAME?"},{"$nulls":5},{"$error":"#NAME?"},{"$error":"#NAME?"},{"$error":"#NAME?"},{"$error":"#NAME?"},{"$error":"#NAME?"},{"$error":"#NAME?"},{"$error":"#NAME?"},{"$error":"#NAME?"},{"$error":"#NAME?"},{"$error":"#NAME?"},{"$error":"#NAME?"},{"$error":"#NAME?"},{"$error":"#NAME?"},{"$error":"#NAME?"},{"$error":"#NAME?"}]
[{"$error":"#NAME?"},{"$nulls":5},{"$error":"#NAME?"},{"$error":"#NAME?"},{"$error":"#NAME?"},{"$error":"#NAME?"},{"$error":"#NAME?"},{"$error":"#NAME?"},{"$error":"#NAME?"},{"$error":"#NAME?"},{"$error":"#NAME?"},{"$error":"#NAME?"},{"$error":"#NAME?"},{"$error":"#NAME?"},{"$error":"#NAME?"},{"$error":"#NAME?"},{"$error":"#NAME?"}]
[{"$error":"#NAME?"},{"$nulls":5},{"$error":"#NAME?"},{"$error":"#NAME?"},{"$error":"#NAME?"},{"$error":"#NAME?"},{"$error":"#NAME?"},{"$error":"#NAME?"},{"$error":"#NAME?"},{"$error":"#NAME?"},{"$error":"#NAME?"},{"$error":"#NAME?"},{"$error":"#NAME?"},{"$error":"#NAME?"},{"$error":"#NAME?"},{"$error":"#NAME?"},{"$error":"#NAME?"}]
[null,null,"Sub-Total (Each Application):",{"$nulls":3},{"$f":"IF(SUM(G50:G55)=0,\"0\",SUM(G50:G55))","v":{"$error":"#NAME?"}},{"$error":"#NAME?"},{"$error":"#NAME?"},{"$error":"#NAME?"},{"$error":"#NAME?"},{"$error":"#NAME?"},{"$error":"#NAME?"},{"$error":"#NAME?"},{"$error":"#NAME?"},{"$error":"#NAME?"},{"$error":"#NAME?"},{"$error":"#NAME?"},{"$error":"#NAME?"},{"$error":"#NAME?"},{"$error":"#NAME?"}]
[null,null,"Programme Sub-Total:",{"$nulls":3},{"$f":"G56*$M$14","v":{"$error":"#NAME?"}},{"$error":"#NAME?"},{"$error":"#NAME?"},{"$error":"#NAME?"},{"$error":"#NAME?"},{"$error":"#NAME?"},{"$error":"#NAME?"},{"$error":"#NAME?"},{"$error":"#NAME?"},{"$error":"#NAME?"},{"$error":"#NAME?"},{"$error":"#NAME?"},{"$error":"#NAME?"},{"$error":"#NAME?"},{"$error":"#NAME?"}]
[]
[]
[null,null,"MIX #4    ",null,null,"L / Ha","Kg of Nutrient per Ha"]
[{"$nulls":5},"RATE","N","P2O5","K2O","Ca","Mg","S","Fe","Mn","Zn","Cu","B","Si","Mo","Co","HPO3"]
[{"$f":"IF(($C62=id.255),3,IF(($C62=id.256),4,IF(($C62=id.215),5,IF(($C62=id.200),7,IF(($C62=id.285),10,IF(($C62=id.210),12,IF(($C62=id.106),13,IF(($C62=id.310),14,IF(($C62=id.141),15,IF(($C62=id.360),16,IF(($C62=id.245),17,IF(($C62=id.225),18,IF(($C62=id.192),19,IF(($C62=id.196),20,IF(($C62=id.330),21,IF(($C62=id.675),22,IF(($C62=id.730),23,IF(($C62=id.855),24,IF(($C62=id.180),28,IF(($C62=id.185),29,IF(($C62=id.195),30,IF(($C62=id.240),31,IF(($C62=id.300),32,IF(($C62=id.177),33,IF(($C62=id.860),35,IF(($C62=id.840),36,IF(($C62=id.865),37,IF(($C62=id.800),38,IF(($C62=id.600),41,IF(($C62=id.x1),43,IF(($C62=id.x2),44,\"42\")))))))))))))))))))))))))))))))","v":{"$error":"#NAME?"}},{"$nulls":5},{"$f":"IF((INDIRECT(\"'PRODUCT DATA'!$L\"&$A62&\"\"))=0,\"*\",((INDIRECT(\"'PRODUCT DATA'!$H\"&$A62&\"\"))*(INDIRECT(\"'PRODUCT DATA'!$L\"&$A62&\"\")))*($F62))","v":{"$error":"#NAME?"}},{"$f":"IF((INDIRECT(\"'PRODUCT DATA'!$M\"&$A62&\"\"))=0,\"*\",((INDIRECT(\"'PRODUCT DATA'!$H\"&$A62&\"\"))*(INDIRECT(\"'PRODUCT DATA'!$M\"&$A62&\"\")))*($F62))","v":{"$error":"#NAME?"}},{"$f":"IF((INDIRECT(\"'PRODUCT DATA'!$O\"&$A62&\"\"))=0,\"*\",((INDIRECT(\"'PRODUCT DATA'!$H\"&$A62&\"\"))*(INDIRECT(\"'PRODUCT DATA'!$O\"&$A62&\"\")))*($F62))","v":{"$error":"#NAME?"}},{"$f":"IF((INDIRECT(\"'PRODUCT DATA'!$Q\"&$A62&\"\"))=0,\"*\",((INDIRECT(\"'PRODUCT DATA'!$H\"&$A62&\"\"))*(INDIRECT(\"'PRODUCT DATA'!$Q\"&$A62&\"\")))*($F62))","v":{"$error":"#NAME?"}},{"$f":"IF((INDIRECT(\"'PRODUCT DATA'!$R\"&$A62&\"\"))=0,\"*\",((INDIRECT(\"'PRODUCT DATA'!$H\"&$A62&\"\"))*(INDIRECT(\"'PRODUCT DATA'!$R\"&$A62&\"\")))*($F62))","v":{"$error":"#NAME?"}},{"$f":"IF((INDIRECT(\"'PRODUCT DATA'!$S\"&$A62&\"\"))=0,\"*\",((INDIRECT(\"'PRODUCT DATA'!$H\"&$A62&\"\"))*(INDIRECT(\"'PRODUCT DATA'!$S\"&$A62&\"\")))*($F62))","v":{"$error":"#NAME?"}},{"$f":"IF((INDIRECT(\"'PRODUCT DATA'!$T\"&$A62&\"\"))=0,\"*\",((INDIRECT(\"'PRODUCT DATA'!$H\"&$A62&\"\"))*(INDIRECT(\"'PRODUCT DATA'!$T\"&$A62&\"\")))*($F62))","v":{"$error":"#NAME?"}},{"$f":"IF((INDIRECT(\"'PRODUCT DATA'!$U\"&$A62&\"\"))=0,\"*\",((INDIRECT(\"'PRODUCT DATA'!$H\"&$A62&\"\"))*(INDIRECT(\"'PRODUCT DATA'!$U\"&$A62&\"\")))*($F62))","v":{"$error":"#NAME?"}},{"$f":"IF((INDIRECT(\"'PRODUCT DATA'!$V\"&$A62&\"\"))=0,\"*\",((INDIRECT(\"'PRODUCT DATA'!$H\"&$A62&\"\"))*(INDIRECT(\"'PRODUCT DATA'!$V\"&$A62&\"\")))*($F62))","v":{"$error":"#NAME?"}},{"$f":"IF((INDIRECT(\"'PRODUCT DATA'!$W\"&$A62&\"\"))=0,\"*\",((INDIRECT(\"'PRODUCT DATA'!$H\"&$A62&\"\"))*(INDIRECT(\"'PRODUCT DATA'!$W\"&$A62&\"\")))*($F62))","v":{"$error":"#NAME?"}},{"$f":"IF((INDIRECT(\"'PRODUCT DATA'!$X\"&$A62&\"\"))=0,\"*\",((INDIRECT(\"'PRODUCT DATA'!$H\"&$A62&\"\"))*(INDIRECT(\"'PRODUCT DATA'!$X\"&$A62&\"\")))*($F62))","v":{"$error":"#NAME?"}},{"$f":"IF((INDIRECT(\"'PRODUCT DATA'!$Y\"&$A62&\"\"))=0,\"*\",((INDIRECT(\"'PRODUCT DATA'!$H\"&$A62&\"\"))*(INDIRECT(\"'PRODUCT DATA'!$Y\"&$A62&\"\")))*($F62))","v":{"$error":"#NAME?"}},{"$f":"IF((INDIRECT(\"'PRODUCT DATA'!$Z\"&$A62&\"\"))=0,\"*\",((INDIRECT(\"'PRODUCT DATA'!$H\"&$A62&\"\"))*(INDIRECT(\"'PRODUCT DATA'!$Z\"&$A62&\"\")))*($F62))","v":{"$error":"#NAME?"}},{"$f":"IF((INDIRECT(\"'PRODUCT DATA'!$AA\"&$A62&\"\"))=0,\"*\",((INDIRECT(\"'PRODUCT DATA'!$H\"&$A62&\"\"))*(INDIRECT(\"'PRODUCT DATA'!$AA\"&$A62&\"\")))*($F62))","v":{"$error":"#NAME?"}},{"$f":"IF((INDIRECT(\"'PRODUCT DATA'!$AB\"&$A62&\"\"))=0,\"*\",((INDIRECT(\"'PRODUCT DATA'!$H\"&$A62&\"\"))*(INDIRECT(\"'PRODUCT DATA'!$AB\"&$A62&\"\")))*($F62))","v":{"$error":"#NAME?"}}]
[{"$error":"#NAME?"},{"$nulls":5},{"$error":"#NAME?"},{"$error":"#NAME?"},{"$error":"#NAME?"},{"$error":"#NAME?"},{"$error":"#NAME?"},{"$error":"#NAME?"},{"$error":"#NAME?"},{"$error":"#NAME?"},{"$error":"#NAME?"},{"$error":"#NAME?"},{"$error":"#NAME?"},{"$error":"#NAME?"},{"$error":"#NAME?"},{"$error":"#NAME?"},{"$error":"#NAME?"}]
[{"$error":"#NAME?"},{"$nulls":5},{"$error":"#NAME?"},{"$error":"#NAME?"},{"$error":"#NAME?"},{"$error":"#NAME?"},{"$error":"#NAME?"},{"$error":"#NAME?"},{"$error":"#NAME?"},{"$error":"#NAME?"},{"$error":"#NAME?"},{"$error":"#NAME?"},{"$error":"#NAME?"},{"$error":"#NAME?"},{"$error":"#NAME?"},{"$error":"#NAME?"},{"$error":"#NAME?"}]
[{"$error":"#NAME?"},{"$nulls":5},{"$error":"#NAME?"},{"$error":"#NAME?"},{"$error":"#NAME?"},{"$error":"#NAME?"},{"$error":"#NAME?"},{"$error":"#NAME?"},{"$error":"#NAME?"},{"$error":"#NAME?"},{"$error":"#NAME?"},{"$error":"#NAME?"},{"$error":"#NAME?"},{"$error":"#NAME?"},{"$error":"#NAME?"},{"$error":"#NAME?"},{"$error":"#NAME?"}]
[{"$error":"#NAME?"},{"$nulls":5},{"$error":"#NAME?"},{"$error":"#NAME?"},{"$error":"#NAME?"},{"$error":"#NAME?"},{"$error":"#NAME?"},{"$error":"#NAME?"},{"$error":"#NAME?"},{"$error":"#NAME?"},{"$error":"#NAME?"},{"$error":"#NAME?"},{"$error":"#NAME?"},{"$error":"#NAME?"},{"$error":"#NAME?"},{"$error":"#NAME?"},{"$error":"#NAME?"}]
[{"$error":"#NAME?"},{"$nulls":5},{"$error":"#NAME?"},{"$error":"#NAME?"},{"$error":"#NAME?"},{"$error":"#NAME?"},{"$error":"#NAME?"},{"$error":"#NAME?"},{"$error":"#NAME?"},{"$error":"#NAME?"},{"$error":"#NAME?"},{"$error":"#NAME?"},{"$error":"#NAME?"},{"$error":"#NAME?"},{"$error":"#NAME?"},{"$error":"#NAME?"},{"$error":"#NAME?"}]
[null,null,"Sub-Total (Each Application):",{"$nulls":3},{"$f":"IF(SUM(G62:G67)=0,\"0\",SUM(G62:G67))","v":{"$error":"#NAME?"}},{"$error":"#NAME?"},{"$error":"#NAME?"},{"$error":"#NAME?"},{"$error":"#NAME?"},{"$error":"#NAME?"},{"$error":"#NAME?"},{"$error":"#NAME?"},{"$error":"#NAME?"},{"$error":"#NAME?"},{"$error":"#NAME?"},{"$error":"#NAME?"},{"$error":"#NAME?"},{"$error":"#NAME?"},{"$error":"#NAME?"}]
[null,null,"Programme Sub-Total:",{"$nulls":3},{"$f":"G68*$M$15","v":{"$error":"#NAME?"}},{"$error":"#NAME?"},{"$error":"#NAME?"},{"$error":"#NAME?"},{"$error":"#NAME?"},{"$error":"#NAME?"},{"$error":"#NAME?"},{"$error":"#NAME?"},{"$error":"#NAME?"},{"$error":"#NAME?"},{"$error":"#NAME?"},{"$error":"#NAME?"},{"$error":"#NAME?"},{"$error":"#NAME?"},{"$error":"#NAME?"}]
[]
[]
[]
[{"$nulls":5},"g / m2","Kg of Nutrient per Ha"]
[null,null," SOLUBLE #1",null,null,"RATE","N","P2O5","K2O","Ca","Mg","S","Fe","Mn","Zn","Cu","B","Si","Mo","Co","HPO3"]
[{"$f":"IF(($C75=id.x3),45,\"42\")","v":"42"},{"$nulls":5},{"$f":"IF((INDIRECT(\"'PRODUCT DATA'!$L\"&$A75&\"\"))=0,\"0\",((INDIRECT(\"'PRODUCT DATA'!$L\"&$A75&\"\"))*($F75*10)))","v":"0"},{"$f":"IF((INDIRECT(\"'PRODUCT DATA'!$M\"&$A75&\"\"))=0,\"0\",((INDIRECT(\"'PRODUCT DATA'!$M\"&$A75&\"\"))*($F75*10)))","v":"0"},{"$f":"IF((INDIRECT(\"'PRODUCT DATA'!$O\"&$A75&\"\"))=0,\"0\",((INDIRECT(\"'PRODUCT DATA'!$O\"&$A75&\"\"))*($F75*10)))","v":"0"},{"$f":"IF((INDIRECT(\"'PRODUCT DATA'!$Q\"&$A75&\"\"))=0,\"0\",((INDIRECT(\"'PRODUCT DATA'!$Q\"&$A75&\"\"))*($F75*10)))","v":"0"},{"$f":"IF((INDIRECT(\"'PRODUCT DATA'!$R\"&$A75&\"\"))=0,\"0\",((INDIRECT(\"'PRODUCT DATA'!$R\"&$A75&\"\"))*($F75*10)))","v":"0"},{"$f":"IF((INDIRECT(\"'PRODUCT DATA'!$S\"&$A75&\"\"))=0,\"0\",((INDIRECT(\"'PRODUCT DATA'!$S\"&$A75&\"\"))*($F75*10)))","v":"0"},{"$f":"IF((INDIRECT(\"'PRODUCT DATA'!$T\"&$A75&\"\"))=0,\"0\",((INDIRECT(\"'PRODUCT DATA'!$T\"&$A75&\"\"))*($F75*10)))","v":"0"},{"$f":"IF((INDIRECT(\"'PRODUCT DATA'!$U\"&$A75&\"\"))=0,\"0\",((INDIRECT(\"'PRODUCT DATA'!$U\"&$A75&\"\"))*($F75*10)))","v":"0"},{"$f":"IF((INDIRECT(\"'PRODUCT DATA'!$V\"&$A75&\"\"))=0,\"0\",((INDIRECT(\"'PRODUCT DATA'!$V\"&$A75&\"\"))*($F75*10)))","v":"0"},{"$f":"IF((INDIRECT(\"'PRODUCT DATA'!$W\"&$A75&\"\"))=0,\"0\",((INDIRECT(\"'PRODUCT DATA'!$W\"&$A75&\"\"))*($F75*10)))","v":"0"},{"$f":"IF((INDIRECT(\"'PRODUCT DATA'!$X\"&$A75&\"\"))=0,\"0\",((INDIRECT(\"'PRODUCT DATA'!$X\"&$A75&\"\"))*($F75*10)))","v":"0"},{"$f":"IF((INDIRECT(\"'PRODUCT DATA'!$Y\"&$A75&\"\"))=0,\"0\",((INDIRECT(\"'PRODUCT DATA'!$Y\"&$A75&\"\"))*($F75*10)))","v":"0"},{"$f":"IF((INDIRECT(\"'PRODUCT DATA'!$Z\"&$A75&\"\"))=0,\"0\",((INDIRECT(\"'PRODUCT DATA'!$Z\"&$A75&\"\"))*($F75*10)))","v":"0"},{"$f":"IF((INDIRECT(\"'PRODUCT DATA'!$AA\"&$A75&\"\"))=0,\"0\",((INDIRECT(\"'PRODUCT DATA'!$AA\"&$A75&\"\"))*($F75*10)))","v":"0"},{"$f":"IF((INDIRECT(\"'PRODUCT DATA'!$AB\"&$A75&\"\"))=0,\"0\",((INDIRECT(\"'PRODUCT DATA'!$AB\"&$A75&\"\"))*($F75*10)))","v":"0"}]
[null,null,"Programme Sub-Total:",{"$nulls":3},{"$f":"G75*$R$12","v":{"v":0,"d":"0.000"}},{"v":0,"d":"0.000"},{"v":0,"d":"0.000"},{"v":0,"d":"0.000"},{"v":0,"d":"0.000"},{"v":0,"d":"0.000"},{"v":0,"d":"0.000"},{"v":0,"d":"0.000"},{"v":0,"d":"0.000"},{"v":0,"d":"0.000"},{"v":0,"d":"0.000"},{"v":0,"d":"0.000"},{"v":0,"d":"0.000"},{"v":0,"d":"0.000"},{"v":0,"d":"0.000"}]
[]
[null,null,"GRANULAR #1",null,null,"RATE"]
[{"$f":"IF(($C79=id.1220),47,IF(($C79=id.1270),48,IF(($C79=id.1200),49,IF(($C79=id.1340),50,IF(($C79=id.1240),51,IF(($C79=id.1440),52,IF(($C79=id.1400),53,IF(($C79=id.1410),54,IF(($C79=id.1430),55,IF(($C79=id.1420),56,IF(($C79=id.1320),62,IF(($C79=id.1360),63,IF(($C79=id.1370),64,IF(($C79=id.2020),65,IF(($C79=id.2000),66,IF(($C79=id.z1),68,IF(($C79=id.z2),69,\"67\")))))))))))))))))","v":{"$error":"#NAME?"}},{"$nulls":5},{"$f":"IF((INDIRECT(\"'PRODUCT DATA'!$L\"&$A79&\"\"))=0,\"0\",((INDIRECT(\"'PRODUCT DATA'!$L\"&$A79&\"\"))*($F79*10)))","v":{"$error":"#NAME?"}},{"$f":"IF((INDIRECT(\"'PRODUCT DATA'!$M\"&$A79&\"\"))=0,\"0\",((INDIRECT(\"'PRODUCT DATA'!$M\"&$A79&\"\"))*($F79*10)))","v":{"$error":"#NAME?"}},{"$f":"IF((INDIRECT(\"'PRODUCT DATA'!$O\"&$A79&\"\"))=0,\"0\",((INDIRECT(\"'PRODUCT DATA'!$O\"&$A79&\"\"))*($F79*10)))","v":{"$error":"#NAME?"}},{"$f":"IF((INDIRECT(\"'PRODUCT DATA'!$Q\"&$A79&\"\"))=0,\"0\",((INDIRECT(\"'PRODUCT DATA'!$Q\"&$A79&\"\"))*($F79*10)))","v":{"$error":"#NAME?"}},{"$f":"IF((INDIRECT(\"'PRODUCT DATA'!$R\"&$A79&\"\"))=0,\"0\",((INDIRECT(\"'PRODUCT DATA'!$R\"&$A79&\"\"))*($F79*10)))","v":{"$error":"#NAME?"}},{"$f":"IF((INDIRECT(\"'PRODUCT DATA'!$S\"&$A79&\"\"))=0,\"0\",((INDIRECT(\"'PRODUCT DATA'!$S\"&$A79&\"\"))*($F79*10)))","v":{"$error":"#NAME?"}},{"$f":"IF((INDIRECT(\"'PRODUCT DATA'!$T\"&$A79&\"\"))=0,\"0\",((INDIRECT(\"'PRODUCT DATA'!$T\"&$A79&\"\"))*($F79*10)))","v":{"$error":"#NAME?"}},{"$f":"IF((INDIRECT(\"'PRODUCT DATA'!$U\"&$A79&\"\"))=0,\"0\",((INDIRECT(\"'PRODUCT DATA'!$U\"&$A79&\"\"))*($F79*10)))","v":{"$error":"#NAME?"}},{"$f":"IF((INDIRECT(\"'PRODUCT DATA'!$V\"&$A79&\"\"))=0,\"0\",((INDIRECT(\"'PRODUCT DATA'!$V\"&$A79&\"\"))*($F79*10)))","v":{"$error":"#NAME?"}},{"$f":"IF((INDIRECT(\"'PRODUCT DATA'!$W\"&$A79&\"\"))=0,\"0\",((INDIRECT(\"'PRODUCT DATA'!$W\"&$A79&\"\"))*($F79*10)))","v":{"$error":"#NAME?"}},{"$f":"IF((INDIRECT(\"'PRODUCT DATA'!$X\"&$A79&\"\"))=0,\"0\",((INDIRECT(\"'PRODUCT DATA'!$X\"&$A79&\"\"))*($F79*10)))","v":{"$error":"#NAME?"}},{"$f":"IF((INDIRECT(\"'PRODUCT DATA'!$Y\"&$A79&\"\"))=0,\"0\",((INDIRECT(\"'PRODUCT DATA'!$Y\"&$A79&\"\"))*($F79*10)))","v":{"$error":"#NAME?"}},{"$f":"IF((INDIRECT(\"'PRODUCT DATA'!$Z\"&$A79&\"\"))=0,\"0\",((INDIRECT(\"'PRODUCT DATA'!$Z\"&$A79&\"\"))*($F79*10)))","v":{"$error":"#NAME?"}},{"$f":"IF((INDIRECT(\"'PRODUCT DATA'!$AA\"&$A79&\"\"))=0,\"0\",((INDIRECT(\"'PRODUCT DATA'!$AA\"&$A79&\"\"))*($F79*10)))","v":{"$error":"#NAME?"}},{"$f":"IF((INDIRECT(\"'PRODUCT DATA'!$AB\"&$A79&\"\"))=0,\"0\",((INDIRECT(\"'PRODUCT DATA'!$AB\"&$A79&\"\"))*($F79*10)))","v":{"$error":"#NAME?"}}]
[null,null,"Programme Sub-Total:",{"$nulls":3},{"$f":"G79*$R$13","v":{"$error":"#NAME?"}},{"$error":"#NAME?"},{"$error":"#NAME?"},{"$error":"#NAME?"},{"$error":"#NAME?"},{"$error":"#NAME?"},{"$error":"#NAME?"},{"$error":"#NAME?"},{"$error":"#NAME?"},{"$error":"#NAME?"},{"$error":"#NAME?"},{"$error":"#NAME?"},{"$error":"#NAME?"},{"$error":"#NAME?"},{"$error":"#NAME?"}]
[]
[null,null,"GRANULAR #2",null,null,"RATE"]
[{"$f":"IF(($C83=id.1220),47,IF(($C83=id.1270),48,IF(($C83=id.1200),49,IF(($C83=id.1340),50,IF(($C83=id.1240),51,IF(($C83=id.1440),52,IF(($C83=id.1400),53,IF(($C83=id.1410),54,IF(($C83=id.1430),55,IF(($C83=id.1420),56,IF(($C83=id.1320),62,IF(($C83=id.1360),63,IF(($C83=id.1370),64,IF(($C83=id.2020),65,IF(($C83=id.2000),66,IF(($C83=id.z1),68,IF(($C83=id.z2),69,\"67\")))))))))))))))))","v":{"$error":"#NAME?"}},{"$nulls":5},{"$f":"IF((INDIRECT(\"'PRODUCT DATA'!$L\"&$A83&\"\"))=0,\"0\",((INDIRECT(\"'PRODUCT DATA'!$L\"&$A83&\"\"))*($F83*10)))","v":{"$error":"#NAME?"}},{"$f":"IF((INDIRECT(\"'PRODUCT DATA'!$M\"&$A83&\"\"))=0,\"0\",((INDIRECT(\"'PRODUCT DATA'!$M\"&$A83&\"\"))*($F83*10)))","v":{"$error":"#NAME?"}},{"$f":"IF((INDIRECT(\"'PRODUCT DATA'!$O\"&$A83&\"\"))=0,\"0\",((INDIRECT(\"'PRODUCT DATA'!$O\"&$A83&\"\"))*($F83*10)))","v":{"$error":"#NAME?"}},{"$f":"IF((INDIRECT(\"'PRODUCT DATA'!$Q\"&$A83&\"\"))=0,\"0\",((INDIRECT(\"'PRODUCT DATA'!$Q\"&$A83&\"\"))*($F83*10)))","v":{"$error":"#NAME?"}},{"$f":"IF((INDIRECT(\"'PRODUCT DATA'!$R\"&$A83&\"\"))=0,\"0\",((INDIRECT(\"'PRODUCT DATA'!$R\"&$A83&\"\"))*($F83*10)))","v":{"$error":"#NAME?"}},{"$f":"IF((INDIRECT(\"'PRODUCT DATA'!$S\"&$A83&\"\"))=0,\"0\",((INDIRECT(\"'PRODUCT DATA'!$S\"&$A83&\"\"))*($F83*10)))","v":{"$error":"#NAME?"}},{"$f":"IF((INDIRECT(\"'PRODUCT DATA'!$T\"&$A83&\"\"))=0,\"0\",((INDIRECT(\"'PRODUCT DATA'!$T\"&$A83&\"\"))*($F83*10)))","v":{"$error":"#NAME?"}},{"$f":"IF((INDIRECT(\"'PRODUCT DATA'!$U\"&$A83&\"\"))=0,\"0\",((INDIRECT(\"'PRODUCT DATA'!$U\"&$A83&\"\"))*($F83*10)))","v":{"$error":"#NAME?"}},{"$f":"IF((INDIRECT(\"'PRODUCT DATA'!$V\"&$A83&\"\"))=0,\"0\",((INDIRECT(\"'PRODUCT DATA'!$V\"&$A83&\"\"))*($F83*10)))","v":{"$error":"#NAME?"}},{"$f":"IF((INDIRECT(\"'PRODUCT DATA'!$W\"&$A83&\"\"))=0,\"0\",((INDIRECT(\"'PRODUCT DATA'!$W\"&$A83&\"\"))*($F83*10)))","v":{"$error":"#NAME?"}},{"$f":"IF((INDIRECT(\"'PRODUCT DATA'!$X\"&$A83&\"\"))=0,\"0\",((INDIRECT(\"'PRODUCT DATA'!$X\"&$A83&\"\"))*($F83*10)))","v":{"$error":"#NAME?"}},{"$f":"IF((INDIRECT(\"'PRODUCT DATA'!$Y\"&$A83&\"\"))=0,\"0\",((INDIRECT(\"'PRODUCT DATA'!$Y\"&$A83&\"\"))*($F83*10)))","v":{"$error":"#NAME?"}},{"$f":"IF((INDIRECT(\"'PRODUCT DATA'!$Z\"&$A83&\"\"))=0,\"0\",((INDIRECT(\"'PRODUCT DATA'!$Z\"&$A83&\"\"))*($F83*10)))","v":{"$error":"#NAME?"}},{"$f":"IF((INDIRECT(\"'PRODUCT DATA'!$AA\"&$A83&\"\"))=0,\"0\",((INDIRECT(\"'PRODUCT DATA'!$AA\"&$A83&\"\"))*($F83*10)))","v":{"$error":"#NAME?"}},{"$f":"IF((INDIRECT(\"'PRODUCT DATA'!$AB\"&$A83&\"\"))=0,\"0\",((INDIRECT(\"'PRODUCT DATA'!$AB\"&$A83&\"\"))*($F83*10)))","v":{"$error":"#NAME?"}}]
[null,null,"Programme Sub-Total:",{"$nulls":3},{"$f":"G83*$R$14","v":{"$error":"#NAME?"}},{"$error":"#NAME?"},{"$error":"#NAME?"},{"$error":"#NAME?"},{"$error":"#NAME?"},{"$error":"#NAME?"},{"$error":"#NAME?"},{"$error":"#NAME?"},{"$error":"#NAME?"},{"$error":"#NAME?"},{"$error":"#NAME?"},{"$error":"#NAME?"},{"$error":"#NAME?"},{"$error":"#NAME?"},{"$error":"#NAME?"}]
[]
[null,null,"GRANULAR #3",null,null,"RATE"]
[{"$f":"IF(($C87=id.1220),47,IF(($C87=id.1270),48,IF(($C87=id.1200),49,IF(($C87=id.1340),50,IF(($C87=id.1240),51,IF(($C87=id.1440),52,IF(($C87=id.1400),53,IF(($C87=id.1410),54,IF(($C87=id.1430),55,IF(($C87=id.1420),56,IF(($C87=id.1320),62,IF(($C87=id.1360),63,IF(($C87=id.1370),64,IF(($C87=id.2020),65,IF(($C87=id.2000),66,IF(($C87=id.z1),68,IF(($C87=id.z2),69,\"67\")))))))))))))))))","v":{"$error":"#NAME?"}},{"$nulls":5},{"$f":"IF((INDIRECT(\"'PRODUCT DATA'!$L\"&$A87&\"\"))=0,\"0\",((INDIRECT(\"'PRODUCT DATA'!$L\"&$A87&\"\"))*($F87*10)))","v":{"$error":"#NAME?"}},{"$f":"IF((INDIRECT(\"'PRODUCT DATA'!$M\"&$A87&\"\"))=0,\"0\",((INDIRECT(\"'PRODUCT DATA'!$M\"&$A87&\"\"))*($F87*10)))","v":{"$error":"#NAME?"}},{"$f":"IF((INDIRECT(\"'PRODUCT DATA'!$O\"&$A87&\"\"))=0,\"0\",((INDIRECT(\"'PRODUCT DATA'!$O\"&$A87&\"\"))*($F87*10)))","v":{"$error":"#NAME?"}},{"$f":"IF((INDIRECT(\"'PRODUCT DATA'!$Q\"&$A87&\"\"))=0,\"0\",((INDIRECT(\"'PRODUCT DATA'!$Q\"&$A87&\"\"))*($F87*10)))","v":{"$error":"#NAME?"}},{"$f":"IF((INDIRECT(\"'PRODUCT DATA'!$R\"&$A87&\"\"))=0,\"0\",((INDIRECT(\"'PRODUCT DATA'!$R\"&$A87&\"\"))*($F87*10)))","v":{"$error":"#NAME?"}},{"$f":"IF((INDIRECT(\"'PRODUCT DATA'!$S\"&$A87&\"\"))=0,\"0\",((INDIRECT(\"'PRODUCT DATA'!$S\"&$A87&\"\"))*($F87*10)))","v":{"$error":"#NAME?"}},{"$f":"IF((INDIRECT(\"'PRODUCT DATA'!$T\"&$A87&\"\"))=0,\"0\",((INDIRECT(\"'PRODUCT DATA'!$T\"&$A87&\"\"))*($F87*10)))","v":{"$error":"#NAME?"}},{"$f":"IF((INDIRECT(\"'PRODUCT DATA'!$U\"&$A87&\"\"))=0,\"0\",((INDIRECT(\"'PRODUCT DATA'!$U\"&$A87&\"\"))*($F87*10)))","v":{"$error":"#NAME?"}},{"$f":"IF((INDIRECT(\"'PRODUCT DATA'!$V\"&$A87&\"\"))=0,\"0\",((INDIRECT(\"'PRODUCT DATA'!$V\"&$A87&\"\"))*($F87*10)))","v":{"$error":"#NAME?"}},{"$f":"IF((INDIRECT(\"'PRODUCT DATA'!$W\"&$A87&\"\"))=0,\"0\",((INDIRECT(\"'PRODUCT DATA'!$W\"&$A87&\"\"))*($F87*10)))","v":{"$error":"#NAME?"}},{"$f":"IF((INDIRECT(\"'PRODUCT DATA'!$X\"&$A87&\"\"))=0,\"0\",((INDIRECT(\"'PRODUCT DATA'!$X\"&$A87&\"\"))*($F87*10)))","v":{"$error":"#NAME?"}},{"$f":"IF((INDIRECT(\"'PRODUCT DATA'!$Y\"&$A87&\"\"))=0,\"0\",((INDIRECT(\"'PRODUCT DATA'!$Y\"&$A87&\"\"))*($F87*10)))","v":{"$error":"#NAME?"}},{"$f":"IF((INDIRECT(\"'PRODUCT DATA'!$Z\"&$A87&\"\"))=0,\"0\",((INDIRECT(\"'PRODUCT DATA'!$Z\"&$A87&\"\"))*($F87*10)))","v":{"$error":"#NAME?"}},{"$f":"IF((INDIRECT(\"'PRODUCT DATA'!$AA\"&$A87&\"\"))=0,\"0\",((INDIRECT(\"'PRODUCT DATA'!$AA\"&$A87&\"\"))*($F87*10)))","v":{"$error":"#NAME?"}},{"$f":"IF((INDIRECT(\"'PRODUCT DATA'!$AB\"&$A87&\"\"))=0,\"0\",((INDIRECT(\"'PRODUCT DATA'!$AB\"&$A87&\"\"))*($F87*10)))","v":{"$error":"#NAME?"}}]
[null,null,"Programme Sub-Total:",{"$nulls":3},{"$f":"G87*$R$15","v":{"$error":"#NAME?"}},{"$error":"#NAME?"},{"$error":"#NAME?"},{"$error":"#NAME?"},{"$error":"#NAME?"},{"$error":"#NAME?"},{"$error":"#NAME?"},{"$error":"#NAME?"},{"$error":"#NAME?"},{"$error":"#NAME?"},{"$error":"#NAME?"},{"$error":"#NAME?"},{"$error":"#NAME?"},{"$error":"#NAME?"},{"$error":"#NAME?"}]
[]
[]
[{"$nulls":21},{"$f":"id.255","v":{"$error":"#NAME?"}}]
[{"$nulls":21},{"$f":"id.215","v":{"$error":"#NAME?"}}]
[{"$nulls":21},{"$f":"id.200","v":{"$error":"#NAME?"}}]
[{"$nulls":21},{"$f":"id.285","v":{"$error":"#NAME?"}}]
[{"$nulls":21},{"$f":"id.315","v":{"$error":"#NAME?"}}]
[{"$nulls":21},{"$f":"id.106","v":{"$error":"#NAME?"}}]
[{"$nulls":21},{"$f":"id.310","v":{"$error":"#NAME?"}}]
[{"$nulls":21},{"$f":"id.141","v":{"$error":"#NAME?"}}]
[{"$nulls":21},{"$f":"id.245","v":{"$error":"#NAME?"}}]
[{"$nulls":21},{"$f":"id.225","v":{"$error":"#NAME?"}}]
[{"$nulls":21},{"$f":"id.192","v":{"$error":"#NAME?"}}]
[{"$nulls":21},{"$f":"id.196","v":{"$error":"#NAME?"}}]
[{"$nulls":21},{"$f":"id.330","v":{"$error":"#NAME?"}}]
[{"$nulls":21},{"$f":"id.675","v":{"$error":"#NAME?"}}]
[{"$nulls":21},{"$f":"id.180","v":{"$error":"#NAME?"}}]
[{"$nulls":21},{"$f":"id.185","v":{"$error":"#NAME?"}}]
[{"$nulls":21},{"$f":"id.195","v":{"$error":"#NAME?"}}]
[{"$nulls":21},{"$f":"id.240","v":{"$error":"#NAME?"}}]
[{"$nulls":21},{"$f":"id.300","v":{"$error":"#NAME?"}}]
[{"$nulls":21},{"$f":"id.178","v":{"$error":"#NAME?"}}]
[{"$nulls":21},{"$f":"id.177","v":{"$error":"#NAME?"}}]
[{"$nulls":21},{"$f":"id.860","v":{"$error":"#NAME?"}}]
[{"$nulls":21},{"$f":"id.840","v":{"$error":"#NAME?"}}]
[{"$nulls":21},{"$f":"id.800","v":{"$error":"#NAME?"}}]
[{"$nulls":21},{"$f":"id.650","v":{"$error":"#NAME?"}}]
[{"$nulls":21},{"$f":"id.600","v":{"$error":"#NAME?"}}]
[{"$nulls":21},{"$f":"id.x1","v":"Custom Liquid 1"}]
[{"$nulls":21},{"$f":"id.x2","v":"Custom Liquid 2"}]
[{"$nulls":21},{"$f":"id.x3","v":"Custom SOLUBLE 1"}]
[{"$nulls":21},{"$f":"id.1220","v":{"$error":"#NAME?"}}]
[{"$nulls":21},{"$f":"id.1270","v":{"$error":"#NAME?"}}]
[{"$nulls":21},{"$f":"id.1200","v":{"$error":"#NAME?"}}]
[{"$nulls":21},{"$f":"id.1340","v":{"$error":"#NAME?"}}]
[{"$nulls":21},{"$f":"id.1240","v":{"$error":"#NAME?"}}]
[{"$nulls":21},{"$f":"id.1360","v":{"$error":"#NAME?"}}]
[{"$nulls":21},{"$f":"id.1370","v":{"$error":"#NAME?"}}]
[{"$nulls":21},{"$f":"id.2020","v":{"$error":"#NAME?"}}]
[{"$nulls":21},{"$f":"id.2000","v":{"$error":"#NAME?"}}]
[{"$nulls":21},{"$f":"id.z1","v":"Custom Granular 1"}]
[{"$nulls":21},{"$f":"id.z2","v":"Custom Granular 2"}]

{"sheet":"PROGRAMME ANALYSIS - metric","index":5,"n_rows":73,"n_cols":21,"rows_kept":73,"hidden":true,"merged":[[1,2,1,3],[1,4,1,7],[1,17,1,20],[2,2,2,3],[2,4,2,8],[2,18,3,19],[3,2,3,3],[3,7,3,9],[4,2,4,3],[4,7,4,9],[4,18,4,19],[4,22,4,25],[4,26,4,27],[5,7,5,9],[5,17,5,20],[5,22,5,25],[5,26,5,27],[6,7,6,9],[6,18,6,19],[7,18,7,19],[7,22,7,23],[7,24,7,25],[7,26,7,27],[7,28,7,29],[8,3,8,11],[8,13,21,15],[8,17,8,20],[8,24,8,25],[8,28,8,29],[9,18,9,19],[9,24,9,25],[10,18,10,19],[10,24,10,25],[11,24,11,25],[12,24,12,25],[14,17,15,17],[14,18,15,19],[16,18,16,19],[23,2,24,4],[23,5,24,5],[23,6,24,6],[23,7,24,7],[23,8,24,8],[23,9,24,9],[23,10,24,10],[23,11,24,12],[23,13,24,14],[23,15,24,16],[23,17,24,18],[23,19,24,20],[25,2,25,4],[26,2,26,4],[27,2,27,4],[28,2,28,4],[29,2,29,4],[30,2,30,4],[31,2,31,4],[33,2,34,4],[33,5,34,5],[33,6,34,6],[33,7,34,7],[33,8,34,8],[33,9,34,9],[33,10,34,10],[33,11,34,12],[33,13,34,14],[33,15,34,16],[33,17,34,18],[33,19,34,20],[35,2,35,4],[36,2,36,4],[37,2,37,4],[38,2,38,4],[39,2,39,4],[40,2,40,4],[41,2,41,4],[43,2,44,4],[43,5,44,5],[43,6,44,6],[43,7,44,7],[43,8,44,8],[43,9,44,9],[43,10,44,10],[43,11,44,12],[43,13,44,14],[43,15,44,16],[43,17,44,18],[43,19,44,20],[45,2,45,4],[46,2,46,4],[47,2,47,4],[48,2,48,4],[49,2,49,4],[50,2,50,4],[51,2,51,4],[53,2,54,4],[53,5,54,5],[53,6,54,6],[53,7,54,7],[53,8,54,8],[53,9,54,9],[53,10,54,10],[53,11,54,12],[53,13,54,14],[53,15,54,16],[53,17,54,18],[53,19,54,20],[55,2,55,4],[56,2,56,4],[57,2,57,4],[58,2,58,4],[59,2,59,4],[60,2,60,4],[61,2,61,4],[63,2,64,4],[63,5,64,6],[63,7,64,7],[63,8,64,8],[63,9,64,9],[63,10,64,10],[63,11,64,12],[63,13,64,14],[63,15,64,16],[63,17,64,18],[63,19,64,20],[65,2,65,4],[66,2,66,4],[66,5,66,6],[67,2,67,4],[68,2,68,4],[68,5,68,6],[69,2,69,4],[70,2,70,4],[70,5,70,6],[71,2,71,4],[72,2,72,4],[72,5,72,6]]}
[null,null,{"$f":"VERSION","v":"version #BRANDT-D2401-"},null,"for use with \"APPLICATION DATA - metric\""]
[null,null,"PREPARED FOR:",null,{"$f":"IF(customer2=\"\",\"\",customer2)","v":""},{"$nulls":6},"Total Coverage Area per Application:",{"$f":"((sq.m.a)+(sq.m.b))","v":0},"m2",{"$nulls":3},"Total Programme Cost"]
[null,null,"PROGRAMME:",null,{"$f":"IF(ProgeTitle=\"\",\"\",ProgeTitle)","v":""},{"$nulls":7},{"$f":"((hectare.a)+(hectare.b))","v":0},"HECTARES",{"$nulls":4},{"$f":"S7+S10","v":{"v":0,"d":"0.00"}}]
[null,null,"DURATION:",null,{"$f":"(end.date2-start.date2)","v":0},"DAYS",null,"Total Spray Apps / Programme:",null,null,{"$f":"mmix1.count+mmix2.count+mmix3.count+mmix4.count","v":0},null,"Spray Frequency:","Abt. Every",{"$f":"IF((K4=0),0,($E$4/K4))","v":0},"DAYS"]
[{"$nulls":7},"Total Spreader Apps / Programme:",null,null,{"$f":"mspreader1.count+mspreader2.count+mspreader3.count","v":0},null,"Spreader Frequency:","Abt. Every",{"$f":"IF((K5=0),0,($E$4/K5))","v":0},"DAYS",null,"Unit Adjusted:",{"$f":"S8+S11","v":{"v":0,"d":"0.00"}}]
[{"$nulls":5},"Total Tank Loads / Application:",{"$f":"IF(mtank.area=\"\",\"\",($M$3/mtank.area))","v":""},"Total Tank Loads / Programme:",null,null,{"$f":"IF(G6=\"\",\"\",(K4*G6))","v":""},{"$nulls":6},"Total Liquid Cost"]
[{"$nulls":5},"Total Spreader Loads / Application:",{"$f":"IF(mspreader.area=\"\",\"\",($M$3/mspreader.area))","v":""},"Total Spreader Loads / Programme:",null,null,{"$f":"IF(G7=\"\",\"\",(K5*G7))","v":""},{"$nulls":7},{"$f":"(SUM(liquid.proge.subcost))","v":{"v":0,"d":"0.00"}}]
[{"$nulls":13},"NOTES:",{"$nulls":3},"Case Adjusted:",{"$f":"(SUM(liquid.proge.adjustcost))","v":{"v":0,"d":"0.00"}}]
[{"$nulls":3},"Entire Program Nutrient Concentrations :: kg / Hectare",{"$nulls":9},{"$f":"IF(proge.descrip=\"\",\"\",proge.descrip)","v":""},{"$nulls":3},"Total Granular Cost"]
[{"$nulls":3},"N","P2O5","K2O","Fe","Mn","Zn","Cu","Ca","Mg",{"$nulls":6},{"$f":"SUM(granular.proge.subcost)","v":{"v":0,"d":"0.00"}}]
[null,null,"Liquid",{"$f":"IF((SUM(mmixt.n)=0),\"*\",SUM(mmixt.n))","v":{"$error":"#NAME?"}},{"$f":"IF((SUM(mmixt.p)=0),\"*\",SUM(mmixt.p))","v":{"$error":"#NAME?"}},{"$f":"IF((SUM(mmixt.k)=0),\"*\",SUM(mmixt.k))","v":{"$error":"#NAME?"}},{"$f":"IF((SUM(mmixt.fe)=0),\"*\",SUM(mmixt.fe))","v":{"$error":"#NAME?"}},{"$f":"IF((SUM(mmixt.mn)=0),\"*\",SUM(mmixt.mn))","v":{"$error":"#NAME?"}},{"$f":"IF((SUM(mmixt.zn)=0),\"*\",SUM(mmixt.zn))","v":{"$error":"#NAME?"}},{"$f":"IF((SUM(mmixt.cu)=0),\"*\",SUM(mmixt.cu))","v":{"$error":"#NAME?"}},{"$f":"IF((SUM(mmixt.ca)=0),\"*\",SUM(mmixt.ca))","v":{"$error":"#NAME?"}},{"$f":"IF((SUM(mmixt.mg)=0),\"*\",SUM(mmixt.mg))","v":{"$error":"#NAME?"}},{"$nulls":5},"Bag Adjusted:",{"$f":"SUM(granular.proge.adjustcost)","v":{"v":0,"d":"0.00"}}]
[null,null,"Granular",{"$f":"IF((SUM(mspreadt.n)=0),\"*\",SUM(mspreadt.n))","v":{"$error":"#NAME?"}},{"$f":"IF((SUM(mspreadt.p)=0),\"*\",SUM(mspreadt.p))","v":{"$error":"#NAME?"}},{"$f":"IF((SUM(mspreadt.k)=0),\"*\",SUM(mspreadt.k))","v":{"$error":"#NAME?"}},{"$f":"IF((SUM(mspreadt.fe)=0),\"*\",SUM(mspreadt.fe))","v":{"$error":"#NAME?"}},{"$f":"IF((SUM(mspreadt.mn)=0),\"*\",SUM(mspreadt.mn))","v":{"$error":"#NAME?"}},{"$f":"IF((SUM(mspreadt.zn)=0),\"*\",SUM(mspreadt.zn))","v":{"$error":"#NAME?"}},{"$f":"IF((SUM(mspreadt.cu)=0),\"*\",SUM(mspreadt.cu))","v":{"$error":"#NAME?"}},{"$f":"IF((SUM(mspreadt.ca)=0),\"*\",SUM(mspreadt.ca))","v":{"$error":"#NAME?"}},{"$f":"IF((SUM(mspreadt.mg)=0),\"*\",SUM(mspreadt.mg))","v":{"$error":"#NAME?"}}]
[null,null,"Combined",{"$f":"IF(SUM(D11:D12)=0,0,SUM(D11:D12))","v":{"$error":"#NAME?"}},{"$error":"#NAME?"},{"$error":"#NAME?"},{"$error":"#NAME?"},{"$error":"#NAME?"},{"$error":"#NAME?"},{"$error":"#NAME?"},{"$error":"#NAME?"},{"$error":"#NAME?"}]
[null,null,"Target",{"$f":"IF(AND(mall.n=0,target.n2=0),\"*\",IF((mall.n>=target.n2*0.95),5,IF((AND(mall.n<target.n2*0.95,mall.n>=target.n2*0.9)),4,IF((AND(mall.n<target.n2*0.9,mall.n>=target.n2*0.85)),3,IF((AND(mall.n<target.n2*0.85,mall.n>=target.n2*0.8)),2,IF((mall.n<target.n2*0.8),1))))))","v":{"$error":"#NAME?"}},{"$f":"IF(AND(mall.p=0,target.p2=0),\"*\",IF((mall.p>=target.p2*0.95),5,IF((AND(mall.p<target.p2*0.95,mall.p>=target.p2*0.9)),4,IF((AND(mall.p<target.p2*0.9,mall.p>=target.p2*0.85)),3,IF((AND(mall.p<target.p2*0.85,mall.p>=target.p2*0.8)),2,IF((mall.p<target.p2*0.8),1))))))","v":{"$error":"#NAME?"}},{"$f":"IF(AND(mall.k=0,target.k2=0),\"*\",IF((mall.k>=target.k2*0.95),5,IF((AND(mall.k<target.k2*0.95,mall.k>=target.k2*0.9)),4,IF((AND(mall.k<target.k2*0.9,mall.k>=target.k2*0.85)),3,IF((AND(mall.k<target.k2*0.85,mall.k>=target.k2*0.8)),2,IF((mall.k<target.k2*0.8),1))))))","v":{"$error":"#NAME?"}},{"$f":"IF(AND(mall.fe=0,target.fe2=0),\"*\",IF((mall.fe>=target.fe2*0.95),5,IF((AND(mall.fe<target.fe2*0.95,mall.fe>=target.fe2*0.9)),4,IF((AND(mall.fe<target.fe2*0.9,mall.fe>=target.fe2*0.85)),3,IF((AND(mall.fe<target.fe2*0.85,mall.fe>=target.fe2*0.8)),2,IF((mall.fe<target.fe2*0.8),1))))))","v":{"$error":"#NAME?"}},{"$f":"IF(AND(mall.mn=0,target.mn2=0),\"*\",IF((mall.mn>=target.mn2*0.95),5,IF((AND(mall.mn<target.mn2*0.95,mall.mn>=target.mn2*0.9)),4,IF((AND(mall.mn<target.mn2*0.9,mall.mn>=target.mn2*0.85)),3,IF((AND(mall.mn<target.mn2*0.85,mall.mn>=target.mn2*0.8)),2,IF((mall.mn<target.mn2*0.8),1))))))","v":{"$error":"#NAME?"}},{"$f":"IF(AND(mall.zn=0,target.zn2=0),\"*\",IF((mall.zn>=target.zn2*0.95),5,IF((AND(mall.zn<target.zn2*0.95,mall.zn>=target.zn2*0.9)),4,IF((AND(mall.zn<target.zn2*0.9,mall.zn>=target.zn2*0.85)),3,IF((AND(mall.zn<target.zn2*0.85,mall.zn>=target.zn2*0.8)),2,IF((mall.zn<target.zn2*0.8),1))))))","v":{"$error":"#NAME?"}},{"$f":"IF(AND(mall.cu=0,target.cu2=0),\"*\",IF((mall.cu>=target.cu2*0.95),5,IF((AND(mall.cu<target.cu2*0.95,mall.cu>=target.cu2*0.9)),4,IF((AND(mall.cu<target.cu2*0.9,mall.cu>=target.cu2*0.85)),3,IF((AND(mall.cu<target.cu2*0.85,mall.cu>=target.cu2*0.8)),2,IF((mall.cu<target.cu2*0.8),1))))))","v":{"$error":"#NAME?"}},{"$f":"IF(AND(mall.ca=0,target.ca2=0),\"*\",IF((mall.ca>=target.ca2*0.95),5,IF((AND(mall.ca<target.ca2*0.95,mall.ca>=target.ca2*0.9)),4,IF((AND(mall.ca<target.ca2*0.9,mall.ca>=target.ca2*0.85)),3,IF((AND(mall.ca<target.ca2*0.85,mall.ca>=target.ca2*0.8)),2,IF((mall.ca<target.ca2*0.8),1))))))","v":{"$error":"#NAME?"}},{"$f":"IF(AND(mall.mg=0,target.mg2=0),\"*\",IF((mall.mg>=target.mg2*0.95),5,IF((AND(mall.mg<target.mg2*0.95,mall.mg>=target.mg2*0.9)),4,IF((AND(mall.mg<target.mg2*0.9,mall.mg>=target.mg2*0.85)),3,IF((AND(mall.mg<target.mg2*0.85,mall.mg>=target.mg2*0.8)),2,IF((mall.mg<target.p2*0.8),1))))))","v":{"$error":"#NAME?"}}]
[{"$nulls":3},{"$f":"IF((target.n2=0),\"*\",target.n2)","v":"*"},{"$f":"IF((target.p2=0),\"*\",target.p2)","v":"*"},{"$f":"IF((target.k2=0),\"*\",target.k2)","v":"*"},{"$f":"IF((target.fe2=0),\"*\",target.fe2)","v":"*"},{"$f":"IF((target.mn2=0),\"*\",target.mn2)","v":"*"},{"$f":"IF((target.zn2=0),\"*\",target.zn2)","v":"*"},{"$f":"IF((target.cu2=0),\"*\",target.cu2)","v":"*"},{"$f":"IF((target.ca2=0),\"*\",target.ca2)","v":"*"},{"$f":"IF((target.mg2=0),\"*\",target.mg2)","v":"*"},{"$nulls":5},"Bulk Discount"]
[]
[{"$nulls":3},"S","B","Si","Mo","Co","HPO3",{"$nulls":7},"60 L Drum:"]
[null,null,"Liquid",{"$f":"IF((SUM(mmixt.s)=0),\"*\",SUM(mmixt.s))","v":{"$error":"#NAME?"}},{"$f":"IF((SUM(mmixt.b)=0),\"*\",SUM(mmixt.b))","v":{"$error":"#NAME?"}},{"$f":"IF((SUM(mmixt.si)=0),\"*\",SUM(mmixt.si))","v":{"$error":"#NAME?"}},{"$f":"IF((SUM(mmixt.mo)=0),\"*\",SUM(mmixt.mo))","v":{"$error":"#NAME?"}},{"$f":"IF((SUM(mmixt.co)=0),\"*\",SUM(mmixt.co))","v":{"$error":"#NAME?"}},{"$f":"IF((SUM(mmixt.hpo3)=0),\"*\",SUM(mmixt.hpo3))","v":{"$error":"#NAME?"}},{"$nulls":7},"120 L Drum:"]
[null,null,"Granular",{"$f":"IF((SUM(mspreadt.s)=0),\"*\",SUM(mspreadt.s))","v":{"$error":"#NAME?"}},{"$f":"IF((SUM(mspreadt.b)=0),\"*\",SUM(mspreadt.b))","v":{"$error":"#NAME?"}},{"$f":"IF((SUM(mspreadt.si)=0),\"*\",SUM(mspreadt.si))","v":{"$error":"#NAME?"}},{"$f":"IF((SUM(mspreadt.mo)=0),\"*\",SUM(mspreadt.mo))","v":{"$error":"#NAME?"}},{"$f":"IF((SUM(mspreadt.co)=0),\"*\",SUM(mspreadt.co))","v":{"$error":"#NAME?"}},{"$f":"IF((SUM(mspreadt.hpo3)=0),\"*\",SUM(mspreadt.hpo3))","v":{"$error":"#NAME?"}},{"$nulls":7},"220 L Drum:"]
[null,null,"Combined",{"$f":"IF(SUM(D18:D19)=0,0,SUM(D18:D19))","v":{"$error":"#NAME?"}},{"$error":"#NAME?"},{"$error":"#NAME?"},{"$error":"#NAME?"},{"$error":"#NAME?"},{"$error":"#NAME?"},{"$nulls":7},"1080 L Drum:"]
[null,null,"Target",{"$f":"IF(AND(mall.s=0,target.s2=0),\"*\",IF((mall.s>=target.s2*0.95),5,IF((AND(mall.s<target.s2*0.95,mall.s>=target.s2*0.9)),4,IF((AND(mall.s<target.s2*0.9,mall.s>=target.s2*0.85)),3,IF((AND(mall.s<target.s2*0.85,mall.s>=target.s2*0.8)),2,IF((mall.s<target.s2*0.8),1))))))","v":{"$error":"#NAME?"}},{"$f":"IF(AND(mall.b=0,target.b2=0),\"*\",IF((mall.b>=target.b2*0.95),5,IF((AND(mall.b<target.b2*0.95,mall.b>=target.b2*0.9)),4,IF((AND(mall.b<target.b2*0.9,mall.b>=target.b2*0.85)),3,IF((AND(mall.b<target.b2*0.85,mall.b>=target.b2*0.8)),2,IF((mall.b<target.b2*0.8),1))))))","v":{"$error":"#NAME?"}},{"$f":"IF(AND(mall.si=0,target.si2=0),\"*\",IF((mall.si>=target.si2*0.95),5,IF((AND(mall.si<target.si2*0.95,mall.si>=target.si2*0.9)),4,IF((AND(mall.si<target.si2*0.9,mall.si>=target.si2*0.85)),3,IF((AND(mall.si<target.si2*0.85,mall.si>=target.si2*0.8)),2,IF((mall.si<target.si2*0.8),1))))))","v":{"$error":"#NAME?"}},{"$f":"IF(AND(mall.mo=0,target.mo2=0),\"*\",IF((mall.mo>=target.mo2*0.95),5,IF((AND(mall.mo<target.mo2*0.95,mall.mo>=target.mo2*0.9)),4,IF((AND(mall.mo<target.mo2*0.9,mall.mo>=target.mo2*0.85)),3,IF((AND(mall.mo<target.mo2*0.85,mall.mo>=target.mo2*0.8)),2,IF((mall.mo<target.mo2*0.8),1))))))","v":{"$error":"#NAME?"}},{"$f":"IF(AND(mall.co=0,target.co2=0),\"*\",IF((mall.co>=target.co2*0.95),5,IF((AND(mall.co<target.co2*0.95,mall.co>=target.co2*0.9)),4,IF((AND(mall.co<target.p2*0.9,mall.co>=target.co2*0.85)),3,IF((AND(mall.co<target.co2*0.85,mall.co>=target.co2*0.8)),2,IF((mall.co<target.co2*0.8),1))))))","v":{"$error":"#NAME?"}},{"$f":"IF(AND(mall.hpo3=0,target.hpo32=0),\"*\",IF((mall.hpo3>=target.hpo32*0.95),5,IF((AND(mall.hpo3<target.hpo32*0.95,mall.hpo3>=target.hpo32*0.9)),4,IF((AND(mall.hpo3<target.hpo32*0.9,mall.hpo3>=target.hpo32*0.85)),3,IF((AND(mall.hpo3<target.hpo32*0.85,mall.hpo3>=target.hpo32*0.8)),2,IF((mall.hpo3<target.hpo32*0.8),1))))))","v":{"$error":"#NAME?"}}]
[{"$nulls":3},{"$f":"IF((target.s2=0),\"*\",target.s2)","v":"*"},{"$f":"IF((target.b2=0),\"*\",target.b2)","v":"*"},{"$f":"IF((target.si2=0),\"*\",target.si2)","v":"*"},{"$f":"IF((target.mo2=0),\"*\",target.mo2)","v":"*"},{"$f":"IF((target.co2=0),\"*\",target.co2)","v":"*"},{"$f":"IF((target.hpo32=0),\"*\",target.hpo32)","v":"*"}]
[]
[null,null,"MIX #1",{"$nulls":3},"Litres Needed","Cost / L","Cost / Hectare","Cost / App","Programme Cost","WHOLE 20 L Cases    & Case Cost",null,"60 L Drums &       Cost Equivalent",null,"120 L Drums &      Cost Equivalent",null,"220 L Drums &      Cost Equivalent",null,"1,080 L Totes &      Cost Equivalent"]
[]
[{"$f":"IF(($C26=id.255),3,IF(($C26=id.256),4,IF(($C26=id.215),5,IF(($C26=id.200),7,IF(($C26=id.285),10,IF(($C26=id.210),12,IF(($C26=id.106),13,IF(($C26=id.310),14,IF(($C26=id.141),15,IF(($C26=id.360),16,IF(($C26=id.245),17,IF(($C26=id.225),18,IF(($C26=id.192),19,IF(($C26=id.196),20,IF(($C26=id.330),21,IF(($C26=id.675),22,IF(($C26=id.730),23,IF(($C26=id.855),24,IF(($C26=id.180),28,IF(($C26=id.185),29,IF(($C26=id.195),30,IF(($C26=id.240),31,IF(($C26=id.300),32,IF(($C26=id.177),33,IF(($C26=id.860),35,IF(($C26=id.840),36,IF(($C26=id.865),37,IF(($C26=id.800),38,IF(($C26=id.600),41,IF(($C26=id.x1),43,IF(($C26=id.x2),44,\"42\")))))))))))))))))))))))))))))))","v":{"$error":"#NAME?"}},null,{"$f":"IF((mm1.1=\"\"),\"\",mm1.1)","v":""},{"$nulls":3},{"$f":"IF(($C26=\"\"),\"*\",IF((mm1r.1=\"\"),\"*\",((mm1r.1*(total.hectares))*((mmix1.count)))))","v":"*"},{"$f":"IF(($C26=\"\"),\"*\",(INDIRECT(\"'PRODUCT DATA'!$D\"&$A26&\"\")*global.discount))","v":"*"},{"$f":"IF(OR($C26=\"\",$H26=0),\"*\",(($H26)*mm1r.1))","v":"*"},{"$f":"IF(OR($C26=\"\",$H26=0),\"*\",($H26*$G26/mmix1.count))","v":"*"},{"$f":"IF(OR($C26=\"\",$H26=0),\"*\",($H26*$G26))","v":"*"},{"$f":"IF(($C26=\"\"),\"0\",(ROUNDUP(($G26/20),0)))","v":"0"},{"$f":"IF(OR($C26=\"\",$H26=0),\"*\",$H26*($L26*20))","v":"*"},{"$f":"IF(($L26*20)<60,\"*\",($G26/60))","v":"*"},{"$f":"IF(OR($N26=\"*\",$H26=0),\"*\",($H26-$R$17)*($N26*60))","v":"*"},{"$f":"IF(($L26*20)<120,\"*\",($G26/120))","v":"*"},{"$f":"IF(OR($P26=\"*\",$H26=0),\"*\",($H26-$R$18)*($P26*120))","v":"*"},{"$f":"IF(($L26*20)<220,\"*\",($G26/220))","v":"*"},{"$f":"IF(OR($R26=\"*\",$H26=0),\"*\",($H26-$R$19)*($R26*220))","v":"*"},{"$f":"IF(($L26*20)<1080,\"*\",($G26/1080))","v":"*"},{"$f":"IF(OR($T26=\"*\",$H26=0),\"*\",($H26-$R$20)*($T26*1080))","v":"*"}]
[{"$error":"#NAME?"},null,{"$f":"IF((mm1.2=\"\"),\"\",mm1.2)","v":""},{"$nulls":3},{"$f":"IF(($C27=\"\"),\"*\",IF((mm1r.2=\"\"),\"*\",((mm1r.2*(total.hectares))*((mmix1.count)))))","v":"*"},"*",{"$f":"IF(OR($C27=\"\",$H27=0),\"*\",(($H27)*mm1r.2))","v":"*"},"*","*","0","*","*","*","*","*","*","*","*","*"]
[{"$error":"#NAME?"},null,{"$f":"IF((mm1.3=\"\"),\"\",mm1.3)","v":""},{"$nulls":3},{"$f":"IF(($C28=\"\"),\"*\",IF((mm1r.3=\"\"),\"*\",((mm1r.3*(total.hectares))*((mmix1.count)))))","v":"*"},"*",{"$f":"IF(OR($C28=\"\",$H28=0),\"*\",(($H28)*mm1r.3))","v":"*"},"*","*","0","*","*","*","*","*","*","*","*","*"]
[{"$error":"#NAME?"},null,{"$f":"IF((mm1.4=\"\"),\"\",mm1.4)","v":""},{"$nulls":3},{"$f":"IF(($C29=\"\"),\"*\",IF((mm1r.4=\"\"),\"*\",((mm1r.4*(total.hectares))*((mmix1.count)))))","v":"*"},"*",{"$f":"IF(OR($C29=\"\",$H29=0),\"*\",(($H29)*mm1r.4))","v":"*"},"*","*","0","*","*","*","*","*","*","*","*","*"]
[{"$error":"#NAME?"},null,{"$f":"IF((mm1.5=\"\"),\"\",mm1.5)","v":""},{"$nulls":3},{"$f":"IF(($C30=\"\"),\"*\",IF((mm1r.5=\"\"),\"*\",((mm1r.5*(total.hectares))*((mmix1.count)))))","v":"*"},"*",{"$f":"IF(OR($C30=\"\",$H30=0),\"*\",(($H30)*mm1r.5))","v":"*"},"*","*","0","*","*","*","*","*","*","*","*","*"]
[{"$error":"#NAME?"},null,{"$f":"IF((mm1.6=\"\"),\"\",mm1.6)","v":""},{"$nulls":3},{"$f":"IF(($C31=\"\"),\"*\",IF((mm1r.6=\"\"),\"*\",((mm1r.6*(total.hectares))*((mmix1.count)))))","v":"*"},"*",{"$f":"IF(OR($C31=\"\",$H31=0),\"*\",(($H31)*mm1r.6))","v":"*"},"*","*","0","*","*","*","*","*","*","*","*","*"]
[null,null,"Mix-1 Sub-Total:",{"$nulls":3},{"$f":"IF(SUM(G26:G31)=0,\"*\",SUM(G26:G31))","v":"*"},"*","*","*","*","*","*",{"$f":"IF(SUM(N26:N31)=0,\"*\",SUM(N26:N31))","v":"*"},{"$f":"IF(SUM(O26:O31)=0,\"*\",SUM(O26:O31))","v":"*"},"*",{"$f":"IF(SUM(Q26:Q31)=0,\"*\",SUM(Q26:Q31))","v":"*"},"*",{"$f":"IF(SUM(S26:S31)=0,\"*\",SUM(S26:S31))","v":"*"},"*",{"$f":"IF(SUM(U26:U31)=0,\"*\",SUM(U26:U31))","v":"*"}]
[]
[null,null,"MIX #2",{"$nulls":3},"Litres Needed","Cost / L","Cost / Hectare","Cost / App","Programme Cost","WHOLE 20 L Cases    & Case Cost",null,"60 L Drums &       Cost Equivalent",null,"120 L Drums &      Cost Equivalent",null,"220 L Drums &      Cost Equivalent",null,"1,080 L Totes &      Cost Equivalent"]
[]
[{"$f":"IF(($C36=id.255),3,IF(($C36=id.256),4,IF(($C36=id.215),5,IF(($C36=id.200),7,IF(($C36=id.285),10,IF(($C36=id.210),12,IF(($C36=id.106),13,IF(($C36=id.310),14,IF(($C36=id.141),15,IF(($C36=id.360),16,IF(($C36=id.245),17,IF(($C36=id.225),18,IF(($C36=id.192),19,IF(($C36=id.196),20,IF(($C36=id.330),21,IF(($C36=id.675),22,IF(($C36=id.730),23,IF(($C36=id.855),24,IF(($C36=id.180),28,IF(($C36=id.185),29,IF(($C36=id.195),30,IF(($C36=id.240),31,IF(($C36=id.300),32,IF(($C36=id.177),33,IF(($C36=id.860),35,IF(($C36=id.840),36,IF(($C36=id.865),37,IF(($C36=id.800),38,IF(($C36=id.600),41,IF(($C36=id.x1),43,IF(($C36=id.x2),44,\"42\")))))))))))))))))))))))))))))))","v":{"$error":"#NAME?"}},null,{"$f":"IF((mm2.1=\"\"),\"\",mm2.1)","v":""},{"$nulls":3},{"$f":"IF(($C26=\"\"),\"*\",IF((mm2r.1=\"\"),\"*\",((mm2r.1*(total.hectares))*((mmix2.count)))))","v":"*"},{"$f":"IF(($C36=\"\"),\"*\",(INDIRECT(\"'PRODUCT DATA'!$D\"&$A36&\"\")*global.discount))","v":"*"},{"$f":"IF(OR($C36=\"\",$H36=0),\"*\",(($H36)*mm2r.1))","v":"*"},{"$f":"IF(OR($C36=\"\",$H36=0),\"*\",($H36*$G36/mmix2.count))","v":"*"},{"$f":"IF(OR($C36=\"\",$H36=0),\"*\",($H36*$G36))","v":"*"},{"$f":"IF(($C36=\"\"),\"0\",(ROUNDUP(($G36/20),0)))","v":"0"},{"$f":"IF(OR($C36=\"\",$H36=0),\"*\",$H36*($L36*20))","v":"*"},{"$f":"IF(($L36*20)<60,\"*\",($G36/60))","v":"*"},{"$f":"IF(OR($N36=\"*\",$H36=0),\"*\",($H36-$R$17)*($N36*60))","v":"*"},{"$f":"IF(($L36*20)<120,\"*\",($G36/120))","v":"*"},{"$f":"IF(OR($P36=\"*\",$H36=0),\"*\",($H36-$R$18)*($P36*120))","v":"*"},{"$f":"IF(($L36*20)<220,\"*\",($G36/220))","v":"*"},{"$f":"IF(OR($R36=\"*\",$H36=0),\"*\",($H36-$R$19)*($R36*220))","v":"*"},{"$f":"IF(($L36*20)<1080,\"*\",($G36/1080))","v":"*"},{"$f":"IF(OR($T36=\"*\",$H36=0),\"*\",($H36-$R$20)*($T36*1080))","v":"*"}]
[{"$error":"#NAME?"},null,{"$f":"IF((mm2.2=\"\"),\"\",mm2.2)","v":""},{"$nulls":3},{"$f":"IF(($C27=\"\"),\"*\",IF((mm2r.2=\"\"),\"*\",((mm2r.2*(total.hectares))*((mmix2.count)))))","v":"*"},"*",{"$f":"IF(OR($C37=\"\",$H37=0),\"*\",(($H37)*mm2r.2))","v":"*"},"*","*","0","*","*","*","*","*","*","*","*","*"]
[{"$error":"#NAME?"},null,{"$f":"IF((mm2.3=\"\"),\"\",mm2.3)","v":""},{"$nulls":3},{"$f":"IF(($C28=\"\"),\"*\",IF((mm2r.3=\"\"),\"*\",((mm2r.3*(total.hectares))*((mmix2.count)))))","v":"*"},"*",{"$f":"IF(OR($C38=\"\",$H38=0),\"*\",(($H38)*mm2r.3))","v":"*"},"*","*","0","*","*","*","*","*","*","*","*","*"]
[{"$error":"#NAME?"},null,{"$f":"IF((mm2.4=\"\"),\"\",mm2.4)","v":""},{"$nulls":3},{"$f":"IF(($C29=\"\"),\"*\",IF((mm2r.4=\"\"),\"*\",((mm2r.4*(total.hectares))*((mmix2.count)))))","v":"*"},"*",{"$f":"IF(OR($C39=\"\",$H39=0),\"*\",(($H39)*mm2r.4))","v":"*"},"*","*","0","*","*","*","*","*","*","*","*","*"]
[{"$error":"#NAME?"},null,{"$f":"IF((mm2.5=\"\"),\"\",mm2.5)","v":""},{"$nulls":3},{"$f":"IF(($C30=\"\"),\"*\",IF((mm2r.5=\"\"),\"*\",((mm2r.5*(total.hectares))*((mmix2.count)))))","v":"*"},"*",{"$f":"IF(OR($C40=\"\",$H40=0),\"*\",(($H40)*mm2r.5))","v":"*"},"*","*","0","*","*","*","*","*","*","*","*","*"]
[{"$error":"#NAME?"},null,{"$f":"IF((mm2.6=\"\"),\"\",mm2.6)","v":""},{"$nulls":3},{"$f":"IF(($C31=\"\"),\"*\",IF((mm2r.6=\"\"),\"*\",((mm2r.6*(total.hectares))*((mmix2.count)))))","v":"*"},"*",{"$f":"IF(OR($C41=\"\",$H41=0),\"*\",(($H41)*mm2r.6))","v":"*"},"*","*","0","*","*","*","*","*","*","*","*","*"]
[null,null,"Sub-Total:",{"$nulls":3},{"$f":"IF(SUM(G36:G41)=0,\"*\",SUM(G36:G41))","v":"*"},"*","*","*","*","*","*","*","*","*","*","*","*","*","*"]
[]
[null,null,"MIX #3",{"$nulls":3},"Litres Needed","Cost / L","Cost / Hectare","Cost / App","Programme Cost","WHOLE 20 L Cases    & Case Cost",null,"60 L Drums &       Cost Equivalent",null,"120 L Drums &      Cost Equivalent",null,"220 L Drums &      Cost Equivalent",null,"1,080 L Totes &      Cost Equivalent"]
[]
[{"$f":"IF(($C46=id.255),3,IF(($C46=id.256),4,IF(($C46=id.215),5,IF(($C46=id.200),7,IF(($C46=id.285),10,IF(($C46=id.210),12,IF(($C46=id.106),13,IF(($C46=id.310),14,IF(($C46=id.141),15,IF(($C46=id.360),16,IF(($C46=id.245),17,IF(($C46=id.225),18,IF(($C46=id.192),19,IF(($C46=id.196),20,IF(($C46=id.330),21,IF(($C46=id.675),22,IF(($C46=id.730),23,IF(($C46=id.855),24,IF(($C46=id.180),28,IF(($C46=id.185),29,IF(($C46=id.195),30,IF(($C46=id.240),31,IF(($C46=id.300),32,IF(($C46=id.177),33,IF(($C46=id.860),35,IF(($C46=id.840),36,IF(($C46=id.865),37,IF(($C46=id.800),38,IF(($C46=id.600),41,IF(($C46=id.x1),43,IF(($C46=id.x2),44,\"42\")))))))))))))))))))))))))))))))","v":{"$error":"#NAME?"}},null,{"$f":"IF((mm3.1=\"\"),\"\",mm3.1)","v":""},{"$nulls":3},{"$f":"IF(($C26=\"\"),\"*\",IF((mm3r.1=\"\"),\"*\",((mm3r.1*(total.hectares))*((mmix3.count)))))","v":"*"},{"$f":"IF(($C46=\"\"),\"*\",(INDIRECT(\"'PRODUCT DATA'!$D\"&$A46&\"\")*global.discount))","v":"*"},{"$f":"IF(OR($C46=\"\",$H46=0),\"*\",(($H46)*mm3r.1))","v":"*"},{"$f":"IF(OR($C46=\"\",$H46=0),\"*\",($H46*$G46/mmix3.count))","v":"*"},{"$f":"IF(OR($C46=\"\",$H46=0),\"*\",($H46*$G46))","v":"*"},{"$f":"IF(($C46=\"\"),\"0\",(ROUNDUP(($G46/20),0)))","v":"0"},{"$f":"IF(OR($C46=\"\",$H46=0),\"*\",$H46*($L46*20))","v":"*"},{"$f":"IF(($L46*20)<60,\"*\",($G46/60))","v":"*"},{"$f":"IF(OR($N46=\"*\",$H46=0),\"*\",($H46-$R$17)*($N46*60))","v":"*"},{"$f":"IF(($L46*20)<120,\"*\",($G46/120))","v":"*"},{"$f":"IF(OR($P46=\"*\",$H46=0),\"*\",($H46-$R$18)*($P46*120))","v":"*"},{"$f":"IF(($L46*20)<220,\"*\",($G46/220))","v":"*"},{"$f":"IF(OR($R46=\"*\",$H46=0),\"*\",($H46-$R$19)*($R46*220))","v":"*"},{"$f":"IF(($L46*20)<1080,\"*\",($G46/1080))","v":"*"},{"$f":"IF(OR($T46=\"*\",$H46=0),\"*\",($H46-$R$20)*($T46*1080))","v":"*"}]
[{"$error":"#NAME?"},null,{"$f":"IF((mm3.2=\"\"),\"\",mm3.2)","v":""},{"$nulls":3},{"$f":"IF(($C27=\"\"),\"*\",IF((mm3r.2=\"\"),\"*\",((mm3r.2*(total.hectares))*((mmix3.count)))))","v":"*"},"*","*","*","*","0","*","*","*","*","*","*","*","*","*"]
[{"$error":"#NAME?"},null,{"$f":"IF((mm3.3=\"\"),\"\",mm3.3)","v":""},{"$nulls":3},{"$f":"IF(($C28=\"\"),\"*\",IF((mm3r.3=\"\"),\"*\",((mm3r.3*(total.hectares))*((mmix3.count)))))","v":"*"},"*","*","*","*","0","*","*","*","*","*","*","*","*","*"]
[{"$error":"#NAME?"},null,{"$f":"IF((mm3.4=\"\"),\"\",mm3.4)","v":""},{"$nulls":3},{"$f":"IF(($C29=\"\"),\"*\",IF((mm3r.4=\"\"),\"*\",((mm3r.4*(total.hectares))*((mmix3.count)))))","v":"*"},"*","*","*","*","0","*","*","*","*","*","*","*","*","*"]
[{"$error":"#NAME?"},null,{"$f":"IF((mm3.5=\"\"),\"\",mm3.5)","v":""},{"$nulls":3},{"$f":"IF(($C30=\"\"),\"*\",IF((mm3r.5=\"\"),\"*\",((mm3r.5*(total.hectares))*((mmix3.count)))))","v":"*"},"*","*","*","*","0","*","*","*","*","*","*","*","*","*"]
[{"$error":"#NAME?"},null,{"$f":"IF((mm3.6=\"\"),\"\",mm3.6)","v":""},{"$nulls":3},{"$f":"IF(($C31=\"\"),\"*\",IF((mm3r.6=\"\"),\"*\",((mm3r.6*(total.hectares))*((mmix3.count)))))","v":"*"},"*","*","*","*","0","*","*","*","*","*","*","*","*","*"]
[null,null,"Sub-Total:",{"$nulls":3},{"$f":"IF(SUM(G46:G51)=0,\"*\",SUM(G46:G51))","v":"*"},"*","*","*","*","*","*","*","*","*","*","*","*","*","*"]
[]
[null,null,"MIX #4",{"$nulls":3},"Litres Needed","Cost / L","Cost / Hectare","Cost / App","Programme Cost","WHOLE 20 L Cases    & Case Cost",null,"60 L Drums &       Cost Equivalent",null,"120 L Drums &      Cost Equivalent",null,"220 L Drums &      Cost Equivalent",null,"1,080 L Totes &      Cost Equivalent"]
[]
[{"$f":"IF(($C56=id.255),3,IF(($C56=id.256),4,IF(($C56=id.215),5,IF(($C56=id.200),7,IF(($C56=id.285),10,IF(($C56=id.210),12,IF(($C56=id.106),13,IF(($C56=id.310),14,IF(($C56=id.141),15,IF(($C56=id.360),16,IF(($C56=id.245),17,IF(($C56=id.225),18,IF(($C56=id.192),19,IF(($C56=id.196),20,IF(($C56=id.330),21,IF(($C56=id.675),22,IF(($C56=id.730),23,IF(($C56=id.855),24,IF(($C56=id.180),28,IF(($C56=id.185),29,IF(($C56=id.195),30,IF(($C56=id.240),31,IF(($C56=id.300),32,IF(($C56=id.177),33,IF(($C56=id.860),35,IF(($C56=id.840),36,IF(($C56=id.865),37,IF(($C56=id.800),38,IF(($C56=id.600),41,IF(($C56=id.x1),43,IF(($C56=id.x2),44,\"42\")))))))))))))))))))))))))))))))","v":{"$error":"#NAME?"}},null,{"$f":"IF((mm4.1=\"\"),\"\",mm4.1)","v":""},{"$nulls":3},{"$f":"IF(($C26=\"\"),\"*\",IF((mm4r.1=\"\"),\"*\",((mm4r.1*(total.hectares))*((mmix4.count)))))","v":"*"},{"$f":"IF(($C56=\"\"),\"*\",(INDIRECT(\"'PRODUCT DATA'!$D\"&$A56&\"\")*global.discount))","v":"*"},{"$f":"IF(OR($C56=\"\",$H56=0),\"*\",(($H56)*mm4r.1))","v":"*"},{"$f":"IF(OR($C56=\"\",$H56=0),\"*\",($H56*$G56/mmix4.count))","v":"*"},{"$f":"IF(OR($C56=\"\",$H56=0),\"*\",($H56*$G56))","v":"*"},{"$f":"IF(($C56=\"\"),\"0\",(ROUNDUP(($G56/20),0)))","v":"0"},{"$f":"IF(OR($C56=\"\",$H56=0),\"*\",$H56*($L56*20))","v":"*"},{"$f":"IF(($L56*20)<60,\"*\",($G56/60))","v":"*"},{"$f":"IF(OR($N56=\"*\",$H56=0),\"*\",($H56-$R$17)*($N56*60))","v":"*"},{"$f":"IF(($L56*20)<120,\"*\",($G56/120))","v":"*"},{"$f":"IF(OR($P56=\"*\",$H56=0),\"*\",($H56-$R$18)*($P56*120))","v":"*"},{"$f":"IF(($L56*20)<220,\"*\",($G56/220))","v":"*"},{"$f":"IF(OR($R56=\"*\",$H56=0),\"*\",($H56-$R$19)*($R56*220))","v":"*"},{"$f":"IF(($L56*20)<1080,\"*\",($G56/1080))","v":"*"},{"$f":"IF(OR($T56=\"*\",$H56=0),\"*\",($H56-$R$20)*($T56*1080))","v":"*"}]
[{"$error":"#NAME?"},null,{"$f":"IF((mm4.2=\"\"),\"\",mm4.2)","v":""},{"$nulls":3},{"$f":"IF(($C27=\"\"),\"*\",IF((mm4r.2=\"\"),\"*\",((mm4r.2*(total.hectares))*((mmix4.count)))))","v":"*"},"*",{"$f":"IF(OR($C57=\"\",$H57=0),\"*\",(($H57)*mm4r.2))","v":"*"},"*","*","0","*","*","*","*","*","*","*","*","*"]
[{"$error":"#NAME?"},null,{"$f":"IF((mm4.3=\"\"),\"\",mm4.3)","v":""},{"$nulls":3},{"$f":"IF(($C28=\"\"),\"*\",IF((mm4r.3=\"\"),\"*\",((mm4r.3*(total.hectares))*((mmix4.count)))))","v":"*"},"*",{"$f":"IF(OR($C58=\"\",$H58=0),\"*\",(($H58)*mm4r.3))","v":"*"},"*","*","0","*","*","*","*","*","*","*","*","*"]
[{"$error":"#NAME?"},null,{"$f":"IF((mm4.4=\"\"),\"\",mm4.4)","v":""},{"$nulls":3},{"$f":"IF(($C29=\"\"),\"*\",IF((mm4r.4=\"\"),\"*\",((mm4r.4*(total.hectares))*((mmix4.count)))))","v":"*"},"*",{"$f":"IF(OR($C59=\"\",$H59=0),\"*\",(($H59)*mm4r.4))","v":"*"},"*","*","0","*","*","*","*","*","*","*","*","*"]
[{"$error":"#NAME?"},null,{"$f":"IF((mm4.5=\"\"),\"\",mm4.5)","v":""},{"$nulls":3},{"$f":"IF(($C30=\"\"),\"*\",IF((mm4r.5=\"\"),\"*\",((mm4r.5*(total.hectares))*((mmix4.count)))))","v":"*"},"*",{"$f":"IF(OR($C60=\"\",$H60=0),\"*\",(($H60)*mm4r.5))","v":"*"},"*","*","0","*","*","*","*","*","*","*","*","*"]
[{"$error":"#NAME?"},null,{"$f":"IF((mm4.6=\"\"),\"\",mm4.6)","v":""},{"$nulls":3},{"$f":"IF(($C31=\"\"),\"*\",IF((mm4r.6=\"\"),\"*\",((mm4r.6*(total.hectares))*((mmix4.count)))))","v":"*"},"*",{"$f":"IF(OR($C61=\"\",$H61=0),\"*\",(($H61)*mm4r.6))","v":"*"},"*","*","0","*","*","*","*","*","*","*","*","*"]
[null,null,"Sub-Total:",{"$nulls":3},{"$f":"IF(SUM(G56:G61)=0,\"*\",SUM(G56:G61))","v":"*"},"*","*","*","*","*","*","*","*","*","*","*","*","*","*"]
[]
[{"$nulls":5},"Program Total kg",null,"Cost / kg","Cost / Hectare","Cost / App","Programme Cost","WHOLE Bags             & Bag Cost"]
[]
[null,null,"SOLUBLE #1"]
[{"$f":"IF(($C67=id.x3),45,\"42\")","v":"42"},null,{"$f":"IF((ms1.1=\"\"),\"\",ms1.1)","v":""},null,null,{"$f":"IF(($C67=\"\"),\"*\",IF((ms1r.1=\"\"),\"0\",(((ms1r.1*(total.sqm)/1000))*((mspreader1.count)))))","v":"*"},null,{"$f":"IF(($C67=\"\"),\"*\",((INDIRECT(\"'PRODUCT DATA'!$D\"&$A67&\"\")/INDIRECT(\"'PRODUCT DATA'!$H\"&$A67&\"\"))*global.discount))","v":"*"},{"$f":"IF(OR($C67=\"\",$H67=0),\"*\",(((ms1r.1*10000)/1000)*$H69))","v":"*"},{"$f":"IF(OR($C67=\"\",$H67=0),\"*\",($H67*$F67/mspreader1.count))","v":"*"},{"$f":"IF(OR($C67=\"\",$H67=0),\"*\",($H67*$F67))","v":"*"},{"$f":"IF(($C67=\"\"),\"0\",(ROUNDUP(($F67/INDIRECT(\"'PRODUCT DATA'!$H\"&$A67&\"\")),0)))","v":"0"},{"$f":"IF(OR($C67=\"\",$H67=0),\"*\",$H67*($L67*INDIRECT(\"'PRODUCT DATA'!$H\"&$A67&\"\")))","v":"*"}]
[null,null,"GRANULAR #1"]
[{"$f":"IF(($C69=id.1220),47,IF(($C69=id.1270),48,IF(($C69=id.1200),49,IF(($C69=id.1340),50,IF(($C69=id.1240),51,IF(($C69=id.1440),52,IF(($C69=id.1400),53,IF(($C69=id.1410),54,IF(($C69=id.1430),55,IF(($C69=id.1420),56,IF(($C69=id.1320),62,IF(($C69=id.1360),63,IF(($C69=id.1370),64,IF(($C69=id.2020),65,IF(($C69=id.2000),66,IF(($C69=id.z1),68,IF(($C69=id.z2),69,\"67\")))))))))))))))))","v":{"$error":"#NAME?"}},null,{"$f":"IF((ms2.1=\"\"),\"\",ms2.1)","v":""},null,null,{"$f":"IF(($C69=\"\"),\"*\",IF((ms2r.1=\"\"),\"0\",(((ms2r.1*(total.sqm)/1000))*((mspreader2.count)))))","v":"*"},null,{"$f":"IF(($C69=\"\"),\"*\",((INDIRECT(\"'PRODUCT DATA'!$D\"&$A69&\"\")/INDIRECT(\"'PRODUCT DATA'!$H\"&$A69&\"\"))*global.discount))","v":"*"},{"$f":"IF(OR($C69=\"\",$H69=0),\"*\",(((ms2r.1*10000)/1000)*$H69))","v":"*"},{"$f":"IF(OR($C69=\"\",$H69=0),\"*\",($H69*$F69/mspreader2.count))","v":"*"},{"$f":"IF(OR($C69=\"\",$H69=0),\"*\",($H69*$F69))","v":"*"},{"$f":"IF(($C69=\"\"),\"0\",(ROUNDUP(($F69/INDIRECT(\"'PRODUCT DATA'!$H\"&$A69&\"\")),0)))","v":"0"},{"$f":"IF(OR($C69=\"\",$H69=0),\"*\",$H69*($L69*INDIRECT(\"'PRODUCT DATA'!$H\"&$A69&\"\")))","v":"*"}]
[null,null,"GRANULAR #2"]
[{"$f":"IF(($C71=id.1220),47,IF(($C71=id.1270),48,IF(($C71=id.1200),49,IF(($C71=id.1340),50,IF(($C71=id.1240),51,IF(($C71=id.1440),52,IF(($C71=id.1400),53,IF(($C71=id.1410),54,IF(($C71=id.1430),55,IF(($C71=id.1420),56,IF(($C71=id.1320),62,IF(($C71=id.1360),63,IF(($C71=id.1370),64,IF(($C71=id.2020),65,IF(($C71=id.2000),66,IF(($C71=id.z1),68,IF(($C71=id.z2),69,\"67\")))))))))))))))))","v":{"$error":"#NAME?"}},null,{"$f":"IF((ms3.1=\"\"),\"\",ms3.1)","v":""},null,null,{"$f":"IF(($C71=\"\"),\"*\",IF((ms3r.1=\"\"),\"0\",(((ms3r.1*(total.sqm)/1000))*((mspreader3.count)))))","v":"*"},null,{"$f":"IF(($C71=\"\"),\"*\",((INDIRECT(\"'PRODUCT DATA'!$D\"&$A71&\"\")/INDIRECT(\"'PRODUCT DATA'!$H\"&$A71&\"\"))*global.discount))","v":"*"},{"$f":"IF(OR($C71=\"\",$H71=0),\"*\",(((ms3r.1*10000)/1000)*$H69))","v":"*"},{"$f":"IF(OR($C71=\"\",$H71=0),\"*\",($H71*$F71/mspreader3.count))","v":"*"},{"$f":"IF(OR($C71=\"\",$H71=0),\"*\",($H71*$F71))","v":"*"},{"$f":"IF(($C71=\"\"),\"0\",(ROUNDUP(($F71/INDIRECT(\"'PRODUCT DATA'!$H\"&$A71&\"\")),0)))","v":"0"},{"$f":"IF(OR($C71=\"\",$H71=0),\"*\",$H71*($L71*INDIRECT(\"'PRODUCT DATA'!$H\"&$A71&\"\")))","v":"*"}]
[null,null,"GRANULAR #3"]
[{"$f":"IF(($C73=id.1220),47,IF(($C73=id.1270),48,IF(($C73=id.1200),49,IF(($C73=id.1340),50,IF(($C73=id.1240),51,IF(($C73=id.1440),52,IF(($C73=id.1400),53,IF(($C73=id.1410),54,IF(($C73=id.1430),55,IF(($C73=id.1420),56,IF(($C73=id.1320),62,IF(($C73=id.1360),63,IF(($C73=id.1370),64,IF(($C73=id.2020),65,IF(($C73=id.2000),66,IF(($C73=id.z1),68,IF(($C73=id.z2),69,\"67\")))))))))))))))))","v":{"$error":"#NAME?"}},null,{"$f":"IF((ms4.1=\"\"),\"\",ms4.1)","v":""},null,null,{"$f":"IF(($C73=\"\"),\"*\",IF((ms4r.1=\"\"),\"0\",(((ms4r.1*(total.sqm)/1000))*((mspreader4.count)))))","v":"*"},null,{"$f":"IF(($C73=\"\"),\"*\",((INDIRECT(\"'PRODUCT DATA'!$D\"&$A73&\"\")/INDIRECT(\"'PRODUCT DATA'!$H\"&$A73&\"\"))*global.discount))","v":"*"},{"$f":"IF(OR($C73=\"\",$H73=0),\"*\",(((ms4r.1*10000)/1000)*$H69))","v":"*"},{"$f":"IF(OR($C73=\"\",$H73=0),\"*\",($H73*$F73/mspreader4.count))","v":"*"},{"$f":"IF(OR($C73=\"\",$H73=0),\"*\",($H73*$F73))","v":"*"},{"$f":"IF(($C73=\"\"),\"0\",(ROUNDUP(($F73/INDIRECT(\"'PRODUCT DATA'!$H\"&$A73&\"\")),0)))","v":"0"},{"$f":"IF(OR($C73=\"\",$H73=0),\"*\",$H73*($L73*INDIRECT(\"'PRODUCT DATA'!$H\"&$A73&\"\")))","v":"*"}]

{"sheet":"APPLICATION DATA - metric NZ","index":6,"n_rows":132,"n_cols":22,"rows_kept":132,"hidden":true,"merged":[[2,2,3,7],[2,9,3,11],[2,13,3,15],[5,2,6,7],[5,9,9,18],[8,3,9,4],[8,5,8,6],[10,2,11,2],[11,9,11,11],[12,9,12,11],[13,9,13,11],[14,8,14,11],[16,2,16,19],[21,2,22,4],[21,6,21,20],[23,2,23,4],[24,2,24,4],[25,2,25,4],[26,2,26,4],[27,2,27,4],[28,2,28,4],[29,2,29,4],[30,2,30,4],[31,2,31,5],[32,2,32,5],[33,2,33,5],[34,2,34,5],[36,2,37,4],[36,6,36,20],[38,2,38,4],[39,2,39,4],[40,2,40,4],[41,2,41,4],[42,2,42,4],[43,2,43,4],[44,2,44,5],[45,2,45,5],[46,2,46,5],[47,2,47,5],[49,2,50,4],[49,6,49,20],[51,2,51,4],[52,2,52,4],[53,2,53,4],[54,2,54,4],[55,2,55,4],[56,2,56,4],[57,2,57,5],[58,2,58,5],[59,2,59,5],[60,2,60,5],[61,2,62,4],[61,6,61,20],[63,2,63,4],[64,2,64,4],[65,2,65,4],[66,2,66,4],[67,2,67,4],[68,2,68,4],[69,2,69,5],[70,2,70,5],[71,2,71,5],[74,2,74,4],[74,6,74,20],[75,2,75,4],[76,2,76,4],[77,2,77,5],[78,2,78,5],[79,2,79,4],[80,2,80,4],[81,2,81,5],[82,2,82,5],[83,2,83,4],[84,2,84,4],[85,2,85,5],[86,2,86,5],[87,2,87,4],[88,2,88,4],[89,2,89,5],[90,2,90,5]]}
[null,null,{"$f":"VERSION","v":"version #BRANDT-D2401-"},null,"metric measurments with elemental nutrients (P & K)"]
[null,null,"PREPARED FOR",{"$nulls":6},"START DATE",{"$nulls":3},"END DATE"]
[]
[]
[null,null,"PROGRAMME TITLE",{"$nulls":6},"NOTES / COMMENTS"]
[]
[]
[]
[{"$nulls":3},"KNOWN      APPLICATION AREA",null," conversion of area "]
[{"$nulls":5},"m2","Hectares"]
[null,null,"Only select ONE area measurment >>"," m² ",null,"***",{"$f":"(E11/10000)","v":{"v":0,"d":"0.000"}},null,null,"OTHER PROGRAMME DETAILS"]
[{"$nulls":3},"Hectares",{"v":1.25,"d":"1.250"},{"$f":"E12*10000","v":{"v":12500,"d":"12,500"}},"***",null,null,"Total Applications of Mix #1?",null,null,1,{"$nulls":3},"Total Applications of Soluble #1?"]
[{"$nulls":5},"HECTARES covered in 1 tank load?",null,"(optional)",null,"Total Applications of Mix #2?",{"$nulls":6},"Total Applications of Granular #1?"]
[{"$nulls":5},"HECTARES covered in 1 spreader load?",null,"(optional)",null,"Total Applications of Mix #3?",{"$nulls":6},"Total Applications of Granular #2?"]
[{"$nulls":8},"Total Applications of Mix #4?",{"$nulls":7},"Total Applications of Granular #3?"]
[]
[null,null,"ENTIRE PROGRAMME Nutrient TARGET Concentrations / Kg per Hectare (optional)"]
[null,null,"N","P","K","Ca","Mg","S","Fe","Mn","Zn","Cu","B","Si","Mo","Co","HPO3"]
[]
[]
[]
[null,null,"MIX #1",null,null,"L / Ha","Kg of Nutrient per Ha"]
[{"$nulls":5},"RATE","N","P","K","Ca","Mg","S","Fe","Mn","Zn","Cu","B","Si","Mo","Co","HPO3"]
[{"$f":"IF(($C24=id.255),3,IF(($C24=id.256),4,IF(($C24=id.215),5,IF(($C24=id.200),7,IF(($C24=id.285),10,IF(($C24=id.210),12,IF(($C24=id.106),13,IF(($C24=id.310),14,IF(($C24=id.141),15,IF(($C24=id.360),16,IF(($C24=id.245),17,IF(($C24=id.225),18,IF(($C24=id.192),19,IF(($C24=id.196),20,IF(($C24=id.330),21,IF(($C24=id.675),22,IF(($C24=id.730),23,IF(($C24=id.855),24,IF(($C24=id.180),28,IF(($C24=id.185),29,IF(($C24=id.195),30,IF(($C24=id.240),31,IF(($C24=id.300),32,IF(($C24=id.177),33,IF(($C24=id.860),35,IF(($C24=id.840),36,IF(($C24=id.865),37,IF(($C24=id.800),38,IF(($C24=id.600),41,IF(($C24=id.x1),43,IF(($C24=id.x2),44,\"42\")))))))))))))))))))))))))))))))","v":{"$error":"#NAME?"}},null,"Ultraplex\u0090®",null,null,10,{"$f":"IF((INDIRECT(\"'PRODUCT DATA'!$L\"&$A24&\"\"))=0,\"*\",((INDIRECT(\"'PRODUCT DATA'!$H\"&$A24&\"\"))*(INDIRECT(\"'PRODUCT DATA'!$L\"&$A24&\"\")))*($F24))","v":{"$error":"#NAME?"}},{"$f":"IF((INDIRECT(\"'PRODUCT DATA'!$N\"&$A24&\"\"))=0,\"*\",((INDIRECT(\"'PRODUCT DATA'!$H\"&$A24&\"\"))*(INDIRECT(\"'PRODUCT DATA'!$N\"&$A24&\"\")))*($F24))","v":{"$error":"#NAME?"}},{"$f":"IF((INDIRECT(\"'PRODUCT DATA'!$P\"&$A24&\"\"))=0,\"*\",((INDIRECT(\"'PRODUCT DATA'!$H\"&$A24&\"\"))*(INDIRECT(\"'PRODUCT DATA'!$P\"&$A24&\"\")))*($F24))","v":{"$error":"#NAME?"}},{"$f":"IF((INDIRECT(\"'PRODUCT DATA'!$Q\"&$A24&\"\"))=0,\"*\",((INDIRECT(\"'PRODUCT DATA'!$H\"&$A24&\"\"))*(INDIRECT(\"'PRODUCT DATA'!$Q\"&$A24&\"\")))*($F24))","v":{"$error":"#NAME?"}},{"$f":"IF((INDIRECT(\"'PRODUCT DATA'!$R\"&$A24&\"\"))=0,\"*\",((INDIRECT(\"'PRODUCT DATA'!$H\"&$A24&\"\"))*(INDIRECT(\"'PRODUCT DATA'!$R\"&$A24&\"\")))*($F24))","v":{"$error":"#NAME?"}},{"$f":"IF((INDIRECT(\"'PRODUCT DATA'!$S\"&$A24&\"\"))=0,\"*\",((INDIRECT(\"'PRODUCT DATA'!$H\"&$A24&\"\"))*(INDIRECT(\"'PRODUCT DATA'!$S\"&$A24&\"\")))*($F24))","v":{"$error":"#NAME?"}},{"$f":"IF((INDIRECT(\"'PRODUCT DATA'!$T\"&$A24&\"\"))=0,\"*\",((INDIRECT(\"'PRODUCT DATA'!$H\"&$A24&\"\"))*(INDIRECT(\"'PRODUCT DATA'!$T\"&$A24&\"\")))*($F24))","v":{"$error":"#NAME?"}},{"$f":"IF((INDIRECT(\"'PRODUCT DATA'!$U\"&$A24&\"\"))=0,\"*\",((INDIRECT(\"'PRODUCT DATA'!$H\"&$A24&\"\"))*(INDIRECT(\"'PRODUCT DATA'!$U\"&$A24&\"\")))*($F24))","v":{"$error":"#NAME?"}},{"$f":"IF((INDIRECT(\"'PRODUCT DATA'!$V\"&$A24&\"\"))=0,\"*\",((INDIRECT(\"'PRODUCT DATA'!$H\"&$A24&\"\"))*(INDIRECT(\"'PRODUCT DATA'!$V\"&$A24&\"\")))*($F24))","v":{"$error":"#NAME?"}},{"$f":"IF((INDIRECT(\"'PRODUCT DATA'!$W\"&$A24&\"\"))=0,\"*\",((INDIRECT(\"'PRODUCT DATA'!$H\"&$A24&\"\"))*(INDIRECT(\"'PRODUCT DATA'!$W\"&$A24&\"\")))*($F24))","v":{"$error":"#NAME?"}},{"$f":"IF((INDIRECT(\"'PRODUCT DATA'!$X\"&$A24&\"\"))=0,\"*\",((INDIRECT(\"'PRODUCT DATA'!$H\"&$A24&\"\"))*(INDIRECT(\"'PRODUCT DATA'!$X\"&$A24&\"\")))*($F24))","v":{"$error":"#NAME?"}},{"$f":"IF((INDIRECT(\"'PRODUCT DATA'!$Y\"&$A24&\"\"))=0,\"*\",((INDIRECT(\"'PRODUCT DATA'!$H\"&$A24&\"\"))*(INDIRECT(\"'PRODUCT DATA'!$Y\"&$A24&\"\")))*($F24))","v":{"$error":"#NAME?"}},{"$f":"IF((INDIRECT(\"'PRODUCT DATA'!$Z\"&$A24&\"\"))=0,\"*\",((INDIRECT(\"'PRODUCT DATA'!$H\"&$A24&\"\"))*(INDIRECT(\"'PRODUCT DATA'!$Z\"&$A24&\"\")))*($F24))","v":{"$error":"#NAME?"}},{"$f":"IF((INDIRECT(\"'PRODUCT DATA'!$AA\"&$A24&\"\"))=0,\"*\",((INDIRECT(\"'PRODUCT DATA'!$H\"&$A24&\"\"))*(INDIRECT(\"'PRODUCT DATA'!$AA\"&$A24&\"\")))*($F24))","v":{"$error":"#NAME?"}},{"$f":"IF((INDIRECT(\"'PRODUCT DATA'!$AB\"&$A24&\"\"))=0,\"*\",((INDIRECT(\"'PRODUCT DATA'!$H\"&$A24&\"\"))*(INDIRECT(\"'PRODUCT DATA'!$AB\"&$A24&\"\")))*($F24))","v":{"$error":"#NAME?"}}]
[{"$error":"#NAME?"},null,"Gary's Green®",null,null,20,{"$error":"#NAME?"},{"$error":"#NAME?"},{"$error":"#NAME?"},{"$error":"#NAME?"},{"$error":"#NAME?"},{"$error":"#NAME?"},{"$error":"#NAME?"},{"$error":"#NAME?"},{"$error":"#NAME?"},{"$error":"#NAME?"},{"$error":"#NAME?"},{"$error":"#NAME?"},{"$error":"#NAME?"},{"$error":"#NAME?"},{"$error":"#NAME?"}]
[{"$error":"#NAME?"},{"$nulls":5},{"$error":"#NAME?"},{"$error":"#NAME?"},{"$error":"#NAME?"},{"$error":"#NAME?"},{"$error":"#NAME?"},{"$error":"#NAME?"},{"$error":"#NAME?"},{"$error":"#NAME?"},{"$error":"#NAME?"},{"$error":"#NAME?"},{"$error":"#NAME?"},{"$error":"#NAME?"},{"$error":"#NAME?"},{"$error":"#NAME?"},{"$error":"#NAME?"}]
[{"$error":"#NAME?"},{"$nulls":5},{"$error":"#NAME?"},{"$error":"#NAME?"},{"$error":"#NAME?"},{"$error":"#NAME?"},{"$error":"#NAME?"},{"$error":"#NAME?"},{"$error":"#NAME?"},{"$error":"#NAME?"},{"$error":"#NAME?"},{"$error":"#NAME?"},{"$error":"#NAME?"},{"$error":"#NAME?"},{"$error":"#NAME?"},{"$error":"#NAME?"},{"$error":"#NAME?"}]
[{"$error":"#NAME?"}]
[{"$error":"#NAME?"}]
[{"$error":"#NAME?"},{"$nulls":5},{"$error":"#NAME?"},{"$error":"#NAME?"},{"$error":"#NAME?"},{"$error":"#NAME?"},{"$error":"#NAME?"},{"$error":"#NAME?"},{"$error":"#NAME?"},{"$error":"#NAME?"},{"$error":"#NAME?"},{"$error":"#NAME?"},{"$error":"#NAME?"},{"$error":"#NAME?"},{"$error":"#NAME?"},{"$error":"#NAME?"},{"$error":"#NAME?"}]
[{"$error":"#NAME?"},{"$nulls":5},{"$error":"#NAME?"},{"$error":"#NAME?"},{"$error":"#NAME?"},{"$error":"#NAME?"},{"$error":"#NAME?"},{"$error":"#NAME?"},{"$error":"#NAME?"},{"$error":"#NAME?"},{"$error":"#NAME?"},{"$error":"#NAME?"},{"$error":"#NAME?"},{"$error":"#NAME?"},{"$error":"#NAME?"},{"$error":"#NAME?"},{"$error":"#NAME?"}]
[null,null,"Sub-Total (Each Application):",{"$nulls":3},{"$f":"IF(SUM(G24:G31)=0,\"0\",SUM(G24:G31))","v":{"$error":"#NAME?"}},{"$error":"#NAME?"},{"$error":"#NAME?"},{"$error":"#NAME?"},{"$error":"#NAME?"},{"$error":"#NAME?"},{"$error":"#NAME?"},{"$error":"#NAME?"},{"$error":"#NAME?"},{"$error":"#NAME?"},{"$error":"#NAME?"},{"$error":"#NAME?"},{"$error":"#NAME?"},{"$error":"#NAME?"},{"$error":"#NAME?"}]
[null,null,"Programme Sub-Total:",{"$nulls":3},{"$f":"G32*$M$12","v":{"$error":"#NAME?"}},{"$error":"#NAME?"},{"$error":"#NAME?"},{"$error":"#NAME?"},{"$error":"#NAME?"},{"$error":"#NAME?"},{"$error":"#NAME?"},{"$error":"#NAME?"},{"$error":"#NAME?"},{"$error":"#NAME?"},{"$error":"#NAME?"},{"$error":"#NAME?"},{"$error":"#NAME?"},{"$error":"#NAME?"},{"$error":"#NAME?"}]
[]
[]
[]
[null,null,"MIX #2",null,null,"L / Ha","Kg of Nutrient per Ha"]
[{"$nulls":5},"RATE","N","P","K","Ca","Mg","S","Fe","Mn","Zn","Cu","B","Si","Mo","Co","HPO3"]
[{"$f":"IF(($C39=id.255),3,IF(($C39=id.256),4,IF(($C39=id.215),5,IF(($C39=id.200),7,IF(($C39=id.285),10,IF(($C39=id.210),12,IF(($C39=id.106),13,IF(($C39=id.310),14,IF(($C39=id.141),15,IF(($C39=id.360),16,IF(($C39=id.245),17,IF(($C39=id.225),18,IF(($C39=id.192),19,IF(($C39=id.196),20,IF(($C39=id.330),21,IF(($C39=id.675),22,IF(($C39=id.730),23,IF(($C39=id.855),24,IF(($C39=id.180),28,IF(($C39=id.185),29,IF(($C39=id.195),30,IF(($C39=id.240),31,IF(($C39=id.300),32,IF(($C39=id.177),33,IF(($C39=id.860),35,IF(($C39=id.840),36,IF(($C39=id.865),37,IF(($C39=id.800),38,IF(($C39=id.600),41,IF(($C39=id.x1),43,IF(($C39=id.x2),44,\"42\")))))))))))))))))))))))))))))))","v":{"$error":"#NAME?"}},{"$nulls":5},{"$f":"IF((INDIRECT(\"'PRODUCT DATA'!$L\"&$A39&\"\"))=0,\"*\",((INDIRECT(\"'PRODUCT DATA'!$H\"&$A39&\"\"))*(INDIRECT(\"'PRODUCT DATA'!$L\"&$A39&\"\")))*($F39))","v":{"$error":"#NAME?"}},{"$f":"IF((INDIRECT(\"'PRODUCT DATA'!$N\"&$A39&\"\"))=0,\"*\",((INDIRECT(\"'PRODUCT DATA'!$H\"&$A39&\"\"))*(INDIRECT(\"'PRODUCT DATA'!$N\"&$A39&\"\")))*($F39))","v":{"$error":"#NAME?"}},{"$f":"IF((INDIRECT(\"'PRODUCT DATA'!$P\"&$A39&\"\"))=0,\"*\",((INDIRECT(\"'PRODUCT DATA'!$H\"&$A39&\"\"))*(INDIRECT(\"'PRODUCT DATA'!$P\"&$A39&\"\")))*($F39))","v":{"$error":"#NAME?"}},{"$f":"IF((INDIRECT(\"'PRODUCT DATA'!$Q\"&$A39&\"\"))=0,\"*\",((INDIRECT(\"'PRODUCT DATA'!$H\"&$A39&\"\"))*(INDIRECT(\"'PRODUCT DATA'!$Q\"&$A39&\"\")))*($F39))","v":{"$error":"#NAME?"}},{"$f":"IF((INDIRECT(\"'PRODUCT DATA'!$R\"&$A39&\"\"))=0,\"*\",((INDIRECT(\"'PRODUCT DATA'!$H\"&$A39&\"\"))*(INDIRECT(\"'PRODUCT DATA'!$R\"&$A39&\"\")))*($F39))","v":{"$error":"#NAME?"}},{"$f":"IF((INDIRECT(\"'PRODUCT DATA'!$S\"&$A39&\"\"))=0,\"*\",((INDIRECT(\"'PRODUCT DATA'!$H\"&$A39&\"\"))*(INDIRECT(\"'PRODUCT DATA'!$S\"&$A39&\"\")))*($F39))","v":{"$error":"#NAME?"}},{"$f":"IF((INDIRECT(\"'PRODUCT DATA'!$T\"&$A39&\"\"))=0,\"*\",((INDIRECT(\"'PRODUCT DATA'!$H\"&$A39&\"\"))*(INDIRECT(\"'PRODUCT DATA'!$T\"&$A39&\"\")))*($F39))","v":{"$error":"#NAME?"}},{"$f":"IF((INDIRECT(\"'PRODUCT DATA'!$U\"&$A39&\"\"))=0,\"*\",((INDIRECT(\"'PRODUCT DATA'!$H\"&$A39&\"\"))*(INDIRECT(\"'PRODUCT DATA'!$U\"&$A39&\"\")))*($F39))","v":{"$error":"#NAME?"}},{"$f":"IF((INDIRECT(\"'PRODUCT DATA'!$V\"&$A39&\"\"))=0,\"*\",((INDIRECT(\"'PRODUCT DATA'!$H\"&$A39&\"\"))*(INDIRECT(\"'PRODUCT DATA'!$V\"&$A39&\"\")))*($F39))","v":{"$error":"#NAME?"}},{"$f":"IF((INDIRECT(\"'PRODUCT DATA'!$W\"&$A39&\"\"))=0,\"*\",((INDIRECT(\"'PRODUCT DATA'!$H\"&$A39&\"\"))*(INDIRECT(\"'PRODUCT DATA'!$W\"&$A39&\"\")))*($F39))","v":{"$error":"#NAME?"}},{"$f":"IF((INDIRECT(\"'PRODUCT DATA'!$X\"&$A39&\"\"))=0,\"*\",((INDIRECT(\"'PRODUCT DATA'!$H\"&$A39&\"\"))*(INDIRECT(\"'PRODUCT DATA'!$X\"&$A39&\"\")))*($F39))","v":{"$error":"#NAME?"}},{"$f":"IF((INDIRECT(\"'PRODUCT DATA'!$Y\"&$A39&\"\"))=0,\"*\",((INDIRECT(\"'PRODUCT DATA'!$H\"&$A39&\"\"))*(INDIRECT(\"'PRODUCT DATA'!$Y\"&$A39&\"\")))*($F39))","v":{"$error":"#NAME?"}},{"$f":"IF((INDIRECT(\"'PRODUCT DATA'!$Z\"&$A39&\"\"))=0,\"*\",((INDIRECT(\"'PRODUCT DATA'!$H\"&$A39&\"\"))*(INDIRECT(\"'PRODUCT DATA'!$Z\"&$A39&\"\")))*($F39))","v":{"$error":"#NAME?"}},{"$f":"IF((INDIRECT(\"'PRODUCT DATA'!$AA\"&$A39&\"\"))=0,\"*\",((INDIRECT(\"'PRODUCT DATA'!$H\"&$A39&\"\"))*(INDIRECT(\"'PRODUCT DATA'!$AA\"&$A39&\"\")))*($F39))","v":{"$error":"#NAME?"}},{"$f":"IF((INDIRECT(\"'PRODUCT DATA'!$AB\"&$A39&\"\"))=0,\"*\",((INDIRECT(\"'PRODUCT DATA'!$H\"&$A39&\"\"))*(INDIRECT(\"'PRODUCT DATA'!$AB\"&$A39&\"\")))*($F39))","v":{"$error":"#NAME?"}}]
[{"$error":"#NAME?"},{"$nulls":5},{"$error":"#NAME?"},{"$error":"#NAME?"},{"$error":"#NAME?"},{"$error":"#NAME?"},{"$error":"#NAME?"},{"$error":"#NAME?"},{"$error":"#NAME?"},{"$error":"#NAME?"},{"$error":"#NAME?"},{"$error":"#NAME?"},{"$error":"#NAME?"},{"$error":"#NAME?"},{"$error":"#NAME?"},{"$error":"#NAME?"},{"$error":"#NAME?"}]
[{"$error":"#NAME?"},{"$nulls":5},{"$error":"#NAME?"},{"$error":"#NAME?"},{"$error":"#NAME?"},{"$error":"#NAME?"},{"$error":"#NAME?"},{"$error":"#NAME?"},{"$error":"#NAME?"},{"$error":"#NAME?"},{"$error":"#NAME?"},{"$error":"#NAME?"},{"$error":"#NAME?"},{"$error":"#NAME?"},{"$error":"#NAME?"},{"$error":"#NAME?"},{"$error":"#NAME?"}]
[{"$error":"#NAME?"},{"$nulls":5},{"$error":"#NAME?"},{"$error":"#NAME?"},{"$error":"#NAME?"},{"$error":"#NAME?"},{"$error":"#NAME?"},{"$error":"#NAME?"},{"$error":"#NAME?"},{"$error":"#NAME?"},{"$error":"#NAME?"},{"$error":"#NAME?"},{"$error":"#NAME?"},{"$error":"#NAME?"},{"$error":"#NAME?"},{"$error":"#NAME?"},{"$error":"#NAME?"}]
[{"$error":"#NAME?"},{"$nulls":5},{"$error":"#NAME?"},{"$error":"#NAME?"},{"$error":"#NAME?"},{"$error":"#NAME?"},{"$error":"#NAME?"},{"$error":"#NAME?"},{"$error":"#NAME?"},{"$error":"#NAME?"},{"$error":"#NAME?"},{"$error":"#NAME?"},{"$error":"#NAME?"},{"$error":"#NAME?"},{"$error":"#NAME?"},{"$error":"#NAME?"},{"$error":"#NAME?"}]
[{"$error":"#NAME?"},{"$nulls":5},{"$error":"#NAME?"},{"$error":"#NAME?"},{"$error":"#NAME?"},{"$error":"#NAME?"},{"$error":"#NAME?"},{"$error":"#NAME?"},{"$error":"#NAME?"},{"$error":"#NAME?"},{"$error":"#NAME?"},{"$error":"#NAME?"},{"$error":"#NAME?"},{"$error":"#NAME?"},{"$error":"#NAME?"},{"$error":"#NAME?"},{"$error":"#NAME?"}]
[null,null,"Sub-Total (Each Application):",{"$nulls":3},{"$f":"IF(SUM(G39:G44)=0,\"0\",SUM(G39:G44))","v":{"$error":"#NAME?"}},{"$error":"#NAME?"},{"$error":"#NAME?"},{"$error":"#NAME?"},{"$error":"#NAME?"},{"$error":"#NAME?"},{"$error":"#NAME?"},{"$error":"#NAME?"},{"$error":"#NAME?"},{"$error":"#NAME?"},{"$error":"#NAME?"},{"$error":"#NAME?"},{"$error":"#NAME?"},{"$error":"#NAME?"},{"$error":"#NAME?"}]
[null,null,"Programme Sub-Total:",{"$nulls":3},{"$f":"G45*$M$13","v":{"$error":"#NAME?"}},{"$error":"#NAME?"},{"$error":"#NAME?"},{"$error":"#NAME?"},{"$error":"#NAME?"},{"$error":"#NAME?"},{"$error":"#NAME?"},{"$error":"#NAME?"},{"$error":"#NAME?"},{"$error":"#NAME?"},{"$error":"#NAME?"},{"$error":"#NAME?"},{"$error":"#NAME?"},{"$error":"#NAME?"},{"$error":"#NAME?"}]
[]
[]
[]
[null,null,"MIX #3",null,null,"L / Ha","Kg of Nutrient per Ha"]
[{"$nulls":5},"RATE","N","P","K","Ca","Mg","S","Fe","Mn","Zn","Cu","B","Si","Mo","Co","HPO3"]
[{"$f":"IF(($C52=id.255),3,IF(($C52=id.256),4,IF(($C52=id.215),5,IF(($C52=id.200),7,IF(($C52=id.285),10,IF(($C52=id.210),12,IF(($C52=id.106),13,IF(($C52=id.310),14,IF(($C52=id.141),15,IF(($C52=id.360),16,IF(($C52=id.245),17,IF(($C52=id.225),18,IF(($C52=id.192),19,IF(($C52=id.196),20,IF(($C52=id.330),21,IF(($C52=id.675),22,IF(($C52=id.730),23,IF(($C52=id.855),24,IF(($C52=id.180),28,IF(($C52=id.185),29,IF(($C52=id.195),30,IF(($C52=id.240),31,IF(($C52=id.300),32,IF(($C52=id.177),33,IF(($C52=id.860),35,IF(($C52=id.840),36,IF(($C52=id.865),37,IF(($C52=id.800),38,IF(($C52=id.600),41,IF(($C52=id.x1),43,IF(($C52=id.x2),44,\"42\")))))))))))))))))))))))))))))))","v":{"$error":"#NAME?"}},{"$nulls":5},{"$f":"IF((INDIRECT(\"'PRODUCT DATA'!$L\"&$A52&\"\"))=0,\"*\",((INDIRECT(\"'PRODUCT DATA'!$H\"&$A52&\"\"))*(INDIRECT(\"'PRODUCT DATA'!$L\"&$A52&\"\")))*($F52))","v":{"$error":"#NAME?"}},{"$f":"IF((INDIRECT(\"'PRODUCT DATA'!$N\"&$A52&\"\"))=0,\"*\",((INDIRECT(\"'PRODUCT DATA'!$H\"&$A52&\"\"))*(INDIRECT(\"'PRODUCT DATA'!$N\"&$A52&\"\")))*($F52))","v":{"$error":"#NAME?"}},{"$f":"IF((INDIRECT(\"'PRODUCT DATA'!$P\"&$A52&\"\"))=0,\"*\",((INDIRECT(\"'PRODUCT DATA'!$H\"&$A52&\"\"))*(INDIRECT(\"'PRODUCT DATA'!$P\"&$A52&\"\")))*($F52))","v":{"$error":"#NAME?"}},{"$f":"IF((INDIRECT(\"'PRODUCT DATA'!$Q\"&$A52&\"\"))=0,\"*\",((INDIRECT(\"'PRODUCT DATA'!$H\"&$A52&\"\"))*(INDIRECT(\"'PRODUCT DATA'!$Q\"&$A52&\"\")))*($F52))","v":{"$error":"#NAME?"}},{"$f":"IF((INDIRECT(\"'PRODUCT DATA'!$R\"&$A52&\"\"))=0,\"*\",((INDIRECT(\"'PRODUCT DATA'!$H\"&$A52&\"\"))*(INDIRECT(\"'PRODUCT DATA'!$R\"&$A52&\"\")))*($F52))","v":{"$error":"#NAME?"}},{"$f":"IF((INDIRECT(\"'PRODUCT DATA'!$S\"&$A52&\"\"))=0,\"*\",((INDIRECT(\"'PRODUCT DATA'!$H\"&$A52&\"\"))*(INDIRECT(\"'PRODUCT DATA'!$S\"&$A52&\"\")))*($F52))","v":{"$error":"#NAME?"}},{"$f":"IF((INDIRECT(\"'PRODUCT DATA'!$T\"&$A52&\"\"))=0,\"*\",((INDIRECT(\"'PRODUCT DATA'!$H\"&$A52&\"\"))*(INDIRECT(\"'PRODUCT DATA'!$T\"&$A52&\"\")))*($F52))","v":{"$error":"#NAME?"}},{"$f":"IF((INDIRECT(\"'PRODUCT DATA'!$U\"&$A52&\"\"))=0,\"*\",((INDIRECT(\"'PRODUCT DATA'!$H\"&$A52&\"\"))*(INDIRECT(\"'PRODUCT DATA'!$U\"&$A52&\"\")))*($F52))","v":{"$error":"#NAME?"}},{"$f":"IF((INDIRECT(\"'PRODUCT DATA'!$V\"&$A52&\"\"))=0,\"*\",((INDIRECT(\"'PRODUCT DATA'!$H\"&$A52&\"\"))*(INDIRECT(\"'PRODUCT DATA'!$V\"&$A52&\"\")))*($F52))","v":{"$error":"#NAME?"}},{"$f":"IF((INDIRECT(\"'PRODUCT DATA'!$W\"&$A52&\"\"))=0,\"*\",((INDIRECT(\"'PRODUCT DATA'!$H\"&$A52&\"\"))*(INDIRECT(\"'PRODUCT DATA'!$W\"&$A52&\"\")))*($F52))","v":{"$error":"#NAME?"}},{"$f":"IF((INDIRECT(\"'PRODUCT DATA'!$X\"&$A52&\"\"))=0,\"*\",((INDIRECT(\"'PRODUCT DATA'!$H\"&$A52&\"\"))*(INDIRECT(\"'PRODUCT DATA'!$X\"&$A52&\"\")))*($F52))","v":{"$error":"#NAME?"}},{"$f":"IF((INDIRECT(\"'PRODUCT DATA'!$Y\"&$A52&\"\"))=0,\"*\",((INDIRECT(\"'PRODUCT DATA'!$H\"&$A52&\"\"))*(INDIRECT(\"'PRODUCT DATA'!$Y\"&$A52&\"\")))*($F52))","v":{"$error":"#NAME?"}},{"$f":"IF((INDIRECT(\"'PRODUCT DATA'!$Z\"&$A52&\"\"))=0,\"*\",((INDIRECT(\"'PRODUCT DATA'!$H\"&$A52&\"\"))*(INDIRECT(\"'PRODUCT DATA'!$Z\"&$A52&\"\")))*($F52))","v":{"$error":"#NAME?"}},{"$f":"IF((INDIRECT(\"'PRODUCT DATA'!$AA\"&$A52&\"\"))=0,\"*\",((INDIRECT(\"'PRODUCT DATA'!$H\"&$A52&\"\"))*(INDIRECT(\"'PRODUCT DATA'!$AA\"&$A52&\"\")))*($F52))","v":{"$error":"#NAME?"}},{"$f":"IF((INDIRECT(\"'PRODUCT DATA'!$AB\"&$A52&\"\"))=0,\"*\",((INDIRECT(\"'PRODUCT DATA'!$H\"&$A52&\"\"))*(INDIRECT(\"'PRODUCT DATA'!$AB\"&$A52&\"\")))*($F52))","v":{"$error":"#NAME?"}}]
[{"$error":"#NAME?"},{"$nulls":5},{"$error":"#NAME?"},{"$error":"#NAME?"},{"$error":"#NAME?"},{"$error":"#NAME?"},{"$error":"#NAME?"},{"$error":"#NAME?"},{"$error":"#NAME?"},{"$error":"#NAME?"},{"$error":"#NAME?"},{"$error":"#NAME?"},{"$error":"#NAME?"},{"$error":"#NAME?"},{"$error":"#NAME?"},{"$error":"#NAME?"},{"$error":"#NAME?"}]
[{"$error":"#NAME?"},{"$nulls":5},{"$error":"#NAME?"},{"$error":"#NAME?"},{"$error":"#NAME?"},{"$error":"#NAME?"},{"$error":"#NAME?"},{"$error":"#NAME?"},{"$error":"#NAME?"},{"$error":"#NAME?"},{"$error":"#NAME?"},{"$error":"#NAME?"},{"$error":"#NAME?"},{"$error":"#NAME?"},{"$error":"#NAME?"},{"$error":"#NAME?"},{"$error":"#NAME?"}]
[{"$error":"#NAME?"},{"$nulls":5},{"$error":"#NAME?"},{"$error":"#NAME?"},{"$error":"#NAME?"},{"$error":"#NAME?"},{"$error":"#NAME?"},{"$error":"#NAME?"},{"$error":"#NAME?"},{"$error":"#NAME?"},{"$error":"#NAME?"},{"$error":"#NAME?"},{"$error":"#NAME?"},{"$error":"#NAME?"},{"$error":"#NAME?"},{"$error":"#NAME?"},{"$error":"#NAME?"}]
[{"$error":"#NAME?"},{"$nulls":5},{"$error":"#NAME?"},{"$error":"#NAME?"},{"$error":"#NAME?"},{"$error":"#NAME?"},{"$error":"#NAME?"},{"$error":"#NAME?"},{"$error":"#NAME?"},{"$error":"#NAME?"},{"$error":"#NAME?"},{"$error":"#NAME?"},{"$error":"#NAME?"},{"$error":"#NAME?"},{"$error":"#NAME?"},{"$error":"#NAME?"},{"$error":"#NAME?"}]
[{"$error":"#NAME?"},{"$nulls":5},{"$error":"#NAME?"},{"$error":"#NAME?"},{"$error":"#NAME?"},{"$error":"#NAME?"},{"$error":"#NAME?"},{"$error":"#NAME?"},{"$error":"#NAME?"},{"$error":"#NAME?"},{"$error":"#NAME?"},{"$error":"#NAME?"},{"$error":"#NAME?"},{"$error":"#NAME?"},{"$error":"#NAME?"},{"$error":"#NAME?"},{"$error":"#NAME?"}]
[null,null,"Sub-Total (Each Application):",{"$nulls":3},{"$f":"IF(SUM(G52:G57)=0,\"0\",SUM(G52:G57))","v":{"$error":"#NAME?"}},{"$error":"#NAME?"},{"$error":"#NAME?"},{"$error":"#NAME?"},{"$error":"#NAME?"},{"$error":"#NAME?"},{"$error":"#NAME?"},{"$error":"#NAME?"},{"$error":"#NAME?"},{"$error":"#NAME?"},{"$error":"#NAME?"},{"$error":"#NAME?"},{"$error":"#NAME?"},{"$error":"#NAME?"},{"$error":"#NAME?"}]
[null,null,"Programme Sub-Total:",{"$nulls":3},{"$f":"G58*$M$14","v":{"$error":"#NAME?"}},{"$error":"#NAME?"},{"$error":"#NAME?"},{"$error":"#NAME?"},{"$error":"#NAME?"},{"$error":"#NAME?"},{"$error":"#NAME?"},{"$error":"#NAME?"},{"$error":"#NAME?"},{"$error":"#NAME?"},{"$error":"#NAME?"},{"$error":"#NAME?"},{"$error":"#NAME?"},{"$error":"#NAME?"},{"$error":"#NAME?"}]
[]
[]
[null,null,"MIX #4    ",null,null,"L / Ha","Kg of Nutrient per Ha"]
[{"$nulls":5},"RATE","N","P","K","Ca","Mg","S","Fe","Mn","Zn","Cu","B","Si","Mo","Co","HPO3"]
[{"$f":"IF(($C64=id.255),3,IF(($C64=id.256),4,IF(($C64=id.215),5,IF(($C64=id.200),7,IF(($C64=id.285),10,IF(($C64=id.210),12,IF(($C64=id.106),13,IF(($C64=id.310),14,IF(($C64=id.141),15,IF(($C64=id.360),16,IF(($C64=id.245),17,IF(($C64=id.225),18,IF(($C64=id.192),19,IF(($C64=id.196),20,IF(($C64=id.330),21,IF(($C64=id.675),22,IF(($C64=id.730),23,IF(($C64=id.855),24,IF(($C64=id.180),28,IF(($C64=id.185),29,IF(($C64=id.195),30,IF(($C64=id.240),31,IF(($C64=id.300),32,IF(($C64=id.177),33,IF(($C64=id.860),35,IF(($C64=id.840),36,IF(($C64=id.865),37,IF(($C64=id.800),38,IF(($C64=id.600),41,IF(($C64=id.x1),43,IF(($C64=id.x2),44,\"42\")))))))))))))))))))))))))))))))","v":{"$error":"#NAME?"}},{"$nulls":5},{"$f":"IF((INDIRECT(\"'PRODUCT DATA'!$L\"&$A64&\"\"))=0,\"*\",((INDIRECT(\"'PRODUCT DATA'!$H\"&$A64&\"\"))*(INDIRECT(\"'PRODUCT DATA'!$L\"&$A64&\"\")))*($F64))","v":{"$error":"#NAME?"}},{"$f":"IF((INDIRECT(\"'PRODUCT DATA'!$N\"&$A64&\"\"))=0,\"*\",((INDIRECT(\"'PRODUCT DATA'!$H\"&$A64&\"\"))*(INDIRECT(\"'PRODUCT DATA'!$N\"&$A64&\"\")))*($F64))","v":{"$error":"#NAME?"}},{"$f":"IF((INDIRECT(\"'PRODUCT DATA'!$P\"&$A64&\"\"))=0,\"*\",((INDIRECT(\"'PRODUCT DATA'!$H\"&$A64&\"\"))*(INDIRECT(\"'PRODUCT DATA'!$P\"&$A64&\"\")))*($F64))","v":{"$error":"#NAME?"}},{"$f":"IF((INDIRECT(\"'PRODUCT DATA'!$Q\"&$A64&\"\"))=0,\"*\",((INDIRECT(\"'PRODUCT DATA'!$H\"&$A64&\"\"))*(INDIRECT(\"'PRODUCT DATA'!$Q\"&$A64&\"\")))*($F64))","v":{"$error":"#NAME?"}},{"$f":"IF((INDIRECT(\"'PRODUCT DATA'!$R\"&$A64&\"\"))=0,\"*\",((INDIRECT(\"'PRODUCT DATA'!$H\"&$A64&\"\"))*(INDIRECT(\"'PRODUCT DATA'!$R\"&$A64&\"\")))*($F64))","v":{"$error":"#NAME?"}},{"$f":"IF((INDIRECT(\"'PRODUCT DATA'!$S\"&$A64&\"\"))=0,\"*\",((INDIRECT(\"'PRODUCT DATA'!$H\"&$A64&\"\"))*(INDIRECT(\"'PRODUCT DATA'!$S\"&$A64&\"\")))*($F64))","v":{"$error":"#NAME?"}},{"$f":"IF((INDIRECT(\"'PRODUCT DATA'!$T\"&$A64&\"\"))=0,\"*\",((INDIRECT(\"'PRODUCT DATA'!$H\"&$A64&\"\"))*(INDIRECT(\"'PRODUCT DATA'!$T\"&$A64&\"\")))*($F64))","v":{"$error":"#NAME?"}},{"$f":"IF((INDIRECT(\"'PRODUCT DATA'!$U\"&$A64&\"\"))=0,\"*\",((INDIRECT(\"'PRODUCT DATA'!$H\"&$A64&\"\"))*(INDIRECT(\"'PRODUCT DATA'!$U\"&$A64&\"\")))*($F64))","v":{"$error":"#NAME?"}},{"$f":"IF((INDIRECT(\"'PRODUCT DATA'!$V\"&$A64&\"\"))=0,\"*\",((INDIRECT(\"'PRODUCT DATA'!$H\"&$A64&\"\"))*(INDIRECT(\"'PRODUCT DATA'!$V\"&$A64&\"\")))*($F64))","v":{"$error":"#NAME?"}},{"$f":"IF((INDIRECT(\"'PRODUCT DATA'!$W\"&$A64&\"\"))=0,\"*\",((INDIRECT(\"'PRODUCT DATA'!$H\"&$A64&\"\"))*(INDIRECT(\"'PRODUCT DATA'!$W\"&$A64&\"\")))*($F64))","v":{"$error":"#NAME?"}},{"$f":"IF((INDIRECT(\"'PRODUCT DATA'!$X\"&$A64&\"\"))=0,\"*\",((INDIRECT(\"'PRODUCT DATA'!$H\"&$A64&\"\"))*(INDIRECT(\"'PRODUCT DATA'!$X\"&$A64&\"\")))*($F64))","v":{"$error":"#NAME?"}},{"$f":"IF((INDIRECT(\"'PRODUCT DATA'!$Y\"&$A64&\"\"))=0,\"*\",((INDIRECT(\"'PRODUCT DATA'!$H\"&$A64&\"\"))*(INDIRECT(\"'PRODUCT DATA'!$Y\"&$A64&\"\")))*($F64))","v":{"$error":"#NAME?"}},{"$f":"IF((INDIRECT(\"'PRODUCT DATA'!$Z\"&$A64&\"\"))=0,\"*\",((INDIRECT(\"'PRODUCT DATA'!$H\"&$A64&\"\"))*(INDIRECT(\"'PRODUCT DATA'!$Z\"&$A64&\"\")))*($F64))","v":{"$error":"#NAME?"}},{"$f":"IF((INDIRECT(\"'PRODUCT DATA'!$AA\"&$A64&\"\"))=0,\"*\",((INDIRECT(\"'PRODUCT DATA'!$H\"&$A64&\"\"))*(INDIRECT(\"'PRODUCT DATA'!$AA\"&$A64&\"\")))*($F64))","v":{"$error":"#NAME?"}},{"$f":"IF((INDIRECT(\"'PRODUCT DATA'!$AB\"&$A64&\"\"))=0,\"*\",((INDIRECT(\"'PRODUCT DATA'!$H\"&$A64&\"\"))*(INDIRECT(\"'PRODUCT DATA'!$AB\"&$A64&\"\")))*($F64))","v":{"$error":"#NAME?"}}]
[{"$error":"#NAME?"},{"$nulls":5},{"$error":"#NAME?"},{"$error":"#NAME?"},{"$error":"#NAME?"},{"$error":"#NAME?"},{"$error":"#NAME?"},{"$error":"#NAME?"},{"$error":"#NAME?"},{"$error":"#NAME?"},{"$error":"#NAME?"},{"$error":"#NAME?"},{"$error":"#NAME?"},{"$error":"#NAME?"},{"$error":"#NAME?"},{"$error":"#NAME?"},{"$error":"#NAME?"}]
[{"$error":"#NAME?"},{"$nulls":5},{"$error":"#NAME?"},{"$error":"#NAME?"},{"$error":"#NAME?"},{"$error":"#NAME?"},{"$error":"#NAME?"},{"$error":"#NAME?"},{"$error":"#NAME?"},{"$error":"#NAME?"},{"$error":"#NAME?"},{"$error":"#NAME?"},{"$error":"#NAME?"},{"$error":"#NAME?"},{"$error":"#NAME?"},{"$error":"#NAME?"},{"$error":"#NAME?"}]
[{"$error":"#NAME?"},{"$nulls":5},{"$error":"#NAME?"},{"$error":"#NAME?"},{"$error":"#NAME?"},{"$error":"#NAME?"},{"$error":"#NAME?"},{"$error":"#NAME?"},{"$error":"#NAME?"},{"$error":"#NAME?"},{"$error":"#NAME?"},{"$error":"#NAME?"},{"$error":"#NAME?"},{"$error":"#NAME?"},{"$error":"#NAME?"},{"$error":"#NAME?"},{"$error":"#NAME?"}]
[{"$error":"#NAME?"},{"$nulls":5},{"$error":"#NAME?"},{"$error":"#NAME?"},{"$error":"#NAME?"},{"$error":"#NAME?"},{"$error":"#NAME?"},{"$error":"#NAME?"},{"$error":"#NAME?"},{"$error":"#NAME?"},{"$error":"#NAME?"},{"$error":"#NAME?"},{"$error":"#NAME?"},{"$error":"#NAME?"},{"$error":"#NAME?"},{"$error":"#NAME?"},{"$error":"#NAME?"}]
[{"$error":"#NAME?"},{"$nulls":5},{"$error":"#NAME?"},{"$error":"#NAME?"},{"$error":"#NAME?"},{"$error":"#NAME?"},{"$error":"#NAME?"},{"$error":"#NAME?"},{"$error":"#NAME?"},{"$error":"#NAME?"},{"$error":"#NAME?"},{"$error":"#NAME?"},{"$error":"#NAME?"},{"$error":"#NAME?"},{"$error":"#NAME?"},{"$error":"#NAME?"},{"$error":"#NAME?"}]
[null,null,"Sub-Total (Each Application):",{"$nulls":3},{"$f":"IF(SUM(G64:G69)=0,\"0\",SUM(G64:G69))","v":{"$error":"#NAME?"}},{"$error":"#NAME?"},{"$error":"#NAME?"},{"$error":"#NAME?"},{"$error":"#NAME?"},{"$error":"#NAME?"},{"$error":"#NAME?"},{"$error":"#NAME?"},{"$error":"#NAME?"},{"$error":"#NAME?"},{"$error":"#NAME?"},{"$error":"#NAME?"},{"$error":"#NAME?"},{"$error":"#NAME?"},{"$error":"#NAME?"}]
[null,null,"Programme Sub-Total:",{"$nulls":3},{"$f":"G70*$M$15","v":{"$error":"#NAME?"}},{"$error":"#NAME?"},{"$error":"#NAME?"},{"$error":"#NAME?"},{"$error":"#NAME?"},{"$error":"#NAME?"},{"$error":"#NAME?"},{"$error":"#NAME?"},{"$error":"#NAME?"},{"$error":"#NAME?"},{"$error":"#NAME?"},{"$error":"#NAME?"},{"$error":"#NAME?"},{"$error":"#NAME?"},{"$error":"#NAME?"}]
[]
[]
[]
[{"$nulls":5},"g / m2","Kg of Nutrient per Ha"]
[null,null," SOLUBLE #1",null,null,"RATE","N","P","K","Ca","Mg","S","Fe","Mn","Zn","Cu","B","Si","Mo","Co","HPO3"]
[{"$f":"IF(($C77=id.x3),45,\"42\")","v":"42"},{"$nulls":5},{"$f":"IF((INDIRECT(\"'PRODUCT DATA'!$L\"&$A77&\"\"))=0,\"0\",((INDIRECT(\"'PRODUCT DATA'!$L\"&$A77&\"\"))*($F77*10)))","v":"0"},{"$f":"IF((INDIRECT(\"'PRODUCT DATA'!$N\"&$A77&\"\"))=0,\"0\",((INDIRECT(\"'PRODUCT DATA'!$N\"&$A77&\"\"))*($F77*10)))","v":"0"},{"$f":"IF((INDIRECT(\"'PRODUCT DATA'!$P\"&$A77&\"\"))=0,\"0\",((INDIRECT(\"'PRODUCT DATA'!$P\"&$A77&\"\"))*($F77*10)))","v":"0"},{"$f":"IF((INDIRECT(\"'PRODUCT DATA'!$Q\"&$A77&\"\"))=0,\"0\",((INDIRECT(\"'PRODUCT DATA'!$Q\"&$A77&\"\"))*($F77*10)))","v":"0"},{"$f":"IF((INDIRECT(\"'PRODUCT DATA'!$R\"&$A77&\"\"))=0,\"0\",((INDIRECT(\"'PRODUCT DATA'!$R\"&$A77&\"\"))*($F77*10)))","v":"0"},{"$f":"IF((INDIRECT(\"'PRODUCT DATA'!$S\"&$A77&\"\"))=0,\"0\",((INDIRECT(\"'PRODUCT DATA'!$S\"&$A77&\"\"))*($F77*10)))","v":"0"},{"$f":"IF((INDIRECT(\"'PRODUCT DATA'!$T\"&$A77&\"\"))=0,\"0\",((INDIRECT(\"'PRODUCT DATA'!$T\"&$A77&\"\"))*($F77*10)))","v":"0"},{"$f":"IF((INDIRECT(\"'PRODUCT DATA'!$U\"&$A77&\"\"))=0,\"0\",((INDIRECT(\"'PRODUCT DATA'!$U\"&$A77&\"\"))*($F77*10)))","v":"0"},{"$f":"IF((INDIRECT(\"'PRODUCT DATA'!$V\"&$A77&\"\"))=0,\"0\",((INDIRECT(\"'PRODUCT DATA'!$V\"&$A77&\"\"))*($F77*10)))","v":"0"},{"$f":"IF((INDIRECT(\"'PRODUCT DATA'!$W\"&$A77&\"\"))=0,\"0\",((INDIRECT(\"'PRODUCT DATA'!$W\"&$A77&\"\"))*($F77*10)))","v":"0"},{"$f":"IF((INDIRECT(\"'PRODUCT DATA'!$X\"&$A77&\"\"))=0,\"0\",((INDIRECT(\"'PRODUCT DATA'!$X\"&$A77&\"\"))*($F77*10)))","v":"0"},{"$f":"IF((INDIRECT(\"'PRODUCT DATA'!$Y\"&$A77&\"\"))=0,\"0\",((INDIRECT(\"'PRODUCT DATA'!$Y\"&$A77&\"\"))*($F77*10)))","v":"0"},{"$f":"IF((INDIRECT(\"'PRODUCT DATA'!$Z\"&$A77&\"\"))=0,\"0\",((INDIRECT(\"'PRODUCT DATA'!$Z\"&$A77&\"\"))*($F77*10)))","v":"0"},{"$f":"IF((INDIRECT(\"'PRODUCT DATA'!$AA\"&$A77&\"\"))=0,\"0\",((INDIRECT(\"'PRODUCT DATA'!$AA\"&$A77&\"\"))*($F77*10)))","v":"0"},{"$f":"IF((INDIRECT(\"'PRODUCT DATA'!$AB\"&$A77&\"\"))=0,\"0\",((INDIRECT(\"'PRODUCT DATA'!$AB\"&$A77&\"\"))*($F77*10)))","v":"0"}]
[null,null,"Programme Sub-Total:",{"$nulls":3},{"$f":"G77*$R$12","v":{"v":0,"d":"0.000"}},{"v":0,"d":"0.000"},{"v":0,"d":"0.000"},{"v":0,"d":"0.000"},{"v":0,"d":"0.000"},{"v":0,"d":"0.000"},{"v":0,"d":"0.000"},{"v":0,"d":"0.000"},{"v":0,"d":"0.000"},{"v":0,"d":"0.000"},{"v":0,"d":"0.000"},{"v":0,"d":"0.000"},{"v":0,"d":"0.000"},{"v":0,"d":"0.000"},{"v":0,"d":"0.000"}]
[]
[null,null,"GRANULAR #1",null,null,"RATE"]
[{"$f":"IF(($C81=id.1220),47,IF(($C81=id.1270),48,IF(($C81=id.1200),49,IF(($C81=id.1340),50,IF(($C81=id.1240),51,IF(($C81=id.1440),52,IF(($C81=id.1400),53,IF(($C81=id.1410),54,IF(($C81=id.1430),55,IF(($C81=id.1420),56,IF(($C81=id.1320),62,IF(($C81=id.1360),63,IF(($C81=id.1370),64,IF(($C81=id.2020),65,IF(($C81=id.2000),66,IF(($C81=id.z1),68,IF(($C81=id.z2),69,\"67\")))))))))))))))))","v":{"$error":"#NAME?"}},{"$nulls":5},{"$f":"IF((INDIRECT(\"'PRODUCT DATA'!$L\"&$A81&\"\"))=0,\"0\",((INDIRECT(\"'PRODUCT DATA'!$L\"&$A81&\"\"))*($F81*10)))","v":{"$error":"#NAME?"}},{"$f":"IF((INDIRECT(\"'PRODUCT DATA'!$N\"&$A81&\"\"))=0,\"0\",((INDIRECT(\"'PRODUCT DATA'!$N\"&$A81&\"\"))*($F81*10)))","v":{"$error":"#NAME?"}},{"$f":"IF((INDIRECT(\"'PRODUCT DATA'!$P\"&$A81&\"\"))=0,\"0\",((INDIRECT(\"'PRODUCT DATA'!$P\"&$A81&\"\"))*($F81*10)))","v":{"$error":"#NAME?"}},{"$f":"IF((INDIRECT(\"'PRODUCT DATA'!$Q\"&$A81&\"\"))=0,\"0\",((INDIRECT(\"'PRODUCT DATA'!$Q\"&$A81&\"\"))*($F81*10)))","v":{"$error":"#NAME?"}},{"$f":"IF((INDIRECT(\"'PRODUCT DATA'!$R\"&$A81&\"\"))=0,\"0\",((INDIRECT(\"'PRODUCT DATA'!$R\"&$A81&\"\"))*($F81*10)))","v":{"$error":"#NAME?"}},{"$f":"IF((INDIRECT(\"'PRODUCT DATA'!$S\"&$A81&\"\"))=0,\"0\",((INDIRECT(\"'PRODUCT DATA'!$S\"&$A81&\"\"))*($F81*10)))","v":{"$error":"#NAME?"}},{"$f":"IF((INDIRECT(\"'PRODUCT DATA'!$T\"&$A81&\"\"))=0,\"0\",((INDIRECT(\"'PRODUCT DATA'!$T\"&$A81&\"\"))*($F81*10)))","v":{"$error":"#NAME?"}},{"$f":"IF((INDIRECT(\"'PRODUCT DATA'!$U\"&$A81&\"\"))=0,\"0\",((INDIRECT(\"'PRODUCT DATA'!$U\"&$A81&\"\"))*($F81*10)))","v":{"$error":"#NAME?"}},{"$f":"IF((INDIRECT(\"'PRODUCT DATA'!$V\"&$A81&\"\"))=0,\"0\",((INDIRECT(\"'PRODUCT DATA'!$V\"&$A81&\"\"))*($F81*10)))","v":{"$error":"#NAME?"}},{"$f":"IF((INDIRECT(\"'PRODUCT DATA'!$W\"&$A81&\"\"))=0,\"0\",((INDIRECT(\"'PRODUCT DATA'!$W\"&$A81&\"\"))*($F81*10)))","v":{"$error":"#NAME?"}},{"$f":"IF((INDIRECT(\"'PRODUCT DATA'!$X\"&$A81&\"\"))=0,\"0\",((INDIRECT(\"'PRODUCT DATA'!$X\"&$A81&\"\"))*($F81*10)))","v":{"$error":"#NAME?"}},{"$f":"IF((INDIRECT(\"'PRODUCT DATA'!$Y\"&$A81&\"\"))=0,\"0\",((INDIRECT(\"'PRODUCT DATA'!$Y\"&$A81&\"\"))*($F81*10)))","v":{"$error":"#NAME?"}},{"$f":"IF((INDIRECT(\"'PRODUCT DATA'!$Z\"&$A81&\"\"))=0,\"0\",((INDIRECT(\"'PRODUCT DATA'!$Z\"&$A81&\"\"))*($F81*10)))","v":{"$error":"#NAME?"}},{"$f":"IF((INDIRECT(\"'PRODUCT DATA'!$AA\"&$A81&\"\"))=0,\"0\",((INDIRECT(\"'PRODUCT DATA'!$AA\"&$A81&\"\"))*($F81*10)))","v":{"$error":"#NAME?"}},{"$f":"IF((INDIRECT(\"'PRODUCT DATA'!$AB\"&$A81&\"\"))=0,\"0\",((INDIRECT(\"'PRODUCT DATA'!$AB\"&$A81&\"\"))*($F81*10)))","v":{"$error":"#NAME?"}}]
[null,null,"Programme Sub-Total:",{"$nulls":3},{"$f":"G81*$R$13","v":{"$error":"#NAME?"}},{"$error":"#NAME?"},{"$error":"#NAME?"},{"$error":"#NAME?"},{"$error":"#NAME?"},{"$error":"#NAME?"},{"$error":"#NAME?"},{"$error":"#NAME?"},{"$error":"#NAME?"},{"$error":"#NAME?"},{"$error":"#NAME?"},{"$error":"#NAME?"},{"$error":"#NAME?"},{"$error":"#NAME?"},{"$error":"#NAME?"}]
[]
[null,null,"GRANULAR #2",null,null,"RATE"]
[{"$f":"IF(($C85=id.1220),47,IF(($C85=id.1270),48,IF(($C85=id.1200),49,IF(($C85=id.1340),50,IF(($C85=id.1240),51,IF(($C85=id.1440),52,IF(($C85=id.1400),53,IF(($C85=id.1410),54,IF(($C85=id.1430),55,IF(($C85=id.1420),56,IF(($C85=id.1320),62,IF(($C85=id.1360),63,IF(($C85=id.1370),64,IF(($C85=id.2020),65,IF(($C85=id.2000),66,IF(($C85=id.z1),68,IF(($C85=id.z2),69,\"67\")))))))))))))))))","v":{"$error":"#NAME?"}},{"$nulls":5},{"$f":"IF((INDIRECT(\"'PRODUCT DATA'!$L\"&$A85&\"\"))=0,\"0\",((INDIRECT(\"'PRODUCT DATA'!$L\"&$A85&\"\"))*($F85*10)))","v":{"$error":"#NAME?"}},{"$f":"IF((INDIRECT(\"'PRODUCT DATA'!$N\"&$A85&\"\"))=0,\"0\",((INDIRECT(\"'PRODUCT DATA'!$N\"&$A85&\"\"))*($F85*10)))","v":{"$error":"#NAME?"}},{"$f":"IF((INDIRECT(\"'PRODUCT DATA'!$P\"&$A85&\"\"))=0,\"0\",((INDIRECT(\"'PRODUCT DATA'!$P\"&$A85&\"\"))*($F85*10)))","v":{"$error":"#NAME?"}},{"$f":"IF((INDIRECT(\"'PRODUCT DATA'!$Q\"&$A85&\"\"))=0,\"0\",((INDIRECT(\"'PRODUCT DATA'!$Q\"&$A85&\"\"))*($F85*10)))","v":{"$error":"#NAME?"}},{"$f":"IF((INDIRECT(\"'PRODUCT DATA'!$R\"&$A85&\"\"))=0,\"0\",((INDIRECT(\"'PRODUCT DATA'!$R\"&$A85&\"\"))*($F85*10)))","v":{"$error":"#NAME?"}},{"$f":"IF((INDIRECT(\"'PRODUCT DATA'!$S\"&$A85&\"\"))=0,\"0\",((INDIRECT(\"'PRODUCT DATA'!$S\"&$A85&\"\"))*($F85*10)))","v":{"$error":"#NAME?"}},{"$f":"IF((INDIRECT(\"'PRODUCT DATA'!$T\"&$A85&\"\"))=0,\"0\",((INDIRECT(\"'PRODUCT DATA'!$T\"&$A85&\"\"))*($F85*10)))","v":{"$error":"#NAME?"}},{"$f":"IF((INDIRECT(\"'PRODUCT DATA'!$U\"&$A85&\"\"))=0,\"0\",((INDIRECT(\"'PRODUCT DATA'!$U\"&$A85&\"\"))*($F85*10)))","v":{"$error":"#NAME?"}},{"$f":"IF((INDIRECT(\"'PRODUCT DATA'!$V\"&$A85&\"\"))=0,\"0\",((INDIRECT(\"'PRODUCT DATA'!$V\"&$A85&\"\"))*($F85*10)))","v":{"$error":"#NAME?"}},{"$f":"IF((INDIRECT(\"'PRODUCT DATA'!$W\"&$A85&\"\"))=0,\"0\",((INDIRECT(\"'PRODUCT DATA'!$W\"&$A85&\"\"))*($F85*10)))","v":{"$error":"#NAME?"}},{"$f":"IF((INDIRECT(\"'PRODUCT DATA'!$X\"&$A85&\"\"))=0,\"0\",((INDIRECT(\"'PRODUCT DATA'!$X\"&$A85&\"\"))*($F85*10)))","v":{"$error":"#NAME?"}},{"$f":"IF((INDIRECT(\"'PRODUCT DATA'!$Y\"&$A85&\"\"))=0,\"0\",((INDIRECT(\"'PRODUCT DATA'!$Y\"&$A85&\"\"))*($F85*10)))","v":{"$error":"#NAME?"}},{"$f":"IF((INDIRECT(\"'PRODUCT DATA'!$Z\"&$A85&\"\"))=0,\"0\",((INDIRECT(\"'PRODUCT DATA'!$Z\"&$A85&\"\"))*($F85*10)))","v":{"$error":"#NAME?"}},{"$f":"IF((INDIRECT(\"'PRODUCT DATA'!$AA\"&$A85&\"\"))=0,\"0\",((INDIRECT(\"'PRODUCT DATA'!$AA\"&$A85&\"\"))*($F85*10)))","v":{"$error":"#NAME?"}},{"$f":"IF((INDIRECT(\"'PRODUCT DATA'!$AB\"&$A85&\"\"))=0,\"0\",((INDIRECT(\"'PRODUCT DATA'!$AB\"&$A85&\"\"))*($F85*10)))","v":{"$error":"#NAME?"}}]
[null,null,"Programme Sub-Total:",{"$nulls":3},{"$f":"G85*$R$14","v":{"$error":"#NAME?"}},{"$error":"#NAME?"},{"$error":"#NAME?"},{"$error":"#NAME?"},{"$error":"#NAME?"},{"$error":"#NAME?"},{"$error":"#NAME?"},{"$error":"#NAME?"},{"$error":"#NAME?"},{"$error":"#NAME?"},{"$error":"#NAME?"},{"$error":"#NAME?"},{"$error":"#NAME?"},{"$error":"#NAME?"},{"$error":"#NAME?"}]
[]
[null,null,"GRANULAR #3",null,null,"RATE"]
[{"$f":"IF(($C89=id.1220),47,IF(($C89=id.1270),48,IF(($C89=id.1200),49,IF(($C89=id.1340),50,IF(($C89=id.1240),51,IF(($C89=id.1440),52,IF(($C89=id.1400),53,IF(($C89=id.1410),54,IF(($C89=id.1430),55,IF(($C89=id.1420),56,IF(($C89=id.1320),62,IF(($C89=id.1360),63,IF(($C89=id.1370),64,IF(($C89=id.2020),65,IF(($C89=id.2000),66,IF(($C89=id.z1),68,IF(($C89=id.z2),69,\"67\")))))))))))))))))","v":{"$error":"#NAME?"}},{"$nulls":5},{"$f":"IF((INDIRECT(\"'PRODUCT DATA'!$L\"&$A89&\"\"))=0,\"0\",((INDIRECT(\"'PRODUCT DATA'!$L\"&$A89&\"\"))*($F89*10)))","v":{"$error":"#NAME?"}},{"$f":"IF((INDIRECT(\"'PRODUCT DATA'!$N\"&$A89&\"\"))=0,\"0\",((INDIRECT(\"'PRODUCT DATA'!$N\"&$A89&\"\"))*($F89*10)))","v":{"$error":"#NAME?"}},{"$f":"IF((INDIRECT(\"'PRODUCT DATA'!$P\"&$A89&\"\"))=0,\"0\",((INDIRECT(\"'PRODUCT DATA'!$P\"&$A89&\"\"))*($F89*10)))","v":{"$error":"#NAME?"}},{"$f":"IF((INDIRECT(\"'PRODUCT DATA'!$Q\"&$A89&\"\"))=0,\"0\",((INDIRECT(\"'PRODUCT DATA'!$Q\"&$A89&\"\"))*($F89*10)))","v":{"$error":"#NAME?"}},{"$f":"IF((INDIRECT(\"'PRODUCT DATA'!$R\"&$A89&\"\"))=0,\"0\",((INDIRECT(\"'PRODUCT DATA'!$R\"&$A89&\"\"))*($F89*10)))","v":{"$error":"#NAME?"}},{"$f":"IF((INDIRECT(\"'PRODUCT DATA'!$S\"&$A89&\"\"))=0,\"0\",((INDIRECT(\"'PRODUCT DATA'!$S\"&$A89&\"\"))*($F89*10)))","v":{"$error":"#NAME?"}},{"$f":"IF((INDIRECT(\"'PRODUCT DATA'!$T\"&$A89&\"\"))=0,\"0\",((INDIRECT(\"'PRODUCT DATA'!$T\"&$A89&\"\"))*($F89*10)))","v":{"$error":"#NAME?"}},{"$f":"IF((INDIRECT(\"'PRODUCT DATA'!$U\"&$A89&\"\"))=0,\"0\",((INDIRECT(\"'PRODUCT DATA'!$U\"&$A89&\"\"))*($F89*10)))","v":{"$error":"#NAME?"}},{"$f":"IF((INDIRECT(\"'PRODUCT DATA'!$V\"&$A89&\"\"))=0,\"0\",((INDIRECT(\"'PRODUCT DATA'!$V\"&$A89&\"\"))*($F89*10)))","v":{"$error":"#NAME?"}},{"$f":"IF((INDIRECT(\"'PRODUCT DATA'!$W\"&$A89&\"\"))=0,\"0\",((INDIRECT(\"'PRODUCT DATA'!$W\"&$A89&\"\"))*($F89*10)))","v":{"$error":"#NAME?"}},{"$f":"IF((INDIRECT(\"'PRODUCT DATA'!$X\"&$A89&\"\"))=0,\"0\",((INDIRECT(\"'PRODUCT DATA'!$X\"&$A89&\"\"))*($F89*10)))","v":{"$error":"#NAME?"}},{"$f":"IF((INDIRECT(\"'PRODUCT DATA'!$Y\"&$A89&\"\"))=0,\"0\",((INDIRECT(\"'PRODUCT DATA'!$Y\"&$A89&\"\"))*($F89*10)))","v":{"$error":"#NAME?"}},{"$f":"IF((INDIRECT(\"'PRODUCT DATA'!$Z\"&$A89&\"\"))=0,\"0\",((INDIRECT(\"'PRODUCT DATA'!$Z\"&$A89&\"\"))*($F89*10)))","v":{"$error":"#NAME?"}},{"$f":"IF((INDIRECT(\"'PRODUCT DATA'!$AA\"&$A89&\"\"))=0,\"0\",((INDIRECT(\"'PRODUCT DATA'!$AA\"&$A89&\"\"))*($F89*10)))","v":{"$error":"#NAME?"}},{"$f":"IF((INDIRECT(\"'PRODUCT DATA'!$AB\"&$A89&\"\"))=0,\"0\",((INDIRECT(\"'PRODUCT DATA'!$AB\"&$A89&\"\"))*($F89*10)))","v":{"$error":"#NAME?"}}]
[null,null,"Programme Sub-Total:",{"$nulls":3},{"$f":"G89*$R$15","v":{"$error":"#NAME?"}},{"$error":"#NAME?"},{"$error":"#NAME?"},{"$error":"#NAME?"},{"$error":"#NAME?"},{"$error":"#NAME?"},{"$error":"#NAME?"},{"$error":"#NAME?"},{"$error":"#NAME?"},{"$error":"#NAME?"},{"$error":"#NAME?"},{"$error":"#NAME?"},{"$error":"#NAME?"},{"$error":"#NAME?"},{"$error":"#NAME?"}]
[]
[]
[{"$nulls":21},{"$f":"id.255","v":{"$error":"#NAME?"}}]
[{"$nulls":21},{"$f":"id.215","v":{"$error":"#NAME?"}}]
[{"$nulls":21},{"$f":"id.200","v":{"$error":"#NAME?"}}]
[{"$nulls":21},{"$f":"id.285","v":{"$error":"#NAME?"}}]
[{"$nulls":21},{"$f":"id.315","v":{"$error":"#NAME?"}}]
[{"$nulls":21},{"$f":"id.106","v":{"$error":"#NAME?"}}]
[{"$nulls":21},{"$f":"id.310","v":{"$error":"#NAME?"}}]
[{"$nulls":21},{"$f":"id.141","v":{"$error":"#NAME?"}}]
[{"$nulls":21},{"$f":"id.245","v":{"$error":"#NAME?"}}]
[{"$nulls":21},{"$f":"id.225","v":{"$error":"#NAME?"}}]
[{"$nulls":21},{"$f":"id.192","v":{"$error":"#NAME?"}}]
[{"$nulls":21},{"$f":"id.196","v":{"$error":"#NAME?"}}]
[{"$nulls":21},{"$f":"id.330","v":{"$error":"#NAME?"}}]
[{"$nulls":21},{"$f":"id.675","v":{"$error":"#NAME?"}}]
[{"$nulls":21},{"$f":"id.180","v":{"$error":"#NAME?"}}]
[{"$nulls":21},{"$f":"id.185","v":{"$error":"#NAME?"}}]
[{"$nulls":21},{"$f":"id.195","v":{"$error":"#NAME?"}}]
[{"$nulls":21},{"$f":"id.240","v":{"$error":"#NAME?"}}]
[{"$nulls":21},{"$f":"id.300","v":{"$error":"#NAME?"}}]
[{"$nulls":21},{"$f":"id.178","v":{"$error":"#NAME?"}}]
[{"$nulls":21},{"$f":"id.177","v":{"$error":"#NAME?"}}]
[{"$nulls":21},{"$f":"id.860","v":{"$error":"#NAME?"}}]
[{"$nulls":21},{"$f":"id.840","v":{"$error":"#NAME?"}}]
[{"$nulls":21},{"$f":"id.800","v":{"$error":"#NAME?"}}]
[{"$nulls":21},{"$f":"id.650","v":{"$error":"#NAME?"}}]
[{"$nulls":21},{"$f":"id.600","v":{"$error":"#NAME?"}}]
[{"$nulls":21},{"$f":"id.x1","v":"Custom Liquid 1"}]
[{"$nulls":21},{"$f":"id.x2","v":"Custom Liquid 2"}]
[{"$nulls":21},{"$f":"id.x3","v":"Custom SOLUBLE 1"}]
[{"$nulls":21},{"$f":"id.1220","v":{"$error":"#NAME?"}}]
[{"$nulls":21},{"$f":"id.1270","v":{"$error":"#NAME?"}}]
[{"$nulls":21},{"$f":"id.1200","v":{"$error":"#NAME?"}}]
[{"$nulls":21},{"$f":"id.1340","v":{"$error":"#NAME?"}}]
[{"$nulls":21},{"$f":"id.1240","v":{"$error":"#NAME?"}}]
[{"$nulls":21},{"$f":"id.1360","v":{"$error":"#NAME?"}}]
[{"$nulls":21},{"$f":"id.1370","v":{"$error":"#NAME?"}}]
[{"$nulls":21},{"$f":"id.2020","v":{"$error":"#NAME?"}}]
[{"$nulls":21},{"$f":"id.2000","v":{"$error":"#NAME?"}}]
[{"$nulls":21},{"$f":"id.z1","v":"Custom Granular 1"}]
[{"$nulls":21},{"$f":"id.z2","v":"Custom Granular 2"}]